BEGIN:VCALENDAR
VERSION:2.0
PRODID:-//What&#039;s Up in Wells - ECPv6.15.20//NONSGML v1.0//EN
CALSCALE:GREGORIAN
METHOD:PUBLISH
X-WR-CALNAME:What&#039;s Up in Wells
X-ORIGINAL-URL:https://whatsupinwells.com
X-WR-CALDESC:Events for What&#039;s Up in Wells
REFRESH-INTERVAL;VALUE=DURATION:PT1H
X-Robots-Tag:noindex
X-PUBLISHED-TTL:PT1H
BEGIN:VTIMEZONE
TZID:America/Vancouver
BEGIN:DAYLIGHT
TZOFFSETFROM:-0800
TZOFFSETTO:-0700
TZNAME:PDT
DTSTART:20230312T100000
END:DAYLIGHT
BEGIN:STANDARD
TZOFFSETFROM:-0700
TZOFFSETTO:-0800
TZNAME:PST
DTSTART:20231105T090000
END:STANDARD
BEGIN:DAYLIGHT
TZOFFSETFROM:-0800
TZOFFSETTO:-0700
TZNAME:PDT
DTSTART:20240310T100000
END:DAYLIGHT
BEGIN:STANDARD
TZOFFSETFROM:-0700
TZOFFSETTO:-0800
TZNAME:PST
DTSTART:20241103T090000
END:STANDARD
BEGIN:DAYLIGHT
TZOFFSETFROM:-0800
TZOFFSETTO:-0700
TZNAME:PDT
DTSTART:20250309T100000
END:DAYLIGHT
BEGIN:STANDARD
TZOFFSETFROM:-0700
TZOFFSETTO:-0800
TZNAME:PST
DTSTART:20251102T090000
END:STANDARD
END:VTIMEZONE
BEGIN:VEVENT
DTSTART;TZID=America/Vancouver:20240102T174500
DTEND;TZID=America/Vancouver:20240102T201500
DTSTAMP:20260423T173010
CREATED:20231106T001316Z
LAST-MODIFIED:20231106T001345Z
UID:10001649-1704217500-1704226500@whatsupinwells.com
SUMMARY:Winter Hip-Hop Classes
DESCRIPTION:Happy November! \nWinter hip-hop is back again with Tyler Burnson!\nJoin us every second Monday! Must register in advance! \nThis class serves as an introduction to Hip Hop Dance Styles\, where we build weekly on choreography! \nThere are 3 fee tiers you can choose from! Visit island-mountain-arts.square.site for more information! \n\nSuggested Fee: $60.00 – 80.00+GST – This rate is made possible through support from the Province of British Columbia\nSustaining Fee: $162.00+GST – This would be the cost of the program if IMA received no grants from the province.\nPay What You Can at the Door – We want you to take part\, but you do need to register in advance!\n\nWith instructor Tyler Burnson.\n8 classes total! Max 10 Participants!\nTIME: Every Second Monday\nAges 6 – 12 from 5:45 – 6:45\nAges 18+ from 7:00 PM – 8:15 PM\nMonday\, Nov 06\nMonday\, Nov 20\nMonday\, Dec 04\nMonday\, Dec 18\nTUESDAY\, Jan 02 (Moved due to New Years)\nMonday\, Jan 15\nMonday\, Jan 29\nMonday\, Feb 12
URL:https://whatsupinwells.com/event/winter-hip-hop-vclasses/2024-01-02/
LOCATION:Wells Community Hall\, 4269 Sanders Ave\, Wells\, BC\, V0K2R0\, Canada
CATEGORIES:Arts,Education,Music,Wells
ATTACH;FMTTYPE=image/jpeg:https://whatsupinwells.com/wp-content/uploads/2023/11/winter-hip-hop.jpg
END:VEVENT
BEGIN:VEVENT
DTSTART;TZID=America/Vancouver:20240106T210000
DTEND;TZID=America/Vancouver:20240107T020000
DTSTAMP:20260423T173010
CREATED:20231021T202126Z
LAST-MODIFIED:20231021T202127Z
UID:10001379-1704574800-1704592800@whatsupinwells.com
SUMMARY:Karaoke Night
DESCRIPTION:Every Saturday from 9 pm to 2 am
URL:https://whatsupinwells.com/event/karaoke-night-3-2/2024-01-06/
LOCATION:Jack O’ Club Restaurant & Pub\, 12383 Hwy 27 E.\, Wells\, BC\, V0K2R0\, Canada
CATEGORIES:19+,Music,Wells
ATTACH;FMTTYPE=image/jpeg:https://whatsupinwells.com/wp-content/uploads/2023/07/karaokee.jpg
END:VEVENT
BEGIN:VEVENT
DTSTART;TZID=America/Vancouver:20240113T210000
DTEND;TZID=America/Vancouver:20240114T020000
DTSTAMP:20260423T173010
CREATED:20231021T202126Z
LAST-MODIFIED:20231021T202127Z
UID:10001380-1705179600-1705197600@whatsupinwells.com
SUMMARY:Karaoke Night
DESCRIPTION:Every Saturday from 9 pm to 2 am
URL:https://whatsupinwells.com/event/karaoke-night-3-2/2024-01-13/
LOCATION:Jack O’ Club Restaurant & Pub\, 12383 Hwy 27 E.\, Wells\, BC\, V0K2R0\, Canada
CATEGORIES:19+,Music,Wells
ATTACH;FMTTYPE=image/jpeg:https://whatsupinwells.com/wp-content/uploads/2023/07/karaokee.jpg
END:VEVENT
BEGIN:VEVENT
DTSTART;TZID=America/Vancouver:20240115T174500
DTEND;TZID=America/Vancouver:20240115T201500
DTSTAMP:20260423T173010
CREATED:20231106T001316Z
LAST-MODIFIED:20231106T001345Z
UID:10001650-1705340700-1705349700@whatsupinwells.com
SUMMARY:Winter Hip-Hop Classes
DESCRIPTION:Happy November! \nWinter hip-hop is back again with Tyler Burnson!\nJoin us every second Monday! Must register in advance! \nThis class serves as an introduction to Hip Hop Dance Styles\, where we build weekly on choreography! \nThere are 3 fee tiers you can choose from! Visit island-mountain-arts.square.site for more information! \n\nSuggested Fee: $60.00 – 80.00+GST – This rate is made possible through support from the Province of British Columbia\nSustaining Fee: $162.00+GST – This would be the cost of the program if IMA received no grants from the province.\nPay What You Can at the Door – We want you to take part\, but you do need to register in advance!\n\nWith instructor Tyler Burnson.\n8 classes total! Max 10 Participants!\nTIME: Every Second Monday\nAges 6 – 12 from 5:45 – 6:45\nAges 18+ from 7:00 PM – 8:15 PM\nMonday\, Nov 06\nMonday\, Nov 20\nMonday\, Dec 04\nMonday\, Dec 18\nTUESDAY\, Jan 02 (Moved due to New Years)\nMonday\, Jan 15\nMonday\, Jan 29\nMonday\, Feb 12
URL:https://whatsupinwells.com/event/winter-hip-hop-vclasses/2024-01-15/
LOCATION:Wells Community Hall\, 4269 Sanders Ave\, Wells\, BC\, V0K2R0\, Canada
CATEGORIES:Arts,Education,Music,Wells
ATTACH;FMTTYPE=image/jpeg:https://whatsupinwells.com/wp-content/uploads/2023/11/winter-hip-hop.jpg
END:VEVENT
BEGIN:VEVENT
DTSTART;TZID=America/Vancouver:20240120T210000
DTEND;TZID=America/Vancouver:20240121T020000
DTSTAMP:20260423T173010
CREATED:20231021T202126Z
LAST-MODIFIED:20231021T202127Z
UID:10001381-1705784400-1705802400@whatsupinwells.com
SUMMARY:Karaoke Night
DESCRIPTION:Every Saturday from 9 pm to 2 am
URL:https://whatsupinwells.com/event/karaoke-night-3-2/2024-01-20/
LOCATION:Jack O’ Club Restaurant & Pub\, 12383 Hwy 27 E.\, Wells\, BC\, V0K2R0\, Canada
CATEGORIES:19+,Music,Wells
ATTACH;FMTTYPE=image/jpeg:https://whatsupinwells.com/wp-content/uploads/2023/07/karaokee.jpg
END:VEVENT
BEGIN:VEVENT
DTSTART;TZID=America/Vancouver:20240127T210000
DTEND;TZID=America/Vancouver:20240128T020000
DTSTAMP:20260423T173010
CREATED:20231021T202126Z
LAST-MODIFIED:20231021T202127Z
UID:10001382-1706389200-1706407200@whatsupinwells.com
SUMMARY:Karaoke Night
DESCRIPTION:Every Saturday from 9 pm to 2 am
URL:https://whatsupinwells.com/event/karaoke-night-3-2/2024-01-27/
LOCATION:Jack O’ Club Restaurant & Pub\, 12383 Hwy 27 E.\, Wells\, BC\, V0K2R0\, Canada
CATEGORIES:19+,Music,Wells
ATTACH;FMTTYPE=image/jpeg:https://whatsupinwells.com/wp-content/uploads/2023/07/karaokee.jpg
END:VEVENT
BEGIN:VEVENT
DTSTART;TZID=America/Vancouver:20240129T174500
DTEND;TZID=America/Vancouver:20240129T201500
DTSTAMP:20260423T173010
CREATED:20231106T001316Z
LAST-MODIFIED:20231106T001345Z
UID:10001651-1706550300-1706559300@whatsupinwells.com
SUMMARY:Winter Hip-Hop Classes
DESCRIPTION:Happy November! \nWinter hip-hop is back again with Tyler Burnson!\nJoin us every second Monday! Must register in advance! \nThis class serves as an introduction to Hip Hop Dance Styles\, where we build weekly on choreography! \nThere are 3 fee tiers you can choose from! Visit island-mountain-arts.square.site for more information! \n\nSuggested Fee: $60.00 – 80.00+GST – This rate is made possible through support from the Province of British Columbia\nSustaining Fee: $162.00+GST – This would be the cost of the program if IMA received no grants from the province.\nPay What You Can at the Door – We want you to take part\, but you do need to register in advance!\n\nWith instructor Tyler Burnson.\n8 classes total! Max 10 Participants!\nTIME: Every Second Monday\nAges 6 – 12 from 5:45 – 6:45\nAges 18+ from 7:00 PM – 8:15 PM\nMonday\, Nov 06\nMonday\, Nov 20\nMonday\, Dec 04\nMonday\, Dec 18\nTUESDAY\, Jan 02 (Moved due to New Years)\nMonday\, Jan 15\nMonday\, Jan 29\nMonday\, Feb 12
URL:https://whatsupinwells.com/event/winter-hip-hop-vclasses/2024-01-29/
LOCATION:Wells Community Hall\, 4269 Sanders Ave\, Wells\, BC\, V0K2R0\, Canada
CATEGORIES:Arts,Education,Music,Wells
ATTACH;FMTTYPE=image/jpeg:https://whatsupinwells.com/wp-content/uploads/2023/11/winter-hip-hop.jpg
END:VEVENT
END:VCALENDAR