BEGIN:VCALENDAR
VERSION:2.0
PRODID:-//What&#039;s Up in Wells - ECPv6.15.20//NONSGML v1.0//EN
CALSCALE:GREGORIAN
METHOD:PUBLISH
X-WR-CALNAME:What&#039;s Up in Wells
X-ORIGINAL-URL:https://whatsupinwells.com
X-WR-CALDESC:Events for What&#039;s Up in Wells
REFRESH-INTERVAL;VALUE=DURATION:PT1H
X-Robots-Tag:noindex
X-PUBLISHED-TTL:PT1H
BEGIN:VTIMEZONE
TZID:America/Vancouver
BEGIN:DAYLIGHT
TZOFFSETFROM:-0800
TZOFFSETTO:-0700
TZNAME:PDT
DTSTART:20220313T100000
END:DAYLIGHT
BEGIN:STANDARD
TZOFFSETFROM:-0700
TZOFFSETTO:-0800
TZNAME:PST
DTSTART:20221106T090000
END:STANDARD
BEGIN:DAYLIGHT
TZOFFSETFROM:-0800
TZOFFSETTO:-0700
TZNAME:PDT
DTSTART:20230312T100000
END:DAYLIGHT
BEGIN:STANDARD
TZOFFSETFROM:-0700
TZOFFSETTO:-0800
TZNAME:PST
DTSTART:20231105T090000
END:STANDARD
BEGIN:DAYLIGHT
TZOFFSETFROM:-0800
TZOFFSETTO:-0700
TZNAME:PDT
DTSTART:20240310T100000
END:DAYLIGHT
BEGIN:STANDARD
TZOFFSETFROM:-0700
TZOFFSETTO:-0800
TZNAME:PST
DTSTART:20241103T090000
END:STANDARD
END:VTIMEZONE
BEGIN:VEVENT
DTSTART;VALUE=DATE:20230506
DTEND;VALUE=DATE:20230508
DTSTAMP:20260425T182515
CREATED:20230125T053252Z
LAST-MODIFIED:20230125T054009Z
UID:10000745-1683345600-1683431999@whatsupinwells.com
SUMMARY:Unlock Your Family Story
DESCRIPTION:Is your family story locked in your accumulated documents and trees? Does your family ask for the stories? Then it’s time to pull it all together and publish that story! Participants engage in 14 hours of workshops and discussion facilitated by Brenda L Smith and Andrea Lister. \nTopics include: identifying the audience; choosing the right format; reviewing research\, putting words on the page; editing; legal necessities\, and assignments to get started. Working with their own materials\, and supporting each other\, participants discover how to move from gathering information to creating a publishable product. Participants will set goals for their research\, organize and evaluate their data\, and unlock their family story. \nIMA’s operational work is made possible through support from the Province of British Columbia\, The BC Arts Council\, and the Canada Council for the Arts.
URL:https://whatsupinwells.com/event/unlock-your-family-story/2023-05-06/
CATEGORIES:Arts,Education,Wells
ATTACH;FMTTYPE=image/jpeg:https://whatsupinwells.com/wp-content/uploads/2023/01/Family-Story.jpg
END:VEVENT
BEGIN:VEVENT
DTSTART;VALUE=DATE:20230513
DTEND;VALUE=DATE:20230515
DTSTAMP:20260425T182515
CREATED:20230125T053252Z
LAST-MODIFIED:20230125T054009Z
UID:10000746-1683950400-1684036799@whatsupinwells.com
SUMMARY:Unlock Your Family Story
DESCRIPTION:Is your family story locked in your accumulated documents and trees? Does your family ask for the stories? Then it’s time to pull it all together and publish that story! Participants engage in 14 hours of workshops and discussion facilitated by Brenda L Smith and Andrea Lister. \nTopics include: identifying the audience; choosing the right format; reviewing research\, putting words on the page; editing; legal necessities\, and assignments to get started. Working with their own materials\, and supporting each other\, participants discover how to move from gathering information to creating a publishable product. Participants will set goals for their research\, organize and evaluate their data\, and unlock their family story. \nIMA’s operational work is made possible through support from the Province of British Columbia\, The BC Arts Council\, and the Canada Council for the Arts.
URL:https://whatsupinwells.com/event/unlock-your-family-story/2023-05-13/
CATEGORIES:Arts,Education,Wells
ATTACH;FMTTYPE=image/jpeg:https://whatsupinwells.com/wp-content/uploads/2023/01/Family-Story.jpg
END:VEVENT
BEGIN:VEVENT
DTSTART;TZID=America/Vancouver:20230519T193000
DTEND;TZID=America/Vancouver:20230519T203000
DTSTAMP:20260425T182515
CREATED:20230517T200512Z
LAST-MODIFIED:20230517T200512Z
UID:10000891-1684524600-1684528200@whatsupinwells.com
SUMMARY:filling in the cracks: a somatic creation workshop with amanda preston
DESCRIPTION:In this workshop you will move through a method of creating art in a consciously somatic way.\nA space to place some of your thoughts.\nA drop off for the itchy bits left in the back of your mind\, waiting to come out.\nThis art practice is rooted in connecting the loose thoughts floating around in your mind’s view while taking pressure away from creating with a destination in mind.\nThis workshop is pay-what-you-can and all ages are welcome. We will have paper and writing implements\, but if you have a sketchbook you like to use\, it would be most welcome!
URL:https://whatsupinwells.com/event/filling-in-the-cracks-a-somatic-creation-workshop-with-amanda-preston/
LOCATION:Island Mountain Arts\, 2323 Pooley St.\, Wells\, BC\, V0k2R0\, Canada
CATEGORIES:Arts,Wells
ATTACH;FMTTYPE=image/jpeg:https://whatsupinwells.com/wp-content/uploads/2023/05/347415780_621355009890836_5779877230945527352_n.jpg
END:VEVENT
BEGIN:VEVENT
DTSTART;VALUE=DATE:20230520
DTEND;VALUE=DATE:20230522
DTSTAMP:20260425T182515
CREATED:20230125T053252Z
LAST-MODIFIED:20230125T054009Z
UID:10000747-1684555200-1684641599@whatsupinwells.com
SUMMARY:Unlock Your Family Story
DESCRIPTION:Is your family story locked in your accumulated documents and trees? Does your family ask for the stories? Then it’s time to pull it all together and publish that story! Participants engage in 14 hours of workshops and discussion facilitated by Brenda L Smith and Andrea Lister. \nTopics include: identifying the audience; choosing the right format; reviewing research\, putting words on the page; editing; legal necessities\, and assignments to get started. Working with their own materials\, and supporting each other\, participants discover how to move from gathering information to creating a publishable product. Participants will set goals for their research\, organize and evaluate their data\, and unlock their family story. \nIMA’s operational work is made possible through support from the Province of British Columbia\, The BC Arts Council\, and the Canada Council for the Arts.
URL:https://whatsupinwells.com/event/unlock-your-family-story/2023-05-20/
CATEGORIES:Arts,Education,Wells
ATTACH;FMTTYPE=image/jpeg:https://whatsupinwells.com/wp-content/uploads/2023/01/Family-Story.jpg
END:VEVENT
BEGIN:VEVENT
DTSTART;TZID=America/Vancouver:20230526T190000
DTEND;TZID=America/Vancouver:20230526T210000
DTSTAMP:20260425T182515
CREATED:20230526T155627Z
LAST-MODIFIED:20230526T155627Z
UID:10000903-1685127600-1685134800@whatsupinwells.com
SUMMARY:Gallery Opening: Face-To-Face
DESCRIPTION:Gallery Opening tomorrow May 26th @ 7:00 pm- 9:00 pm \nTwo deeply distinct series of portraits that demand a double-take. Troy Lindstrom and Samantha Wigglesworth’s joint exhibition opens at 7:00 PM – have some snacks and beverages with us\, and hear a bit from the two artists. ⁠ \nIn Face-to-face\, the work of Northern BC Artists Troy Lindstrom and Samantha Wigglesworth are exhibited together\, exploring the fine lines of first impressions and preconceived notions. \nAnyone can walk through this show and assume each person’s gender and sexuality based on the representation of the portraits. The question is\, would you be right in your assumptions and the labels you assign to them? How would you know? \nID: From left to right:\nTroy Lindstrom\, #NotSoulless\, Digital illustration\, 2021\nSamantha Wigglesworth\, AMBIGUOUS\, Acrylic on canvas with 3D elements\, 24 x 36 in\, 2021\nFace-To-Face\nTroy Lindstrom\nSamantha Wigglesworth
URL:https://whatsupinwells.com/event/gallery-opening-face-to-face/
LOCATION:Island Mountain Arts\, 2323 Pooley St.\, Wells\, BC\, V0k2R0\, Canada
CATEGORIES:Arts,Free,Wells
END:VEVENT
END:VCALENDAR