BEGIN:VCALENDAR
VERSION:2.0
PRODID:-//What&#039;s Up in Wells - ECPv6.15.20//NONSGML v1.0//EN
CALSCALE:GREGORIAN
METHOD:PUBLISH
X-WR-CALNAME:What&#039;s Up in Wells
X-ORIGINAL-URL:https://whatsupinwells.com
X-WR-CALDESC:Events for What&#039;s Up in Wells
REFRESH-INTERVAL;VALUE=DURATION:PT1H
X-Robots-Tag:noindex
X-PUBLISHED-TTL:PT1H
BEGIN:VTIMEZONE
TZID:America/Vancouver
BEGIN:DAYLIGHT
TZOFFSETFROM:-0800
TZOFFSETTO:-0700
TZNAME:PDT
DTSTART:20240310T100000
END:DAYLIGHT
BEGIN:STANDARD
TZOFFSETFROM:-0700
TZOFFSETTO:-0800
TZNAME:PST
DTSTART:20241103T090000
END:STANDARD
BEGIN:DAYLIGHT
TZOFFSETFROM:-0800
TZOFFSETTO:-0700
TZNAME:PDT
DTSTART:20250309T100000
END:DAYLIGHT
BEGIN:STANDARD
TZOFFSETFROM:-0700
TZOFFSETTO:-0800
TZNAME:PST
DTSTART:20251102T090000
END:STANDARD
BEGIN:DAYLIGHT
TZOFFSETFROM:-0800
TZOFFSETTO:-0700
TZNAME:PDT
DTSTART:20260308T100000
END:DAYLIGHT
BEGIN:STANDARD
TZOFFSETFROM:-0700
TZOFFSETTO:-0800
TZNAME:PST
DTSTART:20261101T090000
END:STANDARD
END:VTIMEZONE
BEGIN:VEVENT
DTSTART;TZID=America/Vancouver:20250516T180000
DTEND;TZID=America/Vancouver:20250516T190000
DTSTAMP:20260423T222132
CREATED:20250516T213907Z
LAST-MODIFIED:20250516T213907Z
UID:10003529-1747418400-1747422000@whatsupinwells.com
SUMMARY:Reception and Artist Talk: Liquid Light
DESCRIPTION:Reception + Artist Talk: May 16\, 6PM! \nThe show will run from May 16th to June 15th so be sure to stop by and have a look at the art! \nIMA’s Gallery shows are supported by the Province of BC. Liquid light is additionally supported by the Wells-Barkerville Community Forest \nLight is fluid. It travels in a straight line at twice the speed of sound. It can reflect off objects and refract through others. It interferes\, disperses\, diffracts\, polarizes\, and creates shadow. These changeable qualities are what makes light fluid. Light also forms the biological basis of visual perception. The human visual system is geared toward understanding\, creating meaning and assigning value. My practice explores interactions between elements of the natural world and human values. \nMy work seeks to unearth subtleties beyond what the eye can see and focuses on the relationship between the abundance of living organisms and my own place within these ever evolving ecosystems. \nAs I created these prints\, I chose to highlight asymmetry and imperfections to draw a parallel to my human experiences. I also thought about the fragile nature and delicate balances of life cycles and how these same characteristics also speak to resiliency. Life continually captivates me with its duality and balanced interactions of competing and complementary forces. \nThe artworks in this series reflect my engagement with the forest and fauna of Vancouver Island\, coupled with a sense of reverence I feel when I notice the intelligence of the natural world.
URL:https://whatsupinwells.com/event/reception-and-artist-talk-liquid-light/
LOCATION:Island Mountain Arts\, 2323 Pooley St.\, Wells\, BC\, V0k2R0\, Canada
CATEGORIES:Arts,Free,Wells
ATTACH;FMTTYPE=image/png:https://whatsupinwells.com/wp-content/uploads/2025/05/liquid-light.png
END:VEVENT
BEGIN:VEVENT
DTSTART;VALUE=DATE:20250517
DTEND;VALUE=DATE:20250520
DTSTAMP:20260423T222132
CREATED:20250319T021846Z
LAST-MODIFIED:20250319T021846Z
UID:10003519-1747454400-1747627199@whatsupinwells.com
SUMMARY:Introduction to Lino Cut Reduction with Mary Anne Molcan
DESCRIPTION:This workshop is a beginner to intermediate level course for those who want to expand their one colour linocut experience to two or more colours. No prior printmaking experience is required. \nLearn about the reductive format of printmaking\, where participants work with one lino block to create a multi-coloured layered print edition. Prints are generally created with a colour pallet that ranges in value from light to darker hues. After each coloured layer is printed\, the block is carved to eliminate the latest colour from being reprinted. This process continues until the last colour remains and the block is destroyed. \nDue to the deterioration of the block through this method every carving decision is final and participants learn to work with unintended mark making. This process is fun and ensures that each print edition is truly one of a kind and impossible to replicate!\nParticipants are encouraged to come with source material or a drawing suitable for a 5 x 7 inch \nWhen?\nSaturday May 17th and Sunday May 18th\nIMA has inexpensive accommodation options for program participants through our artist-in-residence building check it out here -> www.imarts.com/island-mountain-air \nWhere?\nWells-Barkerville School (4386 Mildred Ave) Second Floor Studios\n4 hours/day \nCost?\n$185+GST for 2025 IMArts Members – Get Your Membership and support IMA Here!\n$200+GST for Non-Members \nRegistration?\n25% of the workshop fee will be due within 5 business days of registration and is non-refundable. IMA will draft and send an invoice to you via Square. We can take down-payment in the gallery in cash\, via e-transfer to finance@imarts.com or using a credit card online. The balance is due upon arrival at the workshop. \nThis workshop is supported by the BC Arts Council and the Province of British Columbia
URL:https://whatsupinwells.com/event/introduction-to-lino-cut-reduction-with-mary-anne-molcan/
LOCATION:Island Mountain Arts Studios\, Mildred Ave\, Wells\, V0K 2R0
CATEGORIES:Arts,Education,Wells
ATTACH;FMTTYPE=image/jpeg:https://whatsupinwells.com/wp-content/uploads/2025/03/linocut.jpg
END:VEVENT
BEGIN:VEVENT
DTSTART;TZID=America/Vancouver:20250517T190000
DTEND;TZID=America/Vancouver:20250517T203000
DTSTAMP:20260423T222132
CREATED:20250514T030750Z
LAST-MODIFIED:20250514T030750Z
UID:10003525-1747508400-1747513800@whatsupinwells.com
SUMMARY:As Is Live Music
DESCRIPTION:Beckers lodge welcomes “AS IS” back on Saturday May 17th!!! We hope you’ll be able to make it out to enjoy some wonderful music and fun with these fellows 🙂 we are planning for it to be outside weather permitting. They will start at 7pm. Kitchen will be offering specials that night as well as most menu items serving until 8pm. As always\, we will have the tip jar out for the band.
URL:https://whatsupinwells.com/event/as-is-live-music/
LOCATION:Becker’s Lodge\, 4480 Bowron Lake Park Rd\, Bowron Lake\, BC
CATEGORIES:Arts,Bowron,Music
ATTACH;FMTTYPE=image/jpeg:https://whatsupinwells.com/wp-content/uploads/2025/05/As-Is-2025.jpg
END:VEVENT
BEGIN:VEVENT
DTSTART;TZID=America/Vancouver:20250518T200000
DTEND;TZID=America/Vancouver:20250518T213000
DTSTAMP:20260423T222132
CREATED:20250514T031400Z
LAST-MODIFIED:20250514T031400Z
UID:10003526-1747598400-1747603800@whatsupinwells.com
SUMMARY:Danny Bell and His Disappointments
DESCRIPTION:Danny Bell and His Disappointments play western-folk-psych-punk. They live on unceded Lhedli T’enneh Territory in Northern British Columbia. Exclaim! Magazine called their last full-length album an “anti capitalist\, anti-elitist\, anti-asshole folk record for small moments in small places.” Danny’s music is regional. It’s steeped in his affection for his home in the hinterland\, a blue collar town\, the stink of the pulp mill\, and everyday life in Northern BC. \n\nDinner service 5pm – 8 pm\nMusic starts at 8pm\nCover by donation\nFirst come\, first served\, no reservations\nNo minors after the end of the meal service
URL:https://whatsupinwells.com/event/danny-bell-and-his-disappointments/
LOCATION:The Wells Hotel\, 2341 Pooley St.\, Wells\, BC\, V0k2R0\, Canada
CATEGORIES:19+,Arts,Music,Wells
ATTACH;FMTTYPE=image/jpeg:https://whatsupinwells.com/wp-content/uploads/2025/05/491004509_1204706491573253_6604203555004845664_n.jpg
END:VEVENT
BEGIN:VEVENT
DTSTART;TZID=America/Vancouver:20250525T110000
DTEND;TZID=America/Vancouver:20250525T130000
DTSTAMP:20260423T222132
CREATED:20250514T032339Z
LAST-MODIFIED:20250514T032339Z
UID:10003527-1748170800-1748178000@whatsupinwells.com
SUMMARY:Taste of Middle Earth: a Tolkien-Inspired Feast
DESCRIPTION:Take a culinary journey to Middle Earth with a six-course brunch menu inspired by Tolkien\, matched with a three-part drink pairing by host Peter Corbett (alcoholic and non-alcoholic options available). Our host will provide a small reading of a Tolkien passage with each meal and tell the story of the Studio’s connection to Tolkien himself. Middle-Earth attire is encouraged!\nThis mid-day feast event at the St. George Studio in Wells is our final installment of the Spring Cariboo Culinary Collaboration series\, where we traveled the Cariboo to collaborate with other small business to provided unique food and drink experiences in new venues. \nThe Menu:\nComing soon! Expect flavours of the Middle-Earth\, including mushrooms\, lamb\, fish\, root vegetables\, potatoes\, pastries\, honey\, apples\, berries\, and more. \n*IMPORTANT* this is a set menu event. Substitutions and alternatives to the food menu will not be available. \nWhen: Sunday\, May 25th starting at 11:00 am\nWhere: The St. George Studio\, 2303 Bowman Cres\, Wells\, BC\nWhat’s Included: Six food courses with drink pairings\nThe Price: $60 + GST per person \nTickets are limited and available for purchase online or at the Wells Hotel. \nDue to the advanced planning required to prepare for the event\, tickets may not be available at the door.
URL:https://whatsupinwells.com/event/taste-of-middle-earth-a-tolkien-inspired-feast/
LOCATION:St. George Studio\, 2303 Bowman Cres\, Wells\, BC\, V0K2R0\, Canada
CATEGORIES:Arts,Food,Wells
ATTACH;FMTTYPE=image/png:https://whatsupinwells.com/wp-content/uploads/2025/05/Taste-of-Tolkien.png
END:VEVENT
BEGIN:VEVENT
DTSTART;TZID=America/Vancouver:20250531T200000
DTEND;TZID=America/Vancouver:20250531T220000
DTSTAMP:20260423T222132
CREATED:20250514T032948Z
LAST-MODIFIED:20250514T033030Z
UID:10003528-1748721600-1748728800@whatsupinwells.com
SUMMARY:The Interstellar Jays Season Opener
DESCRIPTION:Celebrate the start of the visitor season in Wells with a musical party that is sure to put a little spring in your step!\nLocal favourites the Interstellar Jays will hit the Wells Hotel stage with iridescent grooves and psychedelic takes on old tunes that are sure to make you move. Huck yourself into the air or off to a distant galaxy with the Interstellar Jays! \nIt’s Industry Night too! Our Season Opener offers 15% off food and drink for staff and small business owners in the culture and hospitality sectors. \nAges 19+ only after 8pm. First-come\, first-served\, no reserved seating. Cover by donation with 100% proceeds to the artists.
URL:https://whatsupinwells.com/event/the-interstellar-jays-season-opener/
LOCATION:The Wells Hotel\, 2341 Pooley St.\, Wells\, BC\, V0k2R0\, Canada
CATEGORIES:19+,Arts,Music,Wells
ATTACH;FMTTYPE=image/png:https://whatsupinwells.com/wp-content/uploads/2025/05/Interstellar-Jays-Season-Opener-Real-Estate-Flyer.png
END:VEVENT
END:VCALENDAR