BEGIN:VCALENDAR
VERSION:2.0
PRODID:-//What&#039;s Up in Wells - ECPv6.15.20//NONSGML v1.0//EN
CALSCALE:GREGORIAN
METHOD:PUBLISH
X-ORIGINAL-URL:https://whatsupinwells.com
X-WR-CALDESC:Events for What&#039;s Up in Wells
REFRESH-INTERVAL;VALUE=DURATION:PT1H
X-Robots-Tag:noindex
X-PUBLISHED-TTL:PT1H
BEGIN:VTIMEZONE
TZID:America/Vancouver
BEGIN:DAYLIGHT
TZOFFSETFROM:-0800
TZOFFSETTO:-0700
TZNAME:PDT
DTSTART:20250309T100000
END:DAYLIGHT
BEGIN:STANDARD
TZOFFSETFROM:-0700
TZOFFSETTO:-0800
TZNAME:PST
DTSTART:20251102T090000
END:STANDARD
BEGIN:DAYLIGHT
TZOFFSETFROM:-0800
TZOFFSETTO:-0700
TZNAME:PDT
DTSTART:20260308T100000
END:DAYLIGHT
BEGIN:STANDARD
TZOFFSETFROM:-0700
TZOFFSETTO:-0800
TZNAME:PST
DTSTART:20261101T090000
END:STANDARD
BEGIN:DAYLIGHT
TZOFFSETFROM:-0800
TZOFFSETTO:-0700
TZNAME:PDT
DTSTART:20270314T100000
END:DAYLIGHT
BEGIN:STANDARD
TZOFFSETFROM:-0700
TZOFFSETTO:-0800
TZNAME:PST
DTSTART:20271107T090000
END:STANDARD
END:VTIMEZONE
BEGIN:VEVENT
DTSTART;TZID=America/Vancouver:20260108T180000
DTEND;TZID=America/Vancouver:20260108T200000
DTSTAMP:20260423T083148
CREATED:20251206T005917Z
LAST-MODIFIED:20251206T010856Z
UID:10004120-1767895200-1767902400@whatsupinwells.com
SUMMARY:Learn to make a lap quilt with Kathy Landry
DESCRIPTION:It’s January and baby\, we bet that it’s cold outside! Warm those legs up\, gussy up your couch\, or finish a blanket for a sweet wee darling in your life! \nWhere: IMA Public Gallery (2323 Pooley St. Wells BC)\nWhen: Thursday Jan 8th\, 15th\, 22nd\, 29th\nHow Much: $100.00** + Taxes and backing material.\n**Made possible with generous support from Kathy Landry.\nRegister here -> https://forms.gle/o5a89RFpUJYsJjA79 <- \n*ABOUT THE WORKSHOP*\nIn this beginner-focused 4 week course\, you will learn the fundamentals of making a lap (or “couch” quilt) from the start\, including: \n\n The tools and materials needed to start quilting\nHow to measure and cut the components of your quilt\nPiecing\nBorders\nStraight-line quilting\nBinding\n\nWhat we’ll supply you: \n\nMaterials for the top of the quilt\nBatting\nBinding\nPen or pencil and a notebook\n\nWhat we have to lend: \n\nOnly 2-3 sewing machines are available to use. Please let us know if you are able to bring your own machine and a manual.\nIron and Ironing board\nCutting table\, scissors\nWhat you’ll need to purchase\nYour own backing (we’ll discuss this in the first class)
URL:https://whatsupinwells.com/event/4422/2026-01-08/
LOCATION:BC
CATEGORIES:Arts,Education,Wells
ATTACH;FMTTYPE=image/jpeg:https://whatsupinwells.com/wp-content/uploads/2025/12/lap-quilt.jpg
END:VEVENT
BEGIN:VEVENT
DTSTART;TZID=America/Vancouver:20260115T180000
DTEND;TZID=America/Vancouver:20260115T200000
DTSTAMP:20260423T083148
CREATED:20251206T005917Z
LAST-MODIFIED:20251206T010856Z
UID:10004121-1768500000-1768507200@whatsupinwells.com
SUMMARY:Learn to make a lap quilt with Kathy Landry
DESCRIPTION:It’s January and baby\, we bet that it’s cold outside! Warm those legs up\, gussy up your couch\, or finish a blanket for a sweet wee darling in your life! \nWhere: IMA Public Gallery (2323 Pooley St. Wells BC)\nWhen: Thursday Jan 8th\, 15th\, 22nd\, 29th\nHow Much: $100.00** + Taxes and backing material.\n**Made possible with generous support from Kathy Landry.\nRegister here -> https://forms.gle/o5a89RFpUJYsJjA79 <- \n*ABOUT THE WORKSHOP*\nIn this beginner-focused 4 week course\, you will learn the fundamentals of making a lap (or “couch” quilt) from the start\, including: \n\n The tools and materials needed to start quilting\nHow to measure and cut the components of your quilt\nPiecing\nBorders\nStraight-line quilting\nBinding\n\nWhat we’ll supply you: \n\nMaterials for the top of the quilt\nBatting\nBinding\nPen or pencil and a notebook\n\nWhat we have to lend: \n\nOnly 2-3 sewing machines are available to use. Please let us know if you are able to bring your own machine and a manual.\nIron and Ironing board\nCutting table\, scissors\nWhat you’ll need to purchase\nYour own backing (we’ll discuss this in the first class)
URL:https://whatsupinwells.com/event/4422/2026-01-15/
LOCATION:BC
CATEGORIES:Arts,Education,Wells
ATTACH;FMTTYPE=image/jpeg:https://whatsupinwells.com/wp-content/uploads/2025/12/lap-quilt.jpg
END:VEVENT
BEGIN:VEVENT
DTSTART;TZID=America/Vancouver:20260122T180000
DTEND;TZID=America/Vancouver:20260122T200000
DTSTAMP:20260423T083148
CREATED:20251206T005917Z
LAST-MODIFIED:20251206T010856Z
UID:10004122-1769104800-1769112000@whatsupinwells.com
SUMMARY:Learn to make a lap quilt with Kathy Landry
DESCRIPTION:It’s January and baby\, we bet that it’s cold outside! Warm those legs up\, gussy up your couch\, or finish a blanket for a sweet wee darling in your life! \nWhere: IMA Public Gallery (2323 Pooley St. Wells BC)\nWhen: Thursday Jan 8th\, 15th\, 22nd\, 29th\nHow Much: $100.00** + Taxes and backing material.\n**Made possible with generous support from Kathy Landry.\nRegister here -> https://forms.gle/o5a89RFpUJYsJjA79 <- \n*ABOUT THE WORKSHOP*\nIn this beginner-focused 4 week course\, you will learn the fundamentals of making a lap (or “couch” quilt) from the start\, including: \n\n The tools and materials needed to start quilting\nHow to measure and cut the components of your quilt\nPiecing\nBorders\nStraight-line quilting\nBinding\n\nWhat we’ll supply you: \n\nMaterials for the top of the quilt\nBatting\nBinding\nPen or pencil and a notebook\n\nWhat we have to lend: \n\nOnly 2-3 sewing machines are available to use. Please let us know if you are able to bring your own machine and a manual.\nIron and Ironing board\nCutting table\, scissors\nWhat you’ll need to purchase\nYour own backing (we’ll discuss this in the first class)
URL:https://whatsupinwells.com/event/4422/2026-01-22/
LOCATION:BC
CATEGORIES:Arts,Education,Wells
ATTACH;FMTTYPE=image/jpeg:https://whatsupinwells.com/wp-content/uploads/2025/12/lap-quilt.jpg
END:VEVENT
BEGIN:VEVENT
DTSTART;TZID=America/Vancouver:20260125T180000
DTEND;TZID=America/Vancouver:20260125T200000
DTSTAMP:20260423T083148
CREATED:20251128T183552Z
LAST-MODIFIED:20251128T183655Z
UID:10004109-1769364000-1769371200@whatsupinwells.com
SUMMARY:Burns Night: a celebration of all things Scottish
DESCRIPTION:Burns Night is a time to enjoy Scottish traditions and celebrate the renowned poet Robert Burns. The celebrations centre around the Bard’s birthday on January 25th. They first began in 1801 and have continued all over the world as an homage to his words and Scotland’s enduring legacy of creativity. \nJoin us at the Wells Hotel on Sunday\, January 25th for an evening that will feature music\, poetry\, food\, whiskey\, and good company. Door open at 5pm\, festivities begin at 6pm. \nYour ticket includes:\n* a three-course traditional Scottish meal: soup\, steak pie with neeps and tatties\, and dessert\, with sample of haggis\,\n* 4 x 1/2 oz curated Scotch whiskey tasting from our extensive collection.\n* Bagpipes as played by local legands Judy Campbell and Donald Lindsay\n* The poetry of Robbie Burns\n* Vegetarian and alcohol-free options on offer as well. \nJoin us as we raise a toast to the immortal words of Burns and bring past and present together to create a celebration that resonates with the spirit of Scotland.\nFull ticket: $45 per person\nNo-alcohol ticket: $30 per person\nChildren ages 4-12 ticket: $15 per person \nSchedule of ceremonies\, starting at 6pm:\n* Opening pipes\n* Toast from the host\n* Soup course with Scotch pairing\n* Piping in the haggis\n* Address to the haggis\n* Main course with Scotch pairing\n* Toast to the Lassies and response\n* Dessert course and Scotch pairing\n* Poem reading and final piping\n* Final Scotch tasting
URL:https://whatsupinwells.com/event/burns-night-a-celebration-of-all-things-scottish-2/
LOCATION:The Wells Hotel\, 2341 Pooley St.\, Wells\, BC\, V0k2R0\, Canada
CATEGORIES:Arts,Food,Music,Theatre,Wells
ATTACH;FMTTYPE=image/png:https://whatsupinwells.com/wp-content/uploads/2025/11/2026-Burns-Night-Poster.png
END:VEVENT
BEGIN:VEVENT
DTSTART;TZID=America/Vancouver:20260129T180000
DTEND;TZID=America/Vancouver:20260129T200000
DTSTAMP:20260423T083148
CREATED:20251206T005917Z
LAST-MODIFIED:20251206T010856Z
UID:10004123-1769709600-1769716800@whatsupinwells.com
SUMMARY:Learn to make a lap quilt with Kathy Landry
DESCRIPTION:It’s January and baby\, we bet that it’s cold outside! Warm those legs up\, gussy up your couch\, or finish a blanket for a sweet wee darling in your life! \nWhere: IMA Public Gallery (2323 Pooley St. Wells BC)\nWhen: Thursday Jan 8th\, 15th\, 22nd\, 29th\nHow Much: $100.00** + Taxes and backing material.\n**Made possible with generous support from Kathy Landry.\nRegister here -> https://forms.gle/o5a89RFpUJYsJjA79 <- \n*ABOUT THE WORKSHOP*\nIn this beginner-focused 4 week course\, you will learn the fundamentals of making a lap (or “couch” quilt) from the start\, including: \n\n The tools and materials needed to start quilting\nHow to measure and cut the components of your quilt\nPiecing\nBorders\nStraight-line quilting\nBinding\n\nWhat we’ll supply you: \n\nMaterials for the top of the quilt\nBatting\nBinding\nPen or pencil and a notebook\n\nWhat we have to lend: \n\nOnly 2-3 sewing machines are available to use. Please let us know if you are able to bring your own machine and a manual.\nIron and Ironing board\nCutting table\, scissors\nWhat you’ll need to purchase\nYour own backing (we’ll discuss this in the first class)
URL:https://whatsupinwells.com/event/4422/2026-01-29/
LOCATION:BC
CATEGORIES:Arts,Education,Wells
ATTACH;FMTTYPE=image/jpeg:https://whatsupinwells.com/wp-content/uploads/2025/12/lap-quilt.jpg
END:VEVENT
BEGIN:VEVENT
DTSTART;TZID=America/Vancouver:20260131T190000
DTEND;TZID=America/Vancouver:20260131T210000
DTSTAMP:20260423T083148
CREATED:20260124T022228Z
LAST-MODIFIED:20260124T022228Z
UID:10004125-1769886000-1769893200@whatsupinwells.com
SUMMARY:Snowshoe Film Festival
DESCRIPTION:Snowshoe Film Festival – Wells \n Sunset Theatre\n Saturday\, January 31\n 7:00 PM\n $15\n\n\nSettle in for an hour and a half of drama\, laughter\, and awe-inspiring winter stories\, all celebrating snowshoeing\, mountain adventures\, and time spent outdoors. There’s no better way to top off a day in the mountains than with a warm\, fuzzy evening inside the historic Sunset Theatre.\n\n\n Tickets are just $15 with all proceeds going to @wellsandareatrailsociety\n Pair it with the Cariboo Cup Snowshoe Race\, happening earlier the same day!\n\n\n Tickets + race registration: see the link in the comments.\n\n\nCome for the adventure. Stay for the stories.
URL:https://whatsupinwells.com/event/snowshoe-film-festival/
LOCATION:Sunset Theatre\, 2357 Pooley St.\, Wells\, BC\, v0k2r0\, Canada
CATEGORIES:Arts,Outdoor Recreation,Theatre,Wells
ATTACH;FMTTYPE=image/jpeg:https://whatsupinwells.com/wp-content/uploads/2026/01/619559117_18087526877283517_7886668264614870119_n.jpg
ORGANIZER;CN="Guided by Adventure":MAILTO:theadventurebustours@gmail.com
END:VEVENT
BEGIN:VEVENT
DTSTART;TZID=America/Vancouver:20260131T200000
DTEND;TZID=America/Vancouver:20260131T220000
DTSTAMP:20260423T083148
CREATED:20260124T023109Z
LAST-MODIFIED:20260124T023109Z
UID:10004127-1769889600-1769896800@whatsupinwells.com
SUMMARY:In My Bones - Live Music
DESCRIPTION:Join us for an evening of live music from In My Bones\, a three-piece band from Bella Coola\, BC\, known for bold\, brutally honest songwriting and a sound shaped by beauty and chaos of real life.\nMusic starts at 8 pm. Cover by donation. First-come\, first-served. No minors after 8 pm
URL:https://whatsupinwells.com/event/in-my-bones-live-music/
LOCATION:The Wells Hotel\, 2341 Pooley St.\, Wells\, BC\, V0k2R0\, Canada
CATEGORIES:Arts,Music,Wells
ATTACH;FMTTYPE=image/jpeg:https://whatsupinwells.com/wp-content/uploads/2026/01/Wells-Poster-finale--scaled.jpg
END:VEVENT
END:VCALENDAR