BEGIN:VCALENDAR
VERSION:2.0
PRODID:-//What&#039;s Up in Wells - ECPv6.15.20//NONSGML v1.0//EN
CALSCALE:GREGORIAN
METHOD:PUBLISH
X-WR-CALNAME:What&#039;s Up in Wells
X-ORIGINAL-URL:https://whatsupinwells.com
X-WR-CALDESC:Events for What&#039;s Up in Wells
REFRESH-INTERVAL;VALUE=DURATION:PT1H
X-Robots-Tag:noindex
X-PUBLISHED-TTL:PT1H
BEGIN:VTIMEZONE
TZID:America/Vancouver
BEGIN:DAYLIGHT
TZOFFSETFROM:-0800
TZOFFSETTO:-0700
TZNAME:PDT
DTSTART:20210314T100000
END:DAYLIGHT
BEGIN:STANDARD
TZOFFSETFROM:-0700
TZOFFSETTO:-0800
TZNAME:PST
DTSTART:20211107T090000
END:STANDARD
BEGIN:DAYLIGHT
TZOFFSETFROM:-0800
TZOFFSETTO:-0700
TZNAME:PDT
DTSTART:20220313T100000
END:DAYLIGHT
BEGIN:STANDARD
TZOFFSETFROM:-0700
TZOFFSETTO:-0800
TZNAME:PST
DTSTART:20221106T090000
END:STANDARD
BEGIN:DAYLIGHT
TZOFFSETFROM:-0800
TZOFFSETTO:-0700
TZNAME:PDT
DTSTART:20230312T100000
END:DAYLIGHT
BEGIN:STANDARD
TZOFFSETFROM:-0700
TZOFFSETTO:-0800
TZNAME:PST
DTSTART:20231105T090000
END:STANDARD
END:VTIMEZONE
BEGIN:VEVENT
DTSTART;TZID=America/Vancouver:20220614T160000
DTEND;TZID=America/Vancouver:20220614T190000
DTSTAMP:20260424T210309
CREATED:20220610T212816Z
LAST-MODIFIED:20220610T212816Z
UID:10000561-1655222400-1655233200@whatsupinwells.com
SUMMARY:Community Information Meeting - Forestry
DESCRIPTION:Please join West Fraser\, Ministry of Forests\, and BC Timber Sales for an information sharing meeting. West Fraser and BCTS will have a map of proposed and existing development on site.
URL:https://whatsupinwells.com/event/community-information-meeting-forestry/
LOCATION:Wells Community Hall\, 4269 Sanders Ave\, Wells\, BC\, V0K2R0\, Canada
CATEGORIES:Education,Outdoor Recreation,Wells
ATTACH;FMTTYPE=image/jpeg:https://whatsupinwells.com/wp-content/uploads/2022/06/community-info-meeting.jpg
END:VEVENT
BEGIN:VEVENT
DTSTART;TZID=America/Vancouver:20220616T183000
DTEND;TZID=America/Vancouver:20220616T193000
DTSTAMP:20260424T210309
CREATED:20220608T192720Z
LAST-MODIFIED:20220609T222314Z
UID:10000558-1655404200-1655407800@whatsupinwells.com
SUMMARY:Wells Highschool Ideas Meet & Greet
DESCRIPTION:You are invited to join a meet and greet to discuss to study that aims to shed light on opportunities and challenges for a potential highschool that is rooted in the local community of Wells. \nAn introductory meet and greet will be held on June 9 at 6:30 pm over Zoom. To attend\, please contact Chrissy McHarg at mcharg@unbc.ca for the Zoom link. \nIf you have any questions or comments about the study\, please email Chrissy McHarg – mcharg@unbc.ca (Masters Student) or Dr. Phil Mullins – philip.mullins@unbc.ca (Graduate Supervisor)
URL:https://whatsupinwells.com/event/wells-highschool-ideas-meet-greet/
CATEGORIES:Education,Free
ATTACH;FMTTYPE=image/jpeg:https://whatsupinwells.com/wp-content/uploads/2022/06/wells-highschool-1.jpg
END:VEVENT
BEGIN:VEVENT
DTSTART;TZID=America/Vancouver:20220627T183000
DTEND;TZID=America/Vancouver:20220627T200000
DTSTAMP:20260424T210309
CREATED:20220627T183433Z
LAST-MODIFIED:20220627T184014Z
UID:10000615-1656354600-1656360000@whatsupinwells.com
SUMMARY:Wells High School Community Workshop 1 of 2
DESCRIPTION:Have you been affected by the absence of a high school in Wells\, BC? You are invited to join a community workshop that aims to understand the impact of having no high school in Wells has had on the community.\n\nThe workshop will help understand the vision of a potential high school that is unique to Wells. We want to hear from students\, families\, community members\, youth groups\, business owners\, and others.\n\nIf you have ideas\, thoughts\, or comments about the project\, please join in on the workshops. You are free to come to one or both of the workshops if you are interested.\n\nIf you are unable to attend a workshop\, but would still like to participate\, please email me at mcharg@unbc.ca. If you have any questions or concerns\, again\, please email me or comment on this post and I will get back to you promptly.
URL:https://whatsupinwells.com/event/wells-high-school-community-workshop-1-of-2/
LOCATION:Wells Community Hall\, 4269 Sanders Ave\, Wells\, BC\, V0K2R0\, Canada
CATEGORIES:Education,Wells
ATTACH;FMTTYPE=image/jpeg:https://whatsupinwells.com/wp-content/uploads/2022/06/wells-highschool-1-1.jpg
ORGANIZER;CN="Wells and Area Community Association":MAILTO:Wellsareacommunity@gmail.com
END:VEVENT
BEGIN:VEVENT
DTSTART;TZID=America/Vancouver:20220630T183000
DTEND;TZID=America/Vancouver:20220630T200000
DTSTAMP:20260424T210309
CREATED:20220627T184016Z
LAST-MODIFIED:20220627T184016Z
UID:10000616-1656613800-1656619200@whatsupinwells.com
SUMMARY:Wells High School Community Workshop 2 of 2
DESCRIPTION:Do you have insight about what it is like to live in Wells\, BC? You are invited to join a community workshop that will focus on values in the community of Wells. What makes Wells unique? \nWe want to hear from students\, families\, community members\, youth groups\, business owners\, and others. We will meet at the Community Hall and go on a short 20-minute walk around the community before having our discussion at the Hall (weather permitting). \nWe want to hear from you! If you have ideas\, thoughts\, or comments about the project\, please join in on the workshops. You are free to come to one or both of the workshops if you are interested.\n\nIf you are unable to attend a workshop\, but would still like to participate\, please email me at mcharg@unbc.ca. If you have any questions or concerns\, again\, please email me or comment on this post and I will get back to you promptly.
URL:https://whatsupinwells.com/event/wells-high-school-community-workshop-2-of-2/
LOCATION:Wells Community Hall\, 4269 Sanders Ave\, Wells\, BC\, V0K2R0\, Canada
CATEGORIES:Education,Wells
ATTACH;FMTTYPE=image/jpeg:https://whatsupinwells.com/wp-content/uploads/2022/06/wells-highschool-2.jpg
ORGANIZER;CN="Wells and Area Community Association":MAILTO:Wellsareacommunity@gmail.com
END:VEVENT
END:VCALENDAR