BEGIN:VCALENDAR
VERSION:2.0
PRODID:-//What&#039;s Up in Wells - ECPv6.15.20//NONSGML v1.0//EN
CALSCALE:GREGORIAN
METHOD:PUBLISH
X-ORIGINAL-URL:https://whatsupinwells.com
X-WR-CALDESC:Events for What&#039;s Up in Wells
REFRESH-INTERVAL;VALUE=DURATION:PT1H
X-Robots-Tag:noindex
X-PUBLISHED-TTL:PT1H
BEGIN:VTIMEZONE
TZID:America/Vancouver
BEGIN:DAYLIGHT
TZOFFSETFROM:-0800
TZOFFSETTO:-0700
TZNAME:PDT
DTSTART:20210314T100000
END:DAYLIGHT
BEGIN:STANDARD
TZOFFSETFROM:-0700
TZOFFSETTO:-0800
TZNAME:PST
DTSTART:20211107T090000
END:STANDARD
BEGIN:DAYLIGHT
TZOFFSETFROM:-0800
TZOFFSETTO:-0700
TZNAME:PDT
DTSTART:20220313T100000
END:DAYLIGHT
BEGIN:STANDARD
TZOFFSETFROM:-0700
TZOFFSETTO:-0800
TZNAME:PST
DTSTART:20221106T090000
END:STANDARD
BEGIN:DAYLIGHT
TZOFFSETFROM:-0800
TZOFFSETTO:-0700
TZNAME:PDT
DTSTART:20230312T100000
END:DAYLIGHT
BEGIN:STANDARD
TZOFFSETFROM:-0700
TZOFFSETTO:-0800
TZNAME:PST
DTSTART:20231105T090000
END:STANDARD
END:VTIMEZONE
BEGIN:VEVENT
DTSTART;TZID=America/Vancouver:20221029T133000
DTEND;TZID=America/Vancouver:20221029T150000
DTSTAMP:20260424T134252
CREATED:20221025T223807Z
LAST-MODIFIED:20221025T223807Z
UID:10000706-1667050200-1667055600@whatsupinwells.com
SUMMARY:Wells Student Workshops
DESCRIPTION:Are you a child\, youth\, or teen living in Wells\, BC? You are your parents/guardians are invited to join a community workshop to talk about what it is like to go to school in Wells and the transition to high school in Quesnel. \nThe workshop is part of a UNBC study that explores the vision of a potential high school in Wells. To attend\, please contact Christy McHarg at mcharg@unbc.ca
URL:https://whatsupinwells.com/event/wells-student-workshops/
LOCATION:Wells-Barkerville Community School\, Wells\, BC\, Canada
CATEGORIES:Education,Free
ATTACH;FMTTYPE=image/jpeg:https://whatsupinwells.com/wp-content/uploads/2022/10/youth-in-wells.jpg
ORGANIZER;CN="Wells and Area Community Association":MAILTO:Wellsareacommunity@gmail.com
END:VEVENT
END:VCALENDAR