BEGIN:VCALENDAR
VERSION:2.0
PRODID:-//What&#039;s Up in Wells - ECPv6.15.20//NONSGML v1.0//EN
CALSCALE:GREGORIAN
METHOD:PUBLISH
X-ORIGINAL-URL:https://whatsupinwells.com
X-WR-CALDESC:Events for What&#039;s Up in Wells
REFRESH-INTERVAL;VALUE=DURATION:PT1H
X-Robots-Tag:noindex
X-PUBLISHED-TTL:PT1H
BEGIN:VTIMEZONE
TZID:America/Vancouver
BEGIN:DAYLIGHT
TZOFFSETFROM:-0800
TZOFFSETTO:-0700
TZNAME:PDT
DTSTART:20220313T100000
END:DAYLIGHT
BEGIN:STANDARD
TZOFFSETFROM:-0700
TZOFFSETTO:-0800
TZNAME:PST
DTSTART:20221106T090000
END:STANDARD
BEGIN:DAYLIGHT
TZOFFSETFROM:-0800
TZOFFSETTO:-0700
TZNAME:PDT
DTSTART:20230312T100000
END:DAYLIGHT
BEGIN:STANDARD
TZOFFSETFROM:-0700
TZOFFSETTO:-0800
TZNAME:PST
DTSTART:20231105T090000
END:STANDARD
BEGIN:DAYLIGHT
TZOFFSETFROM:-0800
TZOFFSETTO:-0700
TZNAME:PDT
DTSTART:20240310T100000
END:DAYLIGHT
BEGIN:STANDARD
TZOFFSETFROM:-0700
TZOFFSETTO:-0800
TZNAME:PST
DTSTART:20241103T090000
END:STANDARD
END:VTIMEZONE
BEGIN:VEVENT
DTSTART;TZID=America/Vancouver:20230421T160000
DTEND;TZID=America/Vancouver:20230421T210000
DTSTAMP:20260424T030355
CREATED:20230418T174137Z
LAST-MODIFIED:20230418T174137Z
UID:10000828-1682092800-1682110800@whatsupinwells.com
SUMMARY:Wells Community Organizations Open House
DESCRIPTION:The Community Organizations Open House is this Friday from 4pm to 9pm! \nThere is a great lineup of participating community groups. The Wells – Barkerville Community Forest will be there to answer any and all of your questions\, especially about our upcoming expansion. And don’t forget about the food! \nWe can’t wait to see you all there!
URL:https://whatsupinwells.com/event/wells-community-organizations-open-house/
LOCATION:Wells Community Hall\, 4269 Sanders Ave\, Wells\, BC\, V0K2R0\, Canada
CATEGORIES:Education,Food,Free,Wells
ATTACH;FMTTYPE=image/jpeg:https://whatsupinwells.com/wp-content/uploads/2018/12/MG_0046.jpg
END:VEVENT
BEGIN:VEVENT
DTSTART;VALUE=DATE:20230422
DTEND;VALUE=DATE:20230424
DTSTAMP:20260424T030355
CREATED:20230125T053252Z
LAST-MODIFIED:20230125T054009Z
UID:10000743-1682136000-1682222399@whatsupinwells.com
SUMMARY:Unlock Your Family Story
DESCRIPTION:Is your family story locked in your accumulated documents and trees? Does your family ask for the stories? Then it’s time to pull it all together and publish that story! Participants engage in 14 hours of workshops and discussion facilitated by Brenda L Smith and Andrea Lister. \nTopics include: identifying the audience; choosing the right format; reviewing research\, putting words on the page; editing; legal necessities\, and assignments to get started. Working with their own materials\, and supporting each other\, participants discover how to move from gathering information to creating a publishable product. Participants will set goals for their research\, organize and evaluate their data\, and unlock their family story. \nIMA’s operational work is made possible through support from the Province of British Columbia\, The BC Arts Council\, and the Canada Council for the Arts.
URL:https://whatsupinwells.com/event/unlock-your-family-story/2023-04-22/
CATEGORIES:Arts,Education,Wells
ATTACH;FMTTYPE=image/jpeg:https://whatsupinwells.com/wp-content/uploads/2023/01/Family-Story.jpg
END:VEVENT
BEGIN:VEVENT
DTSTART;TZID=America/Vancouver:20230424T190000
DTEND;TZID=America/Vancouver:20230424T200000
DTSTAMP:20260424T030355
CREATED:20230418T174958Z
LAST-MODIFIED:20230418T174958Z
UID:10000830-1682362800-1682366400@whatsupinwells.com
SUMMARY:Wells Historical Society AGM
DESCRIPTION:Our AGM is coming up on Monday\, April 24 at 7pm in the Wells Hotel dining room! Hope to see you there!!
URL:https://whatsupinwells.com/event/wells-historical-society-agm-2/
LOCATION:The Wells Hotel\, 2341 Pooley St.\, Wells\, BC\, V0k2R0\, Canada
CATEGORIES:Education,Wells
ATTACH;FMTTYPE=image/jpeg:https://whatsupinwells.com/wp-content/uploads/2023/04/historical-society-agm.jpg
ORGANIZER;CN="Wells Historical Society":MAILTO:thewellsmuseum@gmail.com
END:VEVENT
BEGIN:VEVENT
DTSTART;VALUE=DATE:20230429
DTEND;VALUE=DATE:20230501
DTSTAMP:20260424T030355
CREATED:20230125T053252Z
LAST-MODIFIED:20230125T054009Z
UID:10000744-1682740800-1682827199@whatsupinwells.com
SUMMARY:Unlock Your Family Story
DESCRIPTION:Is your family story locked in your accumulated documents and trees? Does your family ask for the stories? Then it’s time to pull it all together and publish that story! Participants engage in 14 hours of workshops and discussion facilitated by Brenda L Smith and Andrea Lister. \nTopics include: identifying the audience; choosing the right format; reviewing research\, putting words on the page; editing; legal necessities\, and assignments to get started. Working with their own materials\, and supporting each other\, participants discover how to move from gathering information to creating a publishable product. Participants will set goals for their research\, organize and evaluate their data\, and unlock their family story. \nIMA’s operational work is made possible through support from the Province of British Columbia\, The BC Arts Council\, and the Canada Council for the Arts.
URL:https://whatsupinwells.com/event/unlock-your-family-story/2023-04-29/
CATEGORIES:Arts,Education,Wells
ATTACH;FMTTYPE=image/jpeg:https://whatsupinwells.com/wp-content/uploads/2023/01/Family-Story.jpg
END:VEVENT
END:VCALENDAR