BEGIN:VCALENDAR
VERSION:2.0
PRODID:-//What&#039;s Up in Wells - ECPv6.15.20//NONSGML v1.0//EN
CALSCALE:GREGORIAN
METHOD:PUBLISH
X-ORIGINAL-URL:https://whatsupinwells.com
X-WR-CALDESC:Events for What&#039;s Up in Wells
REFRESH-INTERVAL;VALUE=DURATION:PT1H
X-Robots-Tag:noindex
X-PUBLISHED-TTL:PT1H
BEGIN:VTIMEZONE
TZID:America/Vancouver
BEGIN:DAYLIGHT
TZOFFSETFROM:-0800
TZOFFSETTO:-0700
TZNAME:PDT
DTSTART:20220313T100000
END:DAYLIGHT
BEGIN:STANDARD
TZOFFSETFROM:-0700
TZOFFSETTO:-0800
TZNAME:PST
DTSTART:20221106T090000
END:STANDARD
BEGIN:DAYLIGHT
TZOFFSETFROM:-0800
TZOFFSETTO:-0700
TZNAME:PDT
DTSTART:20230312T100000
END:DAYLIGHT
BEGIN:STANDARD
TZOFFSETFROM:-0700
TZOFFSETTO:-0800
TZNAME:PST
DTSTART:20231105T090000
END:STANDARD
BEGIN:DAYLIGHT
TZOFFSETFROM:-0800
TZOFFSETTO:-0700
TZNAME:PDT
DTSTART:20240310T100000
END:DAYLIGHT
BEGIN:STANDARD
TZOFFSETFROM:-0700
TZOFFSETTO:-0800
TZNAME:PST
DTSTART:20241103T090000
END:STANDARD
END:VTIMEZONE
BEGIN:VEVENT
DTSTART;VALUE=DATE:20230701
DTEND;VALUE=DATE:20230711
DTSTAMP:20260423T200936
CREATED:20230620T150031Z
LAST-MODIFIED:20230620T150031Z
UID:10001001-1688184000-1688961599@whatsupinwells.com
SUMMARY:The Toni Onley Artist's Project w/ Ed Pien and Johannes Zits
DESCRIPTION:The Toni Onley Artist’s Project ⁠\nResidency for professional and emerging visual artists⁠\nDates: July 1st – 9th\, 2023\nLocation: Secwépemc and Dakelh Territory\, Wells\, BC\nCost: $605+gst – Accommodations\, Travel and Meals not included – Scholarships and Bursaries available\n⁠\nTOAP returns to Wells – Secwépemc and Dakelh Territory – this summer\, with mentors Ed Pien and Johannes Zits! ⁠\n⁠\nThe first TOAP was held over 20 years ago with distinguished Canadian artist Norman Yates (1923-2014)\, and has grown to become an impactful visual artist development program for those who have taken part in it. From July 1st – 9th\, participating artists work in the IMA studios under the mentorship of senior artists. It is an intensive studio experience\, valuable for those looking for less structured time for set activities and more space to develop their own work. ⁠\nMore info on the mentors here:\nwww.imarts.com/about-toap\nApply here: https://airtable.com/shrWMYDhzHZukOds3\nMore info on scholarships and bursaries here: www.imarts.com/scholarships-bursaries\n⁠\nQuestions about the application process? Please send us an email at toap@imarts.com.⁠\n⁠\nJohannes and Ed’s work is made possible through support from the Canada Council for the Arts. ⁠
URL:https://whatsupinwells.com/event/the-toni-onley-artists-project-w-ed-pien-and-johannes-zits/
CATEGORIES:Arts,Education,Wells
ATTACH;FMTTYPE=image/jpeg:https://whatsupinwells.com/wp-content/uploads/2023/06/toni-onley.jpg
END:VEVENT
BEGIN:VEVENT
DTSTART;TZID=America/Vancouver:20230709T180000
DTEND;TZID=America/Vancouver:20230709T200000
DTSTAMP:20260423T200936
CREATED:20230604T165626Z
LAST-MODIFIED:20230604T165930Z
UID:10000968-1688925600-1688932800@whatsupinwells.com
SUMMARY:Trivia Night: the Wells of Knowledge
DESCRIPTION:Join us for weekly trivia hosted by local writer\, actor\, and generally entertaining guy\, Ryan Schmitt.
URL:https://whatsupinwells.com/event/trivia-night-the-wells-of-knowledge/2023-07-09/
LOCATION:The Wells Hotel\, 2341 Pooley St.\, Wells\, BC\, V0k2R0\, Canada
CATEGORIES:Education,Free,Theatre,Wells
ATTACH;FMTTYPE=image/jpeg:https://whatsupinwells.com/wp-content/uploads/2023/05/trivia-night.jpg
END:VEVENT
BEGIN:VEVENT
DTSTART;VALUE=DATE:20230712
DTEND;VALUE=DATE:20230716
DTSTAMP:20260423T200936
CREATED:20230708T180425Z
LAST-MODIFIED:20230708T180445Z
UID:10001291-1689134400-1689393599@whatsupinwells.com
SUMMARY:Happy Trails│Biking kids Camp W/ Jasper Wrinch and Amanda Preston
DESCRIPTION:Kids Nature Camps are supported by the Wells-Barkerville Community Forest and the Province of British Columbia. \nWith a world-class network of trails just steps away\, it’s time to take in and take on the trails like you never have before! Throughout this course\, participants will not only advance their knowledge of bike riding and safety\, they will get a chance to explore how the many trails surrounding Wells can be rediscovered through the lens of cycling and active travel. This program will dive into bike handling skills\, basic bike maintenance\, and mechanics\, trail riding and mapping\, and help develop a deeper relationship with the community trails with the confidence to ride them. \nAges 6-14\nMeeting at Wells-Barkerville school field at 9:00 am each day. \nPlease bring your own bike and helmet. \nREGISTER AT: https://support-imarts.com/tickets-registration/happytrails \nGOALS AND OUTCOMES:\n● Demonstrate the ability to ride a bicycle safely and in a variety of terrains\n● Responsibly and safely interact with the trail system\, trail users\, and surrounding ecosystems\n● Develop an understanding of the many ways in which we can interact with and use the Wells Trail system \nWHO ARE THE INSTRUCTORS? \nJASPER WRINCH:\nJasper Wrinch is a musician and writer living and working out of Nex̱wlélex̱m\, in the Squamish\, Musqueam and Tseil-Waututh territories. Having visited Wells a number of times through music and film over the last six years\, Jasper has taken on the role of Island Mountain Arts’ Coordinator for Youth Recreational and Leisure Activities for the summer of 2023. In addition to the Youth Film Scoring Workshop he ran with filmmaker Sarah Genge in winter 2021 through IMA\, Jasper has worked with youth in various organizations and roles all over the province\, including instructing at Gavin Lake Forest Education Society\, HUB Cycling’s Bike Education programs\, presenting for BC Schizophrenia Society’s ReachOut Psychosis program\, and privately tutoring school-aged youth in a number of subjects. Jasper is looking forward to getting to know the Wells youth and to work with artists and community members for an exciting summer at IMA. \nAMANDA PRESTON:\nAmanda Lynne is not a musical instrument or a sharp kitchen implement contrary to what her name would lead you to believe. She’s an artist/creator who primarily works with oil paints and\nsurrealism-based art concepts\, but really enjoys anything that has a foundation in the arts. In Wells\, she’s found the inspiration to create in ways she wouldn’t have otherwise considered\, due to the environment and way of life the town provides.
URL:https://whatsupinwells.com/event/happy-trails%e2%94%82biking-kids-camp-w-jasper-wrinch-and-amanda-preston/
CATEGORIES:Education,Outdoor Recreation,Wells
ATTACH;FMTTYPE=image/jpeg:https://whatsupinwells.com/wp-content/uploads/2023/07/kids-bike-camp.jpg
END:VEVENT
BEGIN:VEVENT
DTSTART;TZID=America/Vancouver:20230716T180000
DTEND;TZID=America/Vancouver:20230716T190000
DTSTAMP:20260423T200936
CREATED:20230708T175043Z
LAST-MODIFIED:20230708T181714Z
UID:10001016-1689530400-1689534000@whatsupinwells.com
SUMMARY:Rock Talks with Last Ditch Mining
DESCRIPTION:Join local miner and and geological enthusiastic Ian Douglas of Last Ditch Mining for a show and tell of rock samples and old stories from the region’s vast geological territory. Every second Sunday\, 6pm – 7pm in the Wells Hotel Lounge. Admission by donation. Minors must be accompanied by an adult guardian. \nJuly 16th\, July 30th\, August 13\, August 27 \nLearn more about Last Ditch Mining at lastditchmining.ca
URL:https://whatsupinwells.com/event/rock-talks-with-last-ditch-mining/2023-07-16/
LOCATION:The Wells Hotel\, 2341 Pooley St.\, Wells\, BC\, V0k2R0\, Canada
CATEGORIES:Education,Free,Wells
ATTACH;FMTTYPE=image/jpeg:https://whatsupinwells.com/wp-content/uploads/2023/07/rock-talks.jpg
END:VEVENT
BEGIN:VEVENT
DTSTART;TZID=America/Vancouver:20230719T170000
DTEND;TZID=America/Vancouver:20230719T200000
DTSTAMP:20260423T200936
CREATED:20230716T164737Z
LAST-MODIFIED:20230716T164903Z
UID:10001296-1689786000-1689796800@whatsupinwells.com
SUMMARY:In-Person Open House Cariboo Gold Project
DESCRIPTION:Osisko Development Corp. is proposing the Cariboo Gold project\, an underground mine project near Wells\, BC. The EAP is holding a public comment period on the draft materials to be provided to Ministers to make the decision on whether or not to allow the project to proceed. \nLearn more about the project and tell us what is important to you: \ngov.bc.ca/EAOPublicComments \nIn-Person Open House\nJuly 19\, 2023\n5:00 pm – 7:00 pm Open House\n7:00 pm – 8:00 pm Panel discussion\nWells Community Hall\, 4269 Sanders Ave\, Wells\, BC \nInfo Session (Zoom)\nJuly 25\, 2023\n5:00 pm to 7:00 pm PDT\nRegister at: gov.bc.ca/EAOPublicComments
URL:https://whatsupinwells.com/event/in-person-open-house-cariboo-gold-project/
LOCATION:Wells Community Hall\, 4269 Sanders Ave\, Wells\, BC\, V0K2R0\, Canada
CATEGORIES:Education,Free,Wells
ATTACH;FMTTYPE=application/pdf:https://whatsupinwells.com/wp-content/uploads/2023/07/EAO_Cariboo_Gold_Project_Effects_assessment_Newspaper_Ad_9.875x6.pdf
END:VEVENT
BEGIN:VEVENT
DTSTART;VALUE=DATE:20230722
DTEND;VALUE=DATE:20230725
DTSTAMP:20260423T200936
CREATED:20230708T175743Z
LAST-MODIFIED:20230708T175743Z
UID:10001021-1689998400-1690171199@whatsupinwells.com
SUMMARY:Painting on Assemblage with Stefanie Denz
DESCRIPTION:Location: Wells-Barkerville School\, Outdoors if fair-weather\, 2nd-floor studios if foul weather. \nCost: $90.00 + GST Early Bird to July 8th\, $120.00 + GST Regular\nScholarships and Discounts for IMA members are available. \nJoin as a team of two – save 20%! – Please put the second person’s name in the additional details box on the pop-up form! \nUsing found materials (wood\, metal\, plastic\, and other bits and bobs) workshop participants will work together to make a semi 3D surface for a unique painting experience. Workshop facilitator Stefanie Denz will support each student at their level\, and guide them to new artistic possibilities on their creative path! \nStudents will receive in-session support to develop their ideas as they bring them to a two-dimensional surface. Process and techniques are also discussed\, individually and in group critiques. \nParticipants are encouraged to bring their desired painting materials and brushes. IMA will have a selection of paints and brushes of varying integrity on hand for communal use\, as well as found materials\, drills\, and hardware for assembling. \nRegister now: https://support-imarts.com/tickets-registration/painting-on-assemblage?fbclid=IwAR3ERU5GPqcb5gL48TwuIvbxCkjMQtKr0axrHYt_dYRQazVOdIIUdQQQnSg
URL:https://whatsupinwells.com/event/painting-on-assemblage-with-stefanie-denz/
LOCATION:Island Mountain Arts Studios\, Mildred Ave\, Wells\, V0K 2R0
CATEGORIES:Arts,Education,Wells
ATTACH;FMTTYPE=image/jpeg:https://whatsupinwells.com/wp-content/uploads/2023/07/assemblage.jpg
END:VEVENT
BEGIN:VEVENT
DTSTART;TZID=America/Vancouver:20230723T180000
DTEND;TZID=America/Vancouver:20230723T200000
DTSTAMP:20260423T200936
CREATED:20230604T165626Z
LAST-MODIFIED:20230604T165930Z
UID:10000969-1690135200-1690142400@whatsupinwells.com
SUMMARY:Trivia Night: the Wells of Knowledge
DESCRIPTION:Join us for weekly trivia hosted by local writer\, actor\, and generally entertaining guy\, Ryan Schmitt.
URL:https://whatsupinwells.com/event/trivia-night-the-wells-of-knowledge/2023-07-23/
LOCATION:The Wells Hotel\, 2341 Pooley St.\, Wells\, BC\, V0k2R0\, Canada
CATEGORIES:Education,Free,Theatre,Wells
ATTACH;FMTTYPE=image/jpeg:https://whatsupinwells.com/wp-content/uploads/2023/05/trivia-night.jpg
END:VEVENT
BEGIN:VEVENT
DTSTART;TZID=America/Vancouver:20230730T180000
DTEND;TZID=America/Vancouver:20230730T190000
DTSTAMP:20260423T200936
CREATED:20230708T175043Z
LAST-MODIFIED:20230708T181714Z
UID:10001017-1690740000-1690743600@whatsupinwells.com
SUMMARY:Rock Talks with Last Ditch Mining
DESCRIPTION:Join local miner and and geological enthusiastic Ian Douglas of Last Ditch Mining for a show and tell of rock samples and old stories from the region’s vast geological territory. Every second Sunday\, 6pm – 7pm in the Wells Hotel Lounge. Admission by donation. Minors must be accompanied by an adult guardian. \nJuly 16th\, July 30th\, August 13\, August 27 \nLearn more about Last Ditch Mining at lastditchmining.ca
URL:https://whatsupinwells.com/event/rock-talks-with-last-ditch-mining/2023-07-30/
LOCATION:The Wells Hotel\, 2341 Pooley St.\, Wells\, BC\, V0k2R0\, Canada
CATEGORIES:Education,Free,Wells
ATTACH;FMTTYPE=image/jpeg:https://whatsupinwells.com/wp-content/uploads/2023/07/rock-talks.jpg
END:VEVENT
END:VCALENDAR