BEGIN:VCALENDAR
VERSION:2.0
PRODID:-//What&#039;s Up in Wells - ECPv6.15.20//NONSGML v1.0//EN
CALSCALE:GREGORIAN
METHOD:PUBLISH
X-ORIGINAL-URL:https://whatsupinwells.com
X-WR-CALDESC:Events for What&#039;s Up in Wells
REFRESH-INTERVAL;VALUE=DURATION:PT1H
X-Robots-Tag:noindex
X-PUBLISHED-TTL:PT1H
BEGIN:VTIMEZONE
TZID:America/Vancouver
BEGIN:DAYLIGHT
TZOFFSETFROM:-0800
TZOFFSETTO:-0700
TZNAME:PDT
DTSTART:20230312T100000
END:DAYLIGHT
BEGIN:STANDARD
TZOFFSETFROM:-0700
TZOFFSETTO:-0800
TZNAME:PST
DTSTART:20231105T090000
END:STANDARD
BEGIN:DAYLIGHT
TZOFFSETFROM:-0800
TZOFFSETTO:-0700
TZNAME:PDT
DTSTART:20240310T100000
END:DAYLIGHT
BEGIN:STANDARD
TZOFFSETFROM:-0700
TZOFFSETTO:-0800
TZNAME:PST
DTSTART:20241103T090000
END:STANDARD
BEGIN:DAYLIGHT
TZOFFSETFROM:-0800
TZOFFSETTO:-0700
TZNAME:PDT
DTSTART:20250309T100000
END:DAYLIGHT
BEGIN:STANDARD
TZOFFSETFROM:-0700
TZOFFSETTO:-0800
TZNAME:PST
DTSTART:20251102T090000
END:STANDARD
END:VTIMEZONE
BEGIN:VEVENT
DTSTART;TZID=America/Vancouver:20240504T180000
DTEND;TZID=America/Vancouver:20240504T230000
DTSTAMP:20260424T210859
CREATED:20240418T183917Z
LAST-MODIFIED:20240418T183917Z
UID:10001989-1714845600-1714863600@whatsupinwells.com
SUMMARY:Toil & Trouble II: a Women's Mini Sips Fest
DESCRIPTION:Toil & Trouble is back for its 2nd installment! Join us for a small but mighty gathering of northern craft breweries\, cideries\, and wineries that empower women at the ownership\, management\, and brewmaster level. Toil and Trouble aims to provide a safe and supportive atmosphere for craft beer enthusiasts in BC’s rural north. It is a women-centred event but open to all participants 19+ years of age. \nWhat’s included in your ticket: \n\n12 x 4-oz samples from participating vendors\nA taco buffet dinner\nA souvenir Wells Hotel glencairn crystal tasting glass\nAn exciting historic venue\, with 6\,000 sq ft of space\, three crackling fireplaces\, and plenty of cozy seating\nIf the sun is shining\, a big south-facing patio to enjoy!\n\nParticipating drink makers: \n\nBarkerville Brewing\nDeadfall Brewing\nThree Ranges Brewing\nSlaughterhouse Cider\nNorthern Lights Estate Winery\n\nWhat you need to participate: \n\nA ticket (only 55 available)\nA place to stay in Wells or a designated driver (proof must be provided to enter the event)\nA commitment to our Code of Conduct\, requiring a harassment-free environment for all\n\nAccommodation options: \n\nThe Wells Hotel: https://wellshotel.com/\nThe White Caps Motel: https://whitecapmotel.godaddysites.com/\nHistoric Stays in Wells: https://www.stayinwells.ca/
URL:https://whatsupinwells.com/event/toil-trouble-ii-a-womens-mini-sips-fest/
LOCATION:The Wells Hotel\, 2341 Pooley St.\, Wells\, BC\, V0k2R0\, Canada
CATEGORIES:19+,Food,Wells
ATTACH;FMTTYPE=image/png:https://whatsupinwells.com/wp-content/uploads/2024/04/Happy-Hour-Beer-Flyer-1.png
END:VEVENT
END:VCALENDAR