BEGIN:VCALENDAR
VERSION:2.0
PRODID:-//What&#039;s Up in Wells - ECPv6.15.20//NONSGML v1.0//EN
CALSCALE:GREGORIAN
METHOD:PUBLISH
X-ORIGINAL-URL:https://whatsupinwells.com
X-WR-CALDESC:Events for What&#039;s Up in Wells
REFRESH-INTERVAL;VALUE=DURATION:PT1H
X-Robots-Tag:noindex
X-PUBLISHED-TTL:PT1H
BEGIN:VTIMEZONE
TZID:America/Vancouver
BEGIN:DAYLIGHT
TZOFFSETFROM:-0800
TZOFFSETTO:-0700
TZNAME:PDT
DTSTART:20240310T100000
END:DAYLIGHT
BEGIN:STANDARD
TZOFFSETFROM:-0700
TZOFFSETTO:-0800
TZNAME:PST
DTSTART:20241103T090000
END:STANDARD
BEGIN:DAYLIGHT
TZOFFSETFROM:-0800
TZOFFSETTO:-0700
TZNAME:PDT
DTSTART:20250309T100000
END:DAYLIGHT
BEGIN:STANDARD
TZOFFSETFROM:-0700
TZOFFSETTO:-0800
TZNAME:PST
DTSTART:20251102T090000
END:STANDARD
BEGIN:DAYLIGHT
TZOFFSETFROM:-0800
TZOFFSETTO:-0700
TZNAME:PDT
DTSTART:20260308T100000
END:DAYLIGHT
BEGIN:STANDARD
TZOFFSETFROM:-0700
TZOFFSETTO:-0800
TZNAME:PST
DTSTART:20261101T090000
END:STANDARD
END:VTIMEZONE
BEGIN:VEVENT
DTSTART;TZID=America/Vancouver:20250201T170000
DTEND;TZID=America/Vancouver:20250201T200000
DTSTAMP:20260424T051330
CREATED:20250117T034637Z
LAST-MODIFIED:20250117T034637Z
UID:10003502-1738429200-1738440000@whatsupinwells.com
SUMMARY:2025 Lunar New Year Tasting Menu
DESCRIPTION:Each year we celebrate the Lunar New Year and the Mid Autumn Moon Festival to honour the rich Chinese history of our community. In the past\, we’ve hosted our popular buffet dinners\, but this year we’re doing something a little different to bring some Chinese delicacies to the table. \nThe 2025 Lunar New Year Tasting Menu features a six-course dinner of house-made traditional Chinese dishes in tasting-size portions. \nThe Menu:\n葱油饼 Scallion Pancake\n凉面 Cold Noodle Salad\n酸辣汤 Hot and Sour Soup\n燒賣 Shrimp and Pork Dumpling\n北京烤鸭 Peking Duck\n芒果布甸 Mango Pudding \nCelebrate the Year of the Snake with food experience that makes for a great date night\, or friends and family gathering. The snake brings with it wisdom\, transformation\, calmness and creativity. \n$45 per person. No tickets or pre-payment required\, but reservations highly recommended to guarantee availability of the tasting menu.\nOur regular menu will also be on offer during this time
URL:https://whatsupinwells.com/event/2025-lunar-new-year-tasting-menu/2025-02-01/
LOCATION:The Wells Hotel\, 2341 Pooley St.\, Wells\, BC\, V0k2R0\, Canada
CATEGORIES:Food,Wells
ATTACH;FMTTYPE=image/png:https://whatsupinwells.com/wp-content/uploads/2025/01/2025-Lunar-New-Year.png
END:VEVENT
BEGIN:VEVENT
DTSTART;TZID=America/Vancouver:20250202T170000
DTEND;TZID=America/Vancouver:20250202T200000
DTSTAMP:20260424T051330
CREATED:20250117T034637Z
LAST-MODIFIED:20250117T034637Z
UID:10003503-1738515600-1738526400@whatsupinwells.com
SUMMARY:2025 Lunar New Year Tasting Menu
DESCRIPTION:Each year we celebrate the Lunar New Year and the Mid Autumn Moon Festival to honour the rich Chinese history of our community. In the past\, we’ve hosted our popular buffet dinners\, but this year we’re doing something a little different to bring some Chinese delicacies to the table. \nThe 2025 Lunar New Year Tasting Menu features a six-course dinner of house-made traditional Chinese dishes in tasting-size portions. \nThe Menu:\n葱油饼 Scallion Pancake\n凉面 Cold Noodle Salad\n酸辣汤 Hot and Sour Soup\n燒賣 Shrimp and Pork Dumpling\n北京烤鸭 Peking Duck\n芒果布甸 Mango Pudding \nCelebrate the Year of the Snake with food experience that makes for a great date night\, or friends and family gathering. The snake brings with it wisdom\, transformation\, calmness and creativity. \n$45 per person. No tickets or pre-payment required\, but reservations highly recommended to guarantee availability of the tasting menu.\nOur regular menu will also be on offer during this time
URL:https://whatsupinwells.com/event/2025-lunar-new-year-tasting-menu/2025-02-02/
LOCATION:The Wells Hotel\, 2341 Pooley St.\, Wells\, BC\, V0k2R0\, Canada
CATEGORIES:Food,Wells
ATTACH;FMTTYPE=image/png:https://whatsupinwells.com/wp-content/uploads/2025/01/2025-Lunar-New-Year.png
END:VEVENT
BEGIN:VEVENT
DTSTART;TZID=America/Vancouver:20250215T100000
DTEND;TZID=America/Vancouver:20250215T170000
DTSTAMP:20260424T051330
CREATED:20250117T012211Z
LAST-MODIFIED:20250117T012211Z
UID:10003498-1739613600-1739638800@whatsupinwells.com
SUMMARY:International Gourmet Ski Tour
DESCRIPTION:FEBRUARY 15 2025\nDon’t miss out on the fun! The Wells International Gourmet Ski has been extremely popular family fun cross-country ski and snowshoe event for over 15 years. It is routinely sold out. Mark FEBRUARY 15\, 2025 on your calendar now.\nRegistration for the 2025 International Gourmet Ski will open in early January. Watch for posts on our website or this Facebook page for further details. if you are not on our mailing list sign up on the WATS website (www.wellstrails.ca ) to receive our updates.\nSEE YOU IN FEBRUARY!!
URL:https://whatsupinwells.com/event/international-gourmet-ski-tour/
LOCATION:BC
CATEGORIES:Food,Outdoor Recreation,Wells
ATTACH;FMTTYPE=image/jpeg:https://whatsupinwells.com/wp-content/uploads/2025/01/ski-tour.jpg
ORGANIZER;CN="Wells and Area Trails Society":MAILTO:wellstrails@gmail.com
END:VEVENT
END:VCALENDAR