BEGIN:VCALENDAR
VERSION:2.0
PRODID:-//What&#039;s Up in Wells - ECPv6.15.20//NONSGML v1.0//EN
CALSCALE:GREGORIAN
METHOD:PUBLISH
X-WR-CALNAME:What&#039;s Up in Wells
X-ORIGINAL-URL:https://whatsupinwells.com
X-WR-CALDESC:Events for What&#039;s Up in Wells
REFRESH-INTERVAL;VALUE=DURATION:PT1H
X-Robots-Tag:noindex
X-PUBLISHED-TTL:PT1H
BEGIN:VTIMEZONE
TZID:America/Vancouver
BEGIN:DAYLIGHT
TZOFFSETFROM:-0800
TZOFFSETTO:-0700
TZNAME:PDT
DTSTART:20240310T100000
END:DAYLIGHT
BEGIN:STANDARD
TZOFFSETFROM:-0700
TZOFFSETTO:-0800
TZNAME:PST
DTSTART:20241103T090000
END:STANDARD
BEGIN:DAYLIGHT
TZOFFSETFROM:-0800
TZOFFSETTO:-0700
TZNAME:PDT
DTSTART:20250309T100000
END:DAYLIGHT
BEGIN:STANDARD
TZOFFSETFROM:-0700
TZOFFSETTO:-0800
TZNAME:PST
DTSTART:20251102T090000
END:STANDARD
BEGIN:DAYLIGHT
TZOFFSETFROM:-0800
TZOFFSETTO:-0700
TZNAME:PDT
DTSTART:20260308T100000
END:DAYLIGHT
BEGIN:STANDARD
TZOFFSETFROM:-0700
TZOFFSETTO:-0800
TZNAME:PST
DTSTART:20261101T090000
END:STANDARD
END:VTIMEZONE
BEGIN:VEVENT
DTSTART;TZID=America/Vancouver:20250505T180000
DTEND;TZID=America/Vancouver:20250505T200000
DTSTAMP:20260423T222333
CREATED:20250426T001619Z
LAST-MODIFIED:20250426T001736Z
UID:10003524-1746468000-1746475200@whatsupinwells.com
SUMMARY:Taste of Mexico: Cinco de Mayo
DESCRIPTION:After a month on the road touring our Culinary Collaboration series in the Cariboo\, we’re bringing it home to Wells! Following three fantastic sold-out events in Quesnel and Prince George\, we’re excited to offer a 4th opportunity to enjoy this special series this spring. \nTaste of Mexico: Cinco de Mayo is a unique food and beverage event featuring a six-part food tasting menu served with a three-part drink pairing (alcoholic and non-alcoholic options available). It’s a journey of flavour\, discovery\, and community\, and a celebration of food culture around the world. Our homage to Mexico holds a special place in our cook Jillian’s heart; think of it as her culinary love letter to a country she keeps coming back to. \nThe Menu:\n* Hors d’ouevre: ceviche in endive\n* Soup: pozole rojo\n* Appetizer: tostada con carne\n* Salad: esquites\n* Main: pork al pastor with rice and black bean mole\n* Dessert: tres leches cake \n*IMPORTANT* this is a set menu event. Substitutions and alternatives to the food menu will not be available. \nWhen: Saturday\, May 5th starting at 6:00 pm\nWhere: The Wells Hotel\, 2341 Pooley St.\, Wells\, BC\nWhat’s Included: Six food courses with drink pairings\nThe Price: $60 per person \nTickets are limited and available for purchase online or at the Wells Hotel. The Hotel is offering 25% off rooms for out-of-town guests for the evening. \nDue to the advanced planning required to prepare for the event\, tickets may not be available at the door.
URL:https://whatsupinwells.com/event/taste-of-mexico-cinco-de-mayo/
LOCATION:The Wells Hotel\, 2341 Pooley St.\, Wells\, BC\, V0k2R0\, Canada
CATEGORIES:Food,Wells
ATTACH;FMTTYPE=image/png:https://whatsupinwells.com/wp-content/uploads/2025/04/Taste-of-Mexico-May-5.png
END:VEVENT
BEGIN:VEVENT
DTSTART;TZID=America/Vancouver:20250511T080000
DTEND;TZID=America/Vancouver:20250511T140000
DTSTAMP:20260423T222333
CREATED:20250426T001236Z
LAST-MODIFIED:20250426T001236Z
UID:10003523-1746950400-1746972000@whatsupinwells.com
SUMMARY:Mother's Day Brunch
DESCRIPTION:Join us for a Sunday Brunch at the Wells Hotel\, special for the Mother’s Day holiday. \nMother’s Day Brunch Menu \n\nAvocado Toast $12\nLocally made sourdough with avocado\, feta\, scallions\, hemp hearts\, and sriracha.\nBenedict Pizza $20\n10” house-made pizza crust topped with tomato sauce\, ham\, spinach\, mozzarella\, soft poached eggs and hollandaise sauce.\nCroissant French Toast $16\nButtery croissants dipped in custard and seared until golden brown\, served with strawberry compote\, whipped cream\, and chocolate sauce.\nBreakfast BLT $16\nA fried egg\, two slices of thick-cut bacon\, lettuce\, tomato\, and mayo on a toasted brioche bun\, served with home-style hash browns.\nHuevos Rancheros $16\nTwo fried eggs served on crispy corn tortillas with savoury black beans\, avocado\, pickled onions\, house-made salsa\, feta\, and crema dressing.\nMiner’s Breakfast $17\nTwo eggs any style\, two-piece bacon\, and house-made molasses baked beans\, served with home-style hash browns.\n\nSmoothies \n\nMango Matcha $9\nMango\, pineapple\, spinach\, matcha\nWinter Wakeup $9\nBlueberry\, banana\, oats\, almond butter\nChunky Monkey $8\nBanana\, peanut butter\, cocoa\n\nSides \n\nHome-Style Hash Browns $5\nTwo-Piece Toast and Jam $4\nTwo Eggs\, Any Style $4\nTwo-Piece Thick-Cut Bacon $4\nMolasses Baked Beans $6\nSliced Orange $4\nSliced Avocado $4
URL:https://whatsupinwells.com/event/mothers-day-brunch-2/
LOCATION:The Wells Hotel\, 2341 Pooley St.\, Wells\, BC\, V0k2R0\, Canada
CATEGORIES:Food,Wells
ATTACH;FMTTYPE=image/png:https://whatsupinwells.com/wp-content/uploads/2025/04/Navy-Blue-Floral-Mothers-Day-Brunch-Invitation.png
END:VEVENT
BEGIN:VEVENT
DTSTART;TZID=America/Vancouver:20250525T110000
DTEND;TZID=America/Vancouver:20250525T130000
DTSTAMP:20260423T222333
CREATED:20250514T032339Z
LAST-MODIFIED:20250514T032339Z
UID:10003527-1748170800-1748178000@whatsupinwells.com
SUMMARY:Taste of Middle Earth: a Tolkien-Inspired Feast
DESCRIPTION:Take a culinary journey to Middle Earth with a six-course brunch menu inspired by Tolkien\, matched with a three-part drink pairing by host Peter Corbett (alcoholic and non-alcoholic options available). Our host will provide a small reading of a Tolkien passage with each meal and tell the story of the Studio’s connection to Tolkien himself. Middle-Earth attire is encouraged!\nThis mid-day feast event at the St. George Studio in Wells is our final installment of the Spring Cariboo Culinary Collaboration series\, where we traveled the Cariboo to collaborate with other small business to provided unique food and drink experiences in new venues. \nThe Menu:\nComing soon! Expect flavours of the Middle-Earth\, including mushrooms\, lamb\, fish\, root vegetables\, potatoes\, pastries\, honey\, apples\, berries\, and more. \n*IMPORTANT* this is a set menu event. Substitutions and alternatives to the food menu will not be available. \nWhen: Sunday\, May 25th starting at 11:00 am\nWhere: The St. George Studio\, 2303 Bowman Cres\, Wells\, BC\nWhat’s Included: Six food courses with drink pairings\nThe Price: $60 + GST per person \nTickets are limited and available for purchase online or at the Wells Hotel. \nDue to the advanced planning required to prepare for the event\, tickets may not be available at the door.
URL:https://whatsupinwells.com/event/taste-of-middle-earth-a-tolkien-inspired-feast/
LOCATION:St. George Studio\, 2303 Bowman Cres\, Wells\, BC\, V0K2R0\, Canada
CATEGORIES:Arts,Food,Wells
ATTACH;FMTTYPE=image/png:https://whatsupinwells.com/wp-content/uploads/2025/05/Taste-of-Tolkien.png
END:VEVENT
END:VCALENDAR