BEGIN:VCALENDAR
VERSION:2.0
PRODID:-//What&#039;s Up in Wells - ECPv6.15.20//NONSGML v1.0//EN
CALSCALE:GREGORIAN
METHOD:PUBLISH
X-ORIGINAL-URL:https://whatsupinwells.com
X-WR-CALDESC:Events for What&#039;s Up in Wells
REFRESH-INTERVAL;VALUE=DURATION:PT1H
X-Robots-Tag:noindex
X-PUBLISHED-TTL:PT1H
BEGIN:VTIMEZONE
TZID:America/Vancouver
BEGIN:DAYLIGHT
TZOFFSETFROM:-0800
TZOFFSETTO:-0700
TZNAME:PDT
DTSTART:20240310T100000
END:DAYLIGHT
BEGIN:STANDARD
TZOFFSETFROM:-0700
TZOFFSETTO:-0800
TZNAME:PST
DTSTART:20241103T090000
END:STANDARD
BEGIN:DAYLIGHT
TZOFFSETFROM:-0800
TZOFFSETTO:-0700
TZNAME:PDT
DTSTART:20250309T100000
END:DAYLIGHT
BEGIN:STANDARD
TZOFFSETFROM:-0700
TZOFFSETTO:-0800
TZNAME:PST
DTSTART:20251102T090000
END:STANDARD
BEGIN:DAYLIGHT
TZOFFSETFROM:-0800
TZOFFSETTO:-0700
TZNAME:PDT
DTSTART:20260308T100000
END:DAYLIGHT
BEGIN:STANDARD
TZOFFSETFROM:-0700
TZOFFSETTO:-0800
TZNAME:PST
DTSTART:20261101T090000
END:STANDARD
END:VTIMEZONE
BEGIN:VEVENT
DTSTART;TZID=America/Vancouver:20250907T180000
DTEND;TZID=America/Vancouver:20250907T200000
DTSTAMP:20260423T150601
CREATED:20250814T165059Z
LAST-MODIFIED:20250814T165059Z
UID:10003650-1757268000-1757275200@whatsupinwells.com
SUMMARY:End of Season Picnic Party
DESCRIPTION:FREE FOOD! New we say more? We love this little community and the incredible effort everyone puts in to host a stellar summer visitor season. As the leaves begin to change and many of our seasonal residents say farewell\, we’d like break bread and host our friends\, neighbours\, and guests for an end-of-season picnic party. \nJoin us in the Wells Hotel courtyard (or inside if it rains) for a gathering to celebrate our hospitality and culture community.
URL:https://whatsupinwells.com/event/end-of-season-picnic-party/
LOCATION:The Wells Hotel\, 2341 Pooley St.\, Wells\, BC\, V0k2R0\, Canada
CATEGORIES:Food,Free,Outdoor Recreation,Wells
ATTACH;FMTTYPE=image/png:https://whatsupinwells.com/wp-content/uploads/2025/08/Red-and-Black-Retro-BBQ-Party-Event-Flyer.png
END:VEVENT
END:VCALENDAR