BEGIN:VCALENDAR
VERSION:2.0
PRODID:-//What&#039;s Up in Wells - ECPv6.15.20//NONSGML v1.0//EN
CALSCALE:GREGORIAN
METHOD:PUBLISH
X-WR-CALNAME:What&#039;s Up in Wells
X-ORIGINAL-URL:https://whatsupinwells.com
X-WR-CALDESC:Events for What&#039;s Up in Wells
REFRESH-INTERVAL;VALUE=DURATION:PT1H
X-Robots-Tag:noindex
X-PUBLISHED-TTL:PT1H
BEGIN:VTIMEZONE
TZID:America/Vancouver
BEGIN:DAYLIGHT
TZOFFSETFROM:-0800
TZOFFSETTO:-0700
TZNAME:PDT
DTSTART:20250309T100000
END:DAYLIGHT
BEGIN:STANDARD
TZOFFSETFROM:-0700
TZOFFSETTO:-0800
TZNAME:PST
DTSTART:20251102T090000
END:STANDARD
BEGIN:DAYLIGHT
TZOFFSETFROM:-0800
TZOFFSETTO:-0700
TZNAME:PDT
DTSTART:20260308T100000
END:DAYLIGHT
BEGIN:STANDARD
TZOFFSETFROM:-0700
TZOFFSETTO:-0800
TZNAME:PST
DTSTART:20261101T090000
END:STANDARD
BEGIN:DAYLIGHT
TZOFFSETFROM:-0800
TZOFFSETTO:-0700
TZNAME:PDT
DTSTART:20270314T100000
END:DAYLIGHT
BEGIN:STANDARD
TZOFFSETFROM:-0700
TZOFFSETTO:-0800
TZNAME:PST
DTSTART:20271107T090000
END:STANDARD
END:VTIMEZONE
BEGIN:VEVENT
DTSTART;VALUE=DATE:20260214
DTEND;VALUE=DATE:20260216
DTSTAMP:20260423T065750
CREATED:20260124T022846Z
LAST-MODIFIED:20260124T022846Z
UID:10004126-1771041600-1771127999@whatsupinwells.com
SUMMARY:2026 Wells International Gourmet Ski
DESCRIPTION:Welcome back to the Gourmet Ski — Valentines Edition! 😍 \nBring your skis\, taste buds and if you feel like it\, clever\, silly costumes! Mother nature has already started to lay down a bed of snow so we’ll have the trail network all groomed up and ready for the bighearted day. The chefs are making their menus and checking them twice. And all the Valentine’s helpers are scurrying around scheming!\nIf you decide to stay in Wells for the evening you can grab a bite at a local eatery before the Wells Mountain Film Festival.\n*Event registration is limited and the event does sell out. Tickets will go on sale January 6 at 8am. Mark the date so you and your friends/family can hit the treats on the trails in 2026! \nThank you for supporting this WATS event which provides funds for maintaining our ~30kms of ski trails.
URL:https://whatsupinwells.com/event/2026-wells-international-gourmet-ski/
LOCATION:BC
CATEGORIES:Food,Outdoor Recreation,Wells
ATTACH;FMTTYPE=image/jpeg:https://whatsupinwells.com/wp-content/uploads/2026/01/596367655_1638609723769263_7868336538127902196_n.jpg
ORGANIZER;CN="Wells and Area Trails Society":MAILTO:wellstrails@gmail.com
END:VEVENT
BEGIN:VEVENT
DTSTART;TZID=America/Vancouver:20260215T120000
DTEND;TZID=America/Vancouver:20260215T183000
DTSTAMP:20260423T065750
CREATED:20260124T161251Z
LAST-MODIFIED:20260124T161251Z
UID:10004132-1771156800-1771180200@whatsupinwells.com
SUMMARY:Family Day Retro Ride
DESCRIPTION:
URL:https://whatsupinwells.com/event/family-day-retro-ride/
LOCATION:BC
CATEGORIES:Food,Free,Outdoor Recreation
ATTACH;FMTTYPE=image/jpeg:https://whatsupinwells.com/wp-content/uploads/2026/01/619285995_1330412985780642_6859225715080233925_n.jpg
ORGANIZER;CN="Wells Snowmobile Club":MAILTO:Snowmobilewells@gmail.com
END:VEVENT
BEGIN:VEVENT
DTSTART;TZID=America/Vancouver:20260222T180000
DTEND;TZID=America/Vancouver:20260222T200000
DTSTAMP:20260423T065750
CREATED:20260124T024134Z
LAST-MODIFIED:20260124T024134Z
UID:10004129-1771783200-1771790400@whatsupinwells.com
SUMMARY:Taste of Lunar New Year
DESCRIPTION:What do you get when one best friend runs a brewery\, one runs a restaurant\, and they decide to combine their talents into one special evening? A culinary collaboration that is sure to rock your Sunday!\nTaste of Lunar New Year is a food pop-up event featuring a six-part food tasting menu prepared by the Wells Hotel along with a six-part drink pairing curated by Barkerville Brewing (non-alcoholic options also available). For this event\, we celebrate the Lunar New Year to honour the rich Chinese history of the Cariboo Region. \nThe Menu:\n葱油饼 Scallion Pancake\n凉面 Cold Noodle Salad\n酸辣汤 Hot and Sour Soup\n燒賣 Shrimp and Pork Dumpling\n北京烤鸭 Peking Duck\n芒果布甸 Mango Pudding \nCelebrate the Year of the Horse with a food experience that makes for a great date night\, or get together with friends. The horse brings:\n⭐️Strength & endurance: moving forward even when the road is hard\n⭐️Freedom & independence: living authentically\, guided by instinct\n⭐️Momentum & rebirth: change that isn’t quiet\, but powerful. \nThe Horse year is about trusting motion\, not perfection.\nIt’s about carrying life\, dreams\, and legacy forward even when you don’t yet see the full path. Bring it on 2026!\n*IMPORTANT* this is a set menu event. Substitutions and alternatives to the food menu will not be available.\nWhen: Sunday\, February 22nd starting at 6:00 pm\nWhere: Barkerville Brewing\, 185 Davie Street\, Quesnel\, BC\nWhat’s Included: Six food courses with drink pairings\nThe Price: $75 per person\nTickets are limited and available for purchase through the online link or at the Barkerville Taproom.\nDue to the advanced planning required to prepare for the event\, tickets may not be available at the door
URL:https://whatsupinwells.com/event/taste-of-lunar-new-year/
LOCATION:Barkerville Brewing\, 185 Davie St.\, Quesnel\, BC\, V2J 2S8
CATEGORIES:Food
ATTACH;FMTTYPE=image/png:https://whatsupinwells.com/wp-content/uploads/2026/01/Taste-of-Lunar-New-Year-Barkerville-Brewing.png
END:VEVENT
END:VCALENDAR