BEGIN:VCALENDAR
VERSION:2.0
PRODID:-//What&#039;s Up in Wells - ECPv6.15.20//NONSGML v1.0//EN
CALSCALE:GREGORIAN
METHOD:PUBLISH
X-ORIGINAL-URL:https://whatsupinwells.com
X-WR-CALDESC:Events for What&#039;s Up in Wells
REFRESH-INTERVAL;VALUE=DURATION:PT1H
X-Robots-Tag:noindex
X-PUBLISHED-TTL:PT1H
BEGIN:VTIMEZONE
TZID:America/Vancouver
BEGIN:DAYLIGHT
TZOFFSETFROM:-0800
TZOFFSETTO:-0700
TZNAME:PDT
DTSTART:20180311T100000
END:DAYLIGHT
BEGIN:STANDARD
TZOFFSETFROM:-0700
TZOFFSETTO:-0800
TZNAME:PST
DTSTART:20181104T090000
END:STANDARD
BEGIN:DAYLIGHT
TZOFFSETFROM:-0800
TZOFFSETTO:-0700
TZNAME:PDT
DTSTART:20190310T100000
END:DAYLIGHT
BEGIN:STANDARD
TZOFFSETFROM:-0700
TZOFFSETTO:-0800
TZNAME:PST
DTSTART:20191103T090000
END:STANDARD
BEGIN:DAYLIGHT
TZOFFSETFROM:-0800
TZOFFSETTO:-0700
TZNAME:PDT
DTSTART:20200308T100000
END:DAYLIGHT
BEGIN:STANDARD
TZOFFSETFROM:-0700
TZOFFSETTO:-0800
TZNAME:PST
DTSTART:20201101T090000
END:STANDARD
END:VTIMEZONE
BEGIN:VEVENT
DTSTART;TZID=America/Vancouver:20191216T090000
DTEND;TZID=America/Vancouver:20191216T170000
DTSTAMP:20260419T213123
CREATED:20191127T190715Z
LAST-MODIFIED:20191127T190715Z
UID:10000383-1576486800-1576515600@whatsupinwells.com
SUMMARY:7th Annual Wells Christmas Craft and Bake Sale
DESCRIPTION:Local crafting and baking. Sign up sheet located at the Jack O’ Clubs General or contact Christine Brooks at 250-994-2328. Table rental is $5.
URL:https://whatsupinwells.com/event/7th-annual-wells-christmas-craft-and-bake-sale/2019-12-16/
LOCATION:Wells Curling Club\, 3860 Ski Hill Road\, Wells\, BC\, V0K2R0\, Canada
CATEGORIES:Food,Wells
END:VEVENT
BEGIN:VEVENT
DTSTART;TZID=America/Vancouver:20191215T100000
DTEND;TZID=America/Vancouver:20191215T160000
DTSTAMP:20260419T213123
CREATED:20191029T180602Z
LAST-MODIFIED:20191121T021606Z
UID:10000364-1576404000-1576425600@whatsupinwells.com
SUMMARY:Barkerville's Old Fashioned Victorian Christmas
DESCRIPTION:Enjoy sleigh rides\, warm refreshments\, delicious home baking in the Wendle House\, decorated displays\, shopping\, caroling\, and other seasonal activities. Schedule and event details at http://www.barkerville.ca/victorianchristmas/
URL:https://whatsupinwells.com/event/barkervilles-old-fashioned-victorian-christmas/2019-12-15/
LOCATION:Barkerville Historic Town & Park\, 14301 Hwy 26 E.\, Barkerville\, BC\, V0K2R0\, Canada
CATEGORIES:Barkerville,Food,Music,Outdoor Recreation
ATTACH;FMTTYPE=image/jpeg:https://whatsupinwells.com/wp-content/uploads/2019/10/Snowy-Street-w-Kick-Sled-photo-by-Thomas-Drasdauskis.jpg
END:VEVENT
BEGIN:VEVENT
DTSTART;TZID=America/Vancouver:20191215T090000
DTEND;TZID=America/Vancouver:20191215T170000
DTSTAMP:20260419T213123
CREATED:20191127T190715Z
LAST-MODIFIED:20191127T190715Z
UID:10000382-1576400400-1576429200@whatsupinwells.com
SUMMARY:7th Annual Wells Christmas Craft and Bake Sale
DESCRIPTION:Local crafting and baking. Sign up sheet located at the Jack O’ Clubs General or contact Christine Brooks at 250-994-2328. Table rental is $5.
URL:https://whatsupinwells.com/event/7th-annual-wells-christmas-craft-and-bake-sale/2019-12-15/
LOCATION:Wells Curling Club\, 3860 Ski Hill Road\, Wells\, BC\, V0K2R0\, Canada
CATEGORIES:Food,Wells
END:VEVENT
BEGIN:VEVENT
DTSTART;TZID=America/Vancouver:20191214T180000
DTEND;TZID=America/Vancouver:20191214T200000
DTSTAMP:20260419T213123
CREATED:20191120T203322Z
LAST-MODIFIED:20191120T203322Z
UID:10000376-1576346400-1576353600@whatsupinwells.com
SUMMARY:Wells Legion Christmas Dinner
DESCRIPTION:MARK YOUR CALENDARS! \nThe Annual Wells Legion Christmas Dinner\n$$ by donation
URL:https://whatsupinwells.com/event/wells-legion-christmas-dinner/
LOCATION:Royal Canadian Legion Branch #128\, 3948 Gold Quartz Drive\, Wells\, V0K2R0
CATEGORIES:Food,Wells
ATTACH;FMTTYPE=image/jpeg:https://whatsupinwells.com/wp-content/uploads/2019/11/wells-legion-christmas-dinner.jpg
END:VEVENT
BEGIN:VEVENT
DTSTART;TZID=America/Vancouver:20191214T100000
DTEND;TZID=America/Vancouver:20191214T160000
DTSTAMP:20260419T213123
CREATED:20191029T180602Z
LAST-MODIFIED:20191121T021606Z
UID:10000363-1576317600-1576339200@whatsupinwells.com
SUMMARY:Barkerville's Old Fashioned Victorian Christmas
DESCRIPTION:Enjoy sleigh rides\, warm refreshments\, delicious home baking in the Wendle House\, decorated displays\, shopping\, caroling\, and other seasonal activities. Schedule and event details at http://www.barkerville.ca/victorianchristmas/
URL:https://whatsupinwells.com/event/barkervilles-old-fashioned-victorian-christmas/2019-12-14/
LOCATION:Barkerville Historic Town & Park\, 14301 Hwy 26 E.\, Barkerville\, BC\, V0K2R0\, Canada
CATEGORIES:Barkerville,Food,Music,Outdoor Recreation
ATTACH;FMTTYPE=image/jpeg:https://whatsupinwells.com/wp-content/uploads/2019/10/Snowy-Street-w-Kick-Sled-photo-by-Thomas-Drasdauskis.jpg
END:VEVENT
BEGIN:VEVENT
DTSTART;TZID=America/Vancouver:20191214T090000
DTEND;TZID=America/Vancouver:20191214T170000
DTSTAMP:20260419T213123
CREATED:20191127T190715Z
LAST-MODIFIED:20191127T190715Z
UID:10000381-1576314000-1576342800@whatsupinwells.com
SUMMARY:7th Annual Wells Christmas Craft and Bake Sale
DESCRIPTION:Local crafting and baking. Sign up sheet located at the Jack O’ Clubs General or contact Christine Brooks at 250-994-2328. Table rental is $5.
URL:https://whatsupinwells.com/event/7th-annual-wells-christmas-craft-and-bake-sale/2019-12-14/
LOCATION:Wells Curling Club\, 3860 Ski Hill Road\, Wells\, BC\, V0K2R0\, Canada
CATEGORIES:Food,Wells
END:VEVENT
BEGIN:VEVENT
DTSTART;TZID=America/Vancouver:20191205T160000
DTEND;TZID=America/Vancouver:20191205T200000
DTSTAMP:20260419T213123
CREATED:20191202T182948Z
LAST-MODIFIED:20191202T182948Z
UID:10000390-1575561600-1575576000@whatsupinwells.com
SUMMARY:Sound Round - Popup Pizza night
DESCRIPTION:Spin by for a custom spun\, wood fired\, sourdough pizza pie.
URL:https://whatsupinwells.com/event/sound-round-popup-pizza-night/
LOCATION:The Sound Round\, 3882 Lowhee Dr.\, Wells
CATEGORIES:Food
ATTACH;FMTTYPE=image/jpeg:https://whatsupinwells.com/wp-content/uploads/2019/11/D84835C3-38E2-4382-AF46-CB2F8AEC0A9C-1.jpeg
ORGANIZER;CN="The Sound Round":MAILTO:Pizza@thesoundround.com
END:VEVENT
BEGIN:VEVENT
DTSTART;TZID=America/Vancouver:20191205T080000
DTEND;TZID=America/Vancouver:20191205T090000
DTSTAMP:20260419T213123
CREATED:20191202T214218Z
LAST-MODIFIED:20191202T214218Z
UID:10000391-1575532800-1575536400@whatsupinwells.com
SUMMARY:Pancake Breakfast
DESCRIPTION:PANCAKE BREAKFAST at the Wells Barkerville School \nThursday\, December 5th from 8-9 am. (by donation). Come out and enjoy great food and conversation\, hosted by our students.
URL:https://whatsupinwells.com/event/pancake-breakfast-2/
LOCATION:Wells-Barkerville Community School\, Wells\, BC\, Canada
CATEGORIES:Food,Wells
ATTACH;FMTTYPE=image/jpeg:https://whatsupinwells.com/wp-content/uploads/2019/01/6518F1F1-35D4-4AA4-8E92-3CAB12A894C8.jpeg
END:VEVENT
BEGIN:VEVENT
DTSTART;TZID=America/Vancouver:20191129T180000
DTEND;TZID=America/Vancouver:20191129T220000
DTSTAMP:20260419T213123
CREATED:20191110T021738Z
LAST-MODIFIED:20191110T021738Z
UID:10000369-1575050400-1575064800@whatsupinwells.com
SUMMARY:BGM Traditional Community Christmas Dinner
DESCRIPTION:Barkerville Gold Mines would like to thank the communities of Wells\, Barkerville and Bowron Lakes and invite your to join us for the 2019 traditional community Christmas dinner and tree light up at the Wells Community Hall. Catering and event planning provided by Evolution Camp Services. \n6:00 pm doors open \n6:30 pm traditional Christmas buffet \n7:30 pm visit from Santa Claus \n8:30 pm tree light up \nnon perishable hamper donations accepted on behalf of the Wells Legion
URL:https://whatsupinwells.com/event/bgm-traditional-community-christmas-dinner/
LOCATION:Wells Community Hall\, 4269 Sanders Ave\, Wells\, BC\, V0K2R0\, Canada
CATEGORIES:Food,Free,Wells
ATTACH;FMTTYPE=image/jpeg:https://whatsupinwells.com/wp-content/uploads/2019/11/6ACA2A05-49B5-46FC-A952-EE4555A202AC.jpeg
ORGANIZER;CN="Barkerville Gold Mines":MAILTO:feedback@barkervillegold.com
END:VEVENT
BEGIN:VEVENT
DTSTART;TZID=America/Vancouver:20191126T180000
DTEND;TZID=America/Vancouver:20191126T200000
DTSTAMP:20260419T213123
CREATED:20191122T175033Z
LAST-MODIFIED:20191122T175033Z
UID:10000380-1574791200-1574798400@whatsupinwells.com
SUMMARY:Christmas Cake Walk
DESCRIPTION:Hey Wells! We thought it would be fun to do a cake walk for the BGM Community Christmas party on the 29th! Cake walks are great fun and everyone can participate if they want to. Donate a cake or win a cake or both! Sign up at BNC Mercantile in our sign up book by November 26th if you would like to bring a cake or Christmas treats.
URL:https://whatsupinwells.com/event/christmas-cake-walk/
LOCATION:Wells Community Hall\, 4269 Sanders Ave\, Wells\, BC\, V0K2R0\, Canada
CATEGORIES:Food,Wells
ATTACH;FMTTYPE=image/jpeg:https://whatsupinwells.com/wp-content/uploads/2019/11/cake-walk.jpg
END:VEVENT
BEGIN:VEVENT
DTSTART;TZID=America/Vancouver:20190929T170000
DTEND;TZID=America/Vancouver:20190929T230000
DTSTAMP:20260419T213123
CREATED:20190910T210421Z
LAST-MODIFIED:20190910T210421Z
UID:10000349-1569776400-1569798000@whatsupinwells.com
SUMMARY:End of Summer Bash at the Legion
DESCRIPTION:Dinner service from 6 pm – 8 pm. $13 for stuffed pork loin\, roasted potatoes\, mixed vegetables\, sourdough bu\, fruit crisp\, and ice cream.  Music by DJ Amanda May. \nAmanda May Harris is a former resident of Wells who now resides in Barriere. Amanda owns Creating Space Art & Soul Studio out of which she runs her DJ business and teaches art classes to children.
URL:https://whatsupinwells.com/event/end-of-summer-bash-at-the-legion/
LOCATION:Royal Canadian Legion Branch #128\, 3948 Gold Quartz Drive\, Wells\, V0K2R0
CATEGORIES:Food,Music,Wells
END:VEVENT
BEGIN:VEVENT
DTSTART;TZID=America/Vancouver:20190923T190000
DTEND;TZID=America/Vancouver:20190923T220000
DTSTAMP:20260419T213123
CREATED:20190917T164058Z
LAST-MODIFIED:20190917T170451Z
UID:10000352-1569265200-1569276000@whatsupinwells.com
SUMMARY:TIKI TIKI TIKI TIKI!
DESCRIPTION:We’re stealing back summer for one night only! \nA night to pay homage to everything we love about tacky tiki bars\, bowls of flaming rum cocktails\, food on sticks\, and everything pineapple. There will be nothing subtle or sophisticated about this event. Wear your loudest print shirts and your worst excuse for shoes. \nEats: Poke Bowls / BBQ Pork and Pineapple Kebabs / Pineapple Upside Down Cake \nDrinks: Slushy Blue Hawaiians / Watermelon Mojitos / Mai Tais / Palomas
URL:https://whatsupinwells.com/event/tiki-tiki-tiki-tiki/
LOCATION:Bear’s Paw Cafe\, 12415 Hwy 26 E\, Wells\, BC\, V0K2R0\, Canada
CATEGORIES:Food,Wells
ATTACH;FMTTYPE=image/jpeg:https://whatsupinwells.com/wp-content/uploads/2019/09/70280048_10157545769499402_2574910714464436224_n.jpg
END:VEVENT
BEGIN:VEVENT
DTSTART;TZID=America/Vancouver:20190915T180000
DTEND;TZID=America/Vancouver:20190915T210000
DTSTAMP:20260419T213123
CREATED:20190905T190042Z
LAST-MODIFIED:20190905T190042Z
UID:10000348-1568570400-1568581200@whatsupinwells.com
SUMMARY:36th Annual Chili Cook-off
DESCRIPTION:Commemorating the great Barkerville Fire of 1868. Bring a chili or other dish and your own plates\, cutlery\, and beverages. Prizes to be won for worthy chefs. Donations happily accepted for the Wells Volunteer Fire Brigade.
URL:https://whatsupinwells.com/event/36th-annual-chili-cook-off/
LOCATION:Barkerville Staff House\, 2523 Gardner\, Wells\, BC\, Canada
CATEGORIES:Barkerville,Food,Wells
ATTACH;FMTTYPE=image/jpeg:https://whatsupinwells.com/wp-content/uploads/2019/09/Rice-Cooker-Chili-V2.jpg
END:VEVENT
BEGIN:VEVENT
DTSTART;TZID=America/Vancouver:20190827T170000
DTEND;TZID=America/Vancouver:20190827T193000
DTSTAMP:20260419T213123
CREATED:20190814T200624Z
LAST-MODIFIED:20190822T001944Z
UID:10000345-1566925200-1566934200@whatsupinwells.com
SUMMARY:4th Annual Gourmet Hot Dog Night
DESCRIPTION:It’s the fourth annual Gourmet Hot Dog night at the Bear’s Paw Cafe. Featuring classic 8 inch all beef Nathan’s weiners\, the original Coney Island hot dog! Come grab your favourites such as our Mac and Cheese Dog\, Banh Mi Dog\, PB+J+Bacon Dog\, or the Tropical Tiki Dog! \nWe will be open in the Food Truck only\, so everyone can come grab a hot dog before heading up to the 50th Cabaret at the Sunset Theatre!
URL:https://whatsupinwells.com/event/4th-annual-gourmet-hot-dog-night/
LOCATION:Bear’s Paw Cafe\, 12415 Hwy 26 E\, Wells\, BC\, V0K2R0\, Canada
CATEGORIES:Food,Wells
ATTACH;FMTTYPE=image/jpeg:https://whatsupinwells.com/wp-content/uploads/2019/08/hot-dog-night.jpg
END:VEVENT
BEGIN:VEVENT
DTSTART;TZID=America/Vancouver:20190701T080000
DTEND;TZID=America/Vancouver:20190701T173000
DTSTAMP:20260419T213123
CREATED:20190620T172254Z
LAST-MODIFIED:20190620T172349Z
UID:10000308-1561968000-1562002200@whatsupinwells.com
SUMMARY:151st Dominion Day in Barkerville
DESCRIPTION:Canada’s very first Dominion Day celebration was held in Barkerville as a fervent display of support for Canadian confederation three years before British Columbia joined in 1871. \nJust past midnight on July 1\, 1868\, the Dominion of Canada’s first anniversary\, Barkerville citizens launched their own version of a 21 gun salute. Cannons were in short supply\, so black powder charges were detonated between stacked anvils\, providing a loud and raucous start to Canada’s inaugural birthday party. A full slate of activities followed throughout the day and long into the evening\, capped off with a fireworks display. \nIn 2019\, we celebrate much the same way\, with a tug of war\, funny face contest\, greasy pole climb\, egg toss\, races and lots more.\nScotiabank sponsors a giant cake\, and the House Hotel hosts an evening of entertainment\, dancing and refreshments!
URL:https://whatsupinwells.com/event/151st-dominion-day-in-barkerville/
LOCATION:Barkerville Historic Town & Park\, 14301 Hwy 26 E.\, Barkerville\, BC\, V0K2R0\, Canada
CATEGORIES:Barkerville,Food,Theatre
ATTACH;FMTTYPE=image/jpeg:https://whatsupinwells.com/wp-content/uploads/2019/06/Dominion-Day-Anvil-Salute-photo-by-Thomas-Drasdauskis-e1561051358136.jpg
END:VEVENT
BEGIN:VEVENT
DTSTART;TZID=America/Vancouver:20190630T170000
DTEND;TZID=America/Vancouver:20190630T200000
DTSTAMP:20260419T213123
CREATED:20190522T025604Z
LAST-MODIFIED:20190522T025720Z
UID:10000274-1561914000-1561924800@whatsupinwells.com
SUMMARY:Wells Reunion: Community Foundation Pig Roast BBQ Potluck
DESCRIPTION:$10. Please bring a side dish to share! Back of Community Hall. \nAll Weekend Long:\n\nVisit Historic Barkerville and receive a free admission by showing your Reunion ID.\nEnjoy 2-for-1 ice cream or coffee at BNC Mercantile with your Reunion ID.\nWalk along our ever-expanding trail system in the meadows (formerly known as the swamp).\nReminisce and explore old (& new) Wells\, such as the Wells Museum\, Wells Hotel\, Sunset Theatre\, Amazing Space Gallery\, Bear’s Paw Café\, Frog on the Bog Gifts\, Island Mountain Arts\, BNC Mercantile and the Jack O’ Clubs.\nForget-Me-Not Wall. Bring your photos of loved ones who cannot be with us and place them on the wall. Write your memories there\, too.\nDisplays at the Community Hall banquet room by District of Wells and Barkerville Gold Mine\nIf you have a camera and like to take pictures\, you are needed! Roam the venues and events\, document the meeting of long-lost friends\, video old-timers telling stories.
URL:https://whatsupinwells.com/event/wells-reunion-community-foundation-pig-roast-bbq-potluck/
LOCATION:Wells Community Hall\, 4269 Sanders Ave\, Wells\, BC\, V0K2R0\, Canada
CATEGORIES:Food,Wells
ATTACH;FMTTYPE=image/png:https://whatsupinwells.com/wp-content/uploads/2019/05/2019reunionFBbanner.png
ORGANIZER;CN="Wells Reunion 2019":MAILTO:Wellsreunion2018@gmail.com
END:VEVENT
BEGIN:VEVENT
DTSTART;TZID=America/Vancouver:20190630T100000
DTEND;TZID=America/Vancouver:20190630T130000
DTSTAMP:20260419T213123
CREATED:20190522T024843Z
LAST-MODIFIED:20190522T030222Z
UID:10000270-1561888800-1561899600@whatsupinwells.com
SUMMARY:Wells Reunion: Brunch and Caesar Bar
DESCRIPTION:All Weekend Long:\n\nVisit Historic Barkerville and receive a free admission by showing your Reunion ID.\nEnjoy 2-for-1 ice cream or coffee at BNC Mercantile with your Reunion ID.\nWalk along our ever-expanding trail system in the meadows (formerly known as the swamp).\nReminisce and explore old (& new) Wells\, such as the Wells Museum\, Wells Hotel\, Sunset Theatre\, Amazing Space Gallery\, Bear’s Paw Café\, Frog on the Bog Gifts\, Island Mountain Arts\, BNC Mercantile and the Jack O’ Clubs.\nForget-Me-Not Wall. Bring your photos of loved ones who cannot be with us and place them on the wall. Write your memories there\, too.\nDisplays at the Community Hall banquet room by District of Wells and Barkerville Gold Mine\nIf you have a camera and like to take pictures\, you are needed! Roam the venues and events\, document the meeting of long-lost friends\, video old-timers telling stories.
URL:https://whatsupinwells.com/event/wells-reunion-brunch-and-caesar-bar/
LOCATION:Jack O’ Club Restaurant & Pub\, 12383 Hwy 27 E.\, Wells\, BC\, V0K2R0\, Canada
CATEGORIES:Food,Wells
ATTACH;FMTTYPE=image/png:https://whatsupinwells.com/wp-content/uploads/2019/05/2019reunionFBbanner.png
ORGANIZER;CN="Wells Reunion 2019":MAILTO:Wellsreunion2018@gmail.com
END:VEVENT
BEGIN:VEVENT
DTSTART;TZID=America/Vancouver:20190629T170000
DTEND;TZID=America/Vancouver:20190629T200000
DTSTAMP:20260419T213123
CREATED:20190522T024429Z
LAST-MODIFIED:20190522T030446Z
UID:10000268-1561827600-1561838400@whatsupinwells.com
SUMMARY:Wells Reunion: Buffet Dinner
DESCRIPTION:Buffet dinner at Jack O’ Clubs. $17 per adult / $13 per child payable to Jack O’ Clubs \nAll Weekend Long:\n\nVisit Historic Barkerville and receive a free admission by showing your Reunion ID.\nEnjoy 2-for-1 ice cream or coffee at BNC Mercantile with your Reunion ID.\nWalk along our ever-expanding trail system in the meadows (formerly known as the swamp).\nReminisce and explore old (& new) Wells\, such as the Wells Museum\, Wells Hotel\, Sunset Theatre\, Amazing Space Gallery\, Bear’s Paw Café\, Frog on the Bog Gifts\, Island Mountain Arts\, BNC Mercantile and the Jack O’ Clubs.\nForget-Me-Not Wall. Bring your photos of loved ones who cannot be with us and place them on the wall. Write your memories there\, too.\nDisplays at the Community Hall banquet room by District of Wells and Barkerville Gold Mine\nIf you have a camera and like to take pictures\, you are needed! Roam the venues and events\, document the meeting of long-lost friends\, video old-timers telling stories.
URL:https://whatsupinwells.com/event/wells-reunion-buffet-dinner/
LOCATION:Jack O’ Club Restaurant & Pub\, 12383 Hwy 27 E.\, Wells\, BC\, V0K2R0\, Canada
CATEGORIES:Food,Wells
ATTACH;FMTTYPE=image/png:https://whatsupinwells.com/wp-content/uploads/2019/05/2019reunionFBbanner.png
ORGANIZER;CN="Wells Reunion 2019":MAILTO:Wellsreunion2018@gmail.com
END:VEVENT
BEGIN:VEVENT
DTSTART;TZID=America/Vancouver:20190627T190000
DTEND;TZID=America/Vancouver:20190627T203000
DTSTAMP:20260419T213123
CREATED:20190516T202246Z
LAST-MODIFIED:20190623T155114Z
UID:10000262-1561662000-1561667400@whatsupinwells.com
SUMMARY:Celebration of Learning
DESCRIPTION:Join the Wells/Barkerville Elementary School in an evening of celebrating everything they have accomplished and learned over the past school year. There will be appetizers and refreshments provided. Come check out what our intelligent and creative\, young folk have been up to!
URL:https://whatsupinwells.com/event/celebration-of-learning/
LOCATION:Wells-Barkerville Community School\, Wells\, BC\, Canada
CATEGORIES:Arts,Food,Free,Wells
ATTACH;FMTTYPE=image/jpeg:https://whatsupinwells.com/wp-content/uploads/2019/05/59978191_10156584627589069_1706081775861628928_o.jpg
END:VEVENT
BEGIN:VEVENT
DTSTART;VALUE=DATE:20190625
DTEND;VALUE=DATE:20190627
DTSTAMP:20260419T213123
CREATED:20190618T045913Z
LAST-MODIFIED:20190618T045913Z
UID:10000301-1561435200-1561521599@whatsupinwells.com
SUMMARY:Bourdain Day
DESCRIPTION:The Pooley Street Cafge and Evolution Camp Services are participating in ‘Bourdain Day’ to honour the culinary connoisseur Anthony Bourdain\, our brother\, Tim Duffy\, and to raise awareness for mental health. All proceeds from our day\, in both locations will be donated to the Seasons House in Quesnel\, BC
URL:https://whatsupinwells.com/event/bourdain-day/
LOCATION:Pooley Street Cafe\, 2341 Pooley St\, Wells\, BC\, V0K2R0\, Canada
CATEGORIES:Food,Wells
ATTACH;FMTTYPE=image/jpeg:https://whatsupinwells.com/wp-content/uploads/2019/06/bourdain-day-poster.jpg
END:VEVENT
BEGIN:VEVENT
DTSTART;TZID=America/Vancouver:20190615T110000
DTEND;TZID=America/Vancouver:20190615T210000
DTSTAMP:20260419T213123
CREATED:20190504T170359Z
LAST-MODIFIED:20190522T030500Z
UID:10000257-1560596400-1560632400@whatsupinwells.com
SUMMARY:Theatre Royal Gala & Barkerville Heritage Trust AGM
DESCRIPTION:Three fabulous shows + music and dancing at the House Hotel Saloon!\n\n\n \n\n\nGala Package Tickets: $30.00 + tax\n\n\nIncludes entry into Barkerville\, all 3 theatre shows and live music and dancing at the House Hotel Saloon.\n\n\n \n\n\nShows:\n\n\n1:00pm: CADA Presents: a Musical Benefit for the Theatre Royal \n\n\nIn this year 1869\, just a few months have the devastating fire of 1868\, the CADA have built a new theatre in cooperation with the Williams Creek Fire Brigade. Join Mrs. McGinley and the cast as they host an exciting musical variety show with song\, dance\, sing-alongs\, and comedy. Entertaining for the whole family from ages 3 to 103.\n\n\n \n\n\n4:00pm: Cariboo Gold Quartz Radio Hour\n\n\nComes to you “live” from our broadcast studio. A new 1930s-50s musical variety show featuring songs and dances from the era\, along with local news of the day\, a serial\, the weather\, commercials\, and the social calendar. \n\n\n \n\n\n7:00pm: Mrs. McGinley’s Gold Rush Variety Show\n\n\nExciting\, humorous and edifying. A variety show set in the 1860s based on the traveling theatrical troupes that traveled the Cariboo road to Barkerville. Presenting a wide selection of material\, from country to operetta\, from folk songs to poetry. During the Gala event\, the show is proceeding with a live fundraising auction. Show sponsored by Barkerville Historic Town & Park.\n\n\n \n\n\nThe House Hotel: Join us for music\, dancing and refreshments at  from 9pm to midnight! New this year: live musical entertainment\n\n\n \n\n\n*Package tickets are sold at the Theatre Royal Box Office only. Single show tickets can be purchased at either the Visitors’ Reception Centre or the Theatre Royal Box Office. Call the Theatre Royal Box Office for more information: 250-994-3225
URL:https://whatsupinwells.com/event/theatre-royal-gala-barkerville-heritage-trust-agm/
LOCATION:Barkerville Historic Town & Park\, 14301 Hwy 26 E.\, Barkerville\, BC\, V0K2R0\, Canada
CATEGORIES:Barkerville,Food,Theatre
ATTACH;FMTTYPE=image/jpeg:https://whatsupinwells.com/wp-content/uploads/2019/05/gala.jpg
END:VEVENT
BEGIN:VEVENT
DTSTART;TZID=America/Vancouver:20190613T163000
DTEND;TZID=America/Vancouver:20190613T180000
DTSTAMP:20260419T213123
CREATED:20190523T234330Z
LAST-MODIFIED:20190523T234851Z
UID:10000277-1560443400-1560448800@whatsupinwells.com
SUMMARY:BGM Community BBQ and Open House
DESCRIPTION:Join us at Barkerville Gold Mine’s Community Relations Office at 4270 Sanders Ave. RSVP at 778-414-8493 (our new Community Feedback Line). Please let us know if you will be attending and if there are children in your group. This will help us plan appropriately and reduce waste.
URL:https://whatsupinwells.com/event/bgm-community-bbq-and-open-house/
LOCATION:BC
CATEGORIES:Food,Free,Wells
ATTACH;FMTTYPE=image/jpeg:https://whatsupinwells.com/wp-content/uploads/2019/05/bgm-bbq.jpg
END:VEVENT
BEGIN:VEVENT
DTSTART;TZID=America/Vancouver:20190524T180000
DTEND;TZID=America/Vancouver:20190524T210000
DTSTAMP:20260419T213123
CREATED:20190428T212806Z
LAST-MODIFIED:20190428T232750Z
UID:10000247-1558720800-1558731600@whatsupinwells.com
SUMMARY:Morsels Opening Night
DESCRIPTION:2019 Season here we come!!\nMorsels will be OPEN MAY 24th 2019 /  Fridays & Saturdays 6PM-9PM. \nCome and eat some gourmet street food\, and CAKE!!! \nVISA/CASH only options.
URL:https://whatsupinwells.com/event/morsels-opening-night/
LOCATION:Morsels Moveable Feast\, In the Good Eats Building\, Pooley Street\, Wells\, V0K2R0
CATEGORIES:Food
ATTACH;FMTTYPE=image/jpeg:https://whatsupinwells.com/wp-content/uploads/2019/04/57611696_919488748221717_6190084042986094592_o.jpg
END:VEVENT
BEGIN:VEVENT
DTSTART;TZID=America/Vancouver:20190512T100000
DTEND;TZID=America/Vancouver:20190512T130000
DTSTAMP:20260419T213123
CREATED:20190428T213541Z
LAST-MODIFIED:20190428T213906Z
UID:10000248-1557655200-1557666000@whatsupinwells.com
SUMMARY:Mother's Day Brunch
DESCRIPTION:Time to get the season started! Celebrate Mother’s Day at the Wake Up Jake Restaurant on Sunday\, May 12\, and enjoy an outstanding 3course brunch buffet menu. Doors open 10 a.m. We look forward to seeing everyone again! \nFor more information\, and reservation email: neilvferrier@yahoo.ca
URL:https://whatsupinwells.com/event/mothers-day-brunch/
LOCATION:Wake Up Jake Restaurant\, Main Street\, Barkerville\, V0K2R0
CATEGORIES:Food
ATTACH;FMTTYPE=image/jpeg:https://whatsupinwells.com/wp-content/uploads/2019/04/58441998_1231226587051763_6281127265078083584_n.jpg
ORGANIZER;CN="Wake Up Jake Restaurant":MAILTO:neilvferrier@yahoo.ca
END:VEVENT
BEGIN:VEVENT
DTSTART;TZID=America/Vancouver:20190502T080000
DTEND;TZID=America/Vancouver:20190502T090000
DTSTAMP:20260419T213123
CREATED:20190327T043413Z
LAST-MODIFIED:20190327T043609Z
UID:10000194-1556784000-1556787600@whatsupinwells.com
SUMMARY:Pancake Breakfast
DESCRIPTION:The Wells Barkerville School pancake breakfast is a monthly event where you will find some great food and conversation. By donation : )
URL:https://whatsupinwells.com/event/pancake-breakfast-4/
LOCATION:BC
CATEGORIES:Food,Wells
END:VEVENT
BEGIN:VEVENT
DTSTART;TZID=America/Vancouver:20190426T160000
DTEND;TZID=America/Vancouver:20190426T200000
DTSTAMP:20260419T213123
CREATED:20190331T051138Z
LAST-MODIFIED:20190331T051138Z
UID:10000196-1556294400-1556308800@whatsupinwells.com
SUMMARY:Legion Friday Night Socials
DESCRIPTION:Fries\nPoutine\nSpanikopita\nPanko Shrimp\nPizza\nWings
URL:https://whatsupinwells.com/event/legion-friday-night-socials/
LOCATION:Royal Canadian Legion Branch #128\, 3948 Gold Quartz Drive\, Wells\, V0K2R0
CATEGORIES:Food
ATTACH;FMTTYPE=image/jpeg:https://whatsupinwells.com/wp-content/uploads/2019/03/51931601_2244531475609203_1453114829261766656_n-1-3.jpg
END:VEVENT
BEGIN:VEVENT
DTSTART;TZID=America/Vancouver:20190419T160000
DTEND;TZID=America/Vancouver:20190419T200000
DTSTAMP:20260419T213123
CREATED:20190331T051206Z
LAST-MODIFIED:20190331T051206Z
UID:10000197-1555689600-1555704000@whatsupinwells.com
SUMMARY:Legion Friday Night Socials
DESCRIPTION:Fries\nPoutine\nSpanikopita\nPanko Shrimp\nPizza\nWings
URL:https://whatsupinwells.com/event/legion-friday-night-socials-2/
LOCATION:Royal Canadian Legion Branch #128\, 3948 Gold Quartz Drive\, Wells\, V0K2R0
CATEGORIES:Food
ATTACH;FMTTYPE=image/jpeg:https://whatsupinwells.com/wp-content/uploads/2019/03/51931601_2244531475609203_1453114829261766656_n-1-2.jpg
END:VEVENT
BEGIN:VEVENT
DTSTART;TZID=America/Vancouver:20190405T160000
DTEND;TZID=America/Vancouver:20190405T200000
DTSTAMP:20260419T213123
CREATED:20190331T051306Z
LAST-MODIFIED:20190331T051306Z
UID:10000198-1554480000-1554494400@whatsupinwells.com
SUMMARY:Legion Friday Night Socials
DESCRIPTION:Fries\nPoutine\nSpanikopita\nPanko Shrimp\nPizza\nWings
URL:https://whatsupinwells.com/event/legion-friday-night-socials-4/
LOCATION:Royal Canadian Legion Branch #128\, 3948 Gold Quartz Drive\, Wells\, V0K2R0
CATEGORIES:Food
ATTACH;FMTTYPE=image/jpeg:https://whatsupinwells.com/wp-content/uploads/2019/03/51931601_2244531475609203_1453114829261766656_n-1.jpg
END:VEVENT
BEGIN:VEVENT
DTSTART;TZID=America/Vancouver:20190404T080000
DTEND;TZID=America/Vancouver:20190404T090000
DTSTAMP:20260419T213123
CREATED:20190327T043319Z
LAST-MODIFIED:20190327T043319Z
UID:10000193-1554364800-1554368400@whatsupinwells.com
SUMMARY:Pancake Breakfast
DESCRIPTION:The Wells Barkerville School pancake breakfast is a monthly event where you will find some great food and conversation. By donation : )
URL:https://whatsupinwells.com/event/pancake-breakfast-3/
LOCATION:Wells-Barkerville Community School\, Wells\, BC\, Canada
CATEGORIES:Food,Wells
ATTACH;FMTTYPE=image/jpeg:https://whatsupinwells.com/wp-content/uploads/2019/01/6518F1F1-35D4-4AA4-8E92-3CAB12A894C8.jpeg
END:VEVENT
END:VCALENDAR