BEGIN:VCALENDAR
VERSION:2.0
PRODID:-//What&#039;s Up in Wells - ECPv6.15.20//NONSGML v1.0//EN
CALSCALE:GREGORIAN
METHOD:PUBLISH
X-ORIGINAL-URL:https://whatsupinwells.com
X-WR-CALDESC:Events for What&#039;s Up in Wells
REFRESH-INTERVAL;VALUE=DURATION:PT1H
X-Robots-Tag:noindex
X-PUBLISHED-TTL:PT1H
BEGIN:VTIMEZONE
TZID:America/Vancouver
BEGIN:DAYLIGHT
TZOFFSETFROM:-0800
TZOFFSETTO:-0700
TZNAME:PDT
DTSTART:20200308T100000
END:DAYLIGHT
BEGIN:STANDARD
TZOFFSETFROM:-0700
TZOFFSETTO:-0800
TZNAME:PST
DTSTART:20201101T090000
END:STANDARD
BEGIN:DAYLIGHT
TZOFFSETFROM:-0800
TZOFFSETTO:-0700
TZNAME:PDT
DTSTART:20210314T100000
END:DAYLIGHT
BEGIN:STANDARD
TZOFFSETFROM:-0700
TZOFFSETTO:-0800
TZNAME:PST
DTSTART:20211107T090000
END:STANDARD
BEGIN:DAYLIGHT
TZOFFSETFROM:-0800
TZOFFSETTO:-0700
TZNAME:PDT
DTSTART:20220313T100000
END:DAYLIGHT
BEGIN:STANDARD
TZOFFSETFROM:-0700
TZOFFSETTO:-0800
TZNAME:PST
DTSTART:20221106T090000
END:STANDARD
END:VTIMEZONE
BEGIN:VEVENT
DTSTART;TZID=America/Vancouver:20211013T120000
DTEND;TZID=America/Vancouver:20211013T140000
DTSTAMP:20260425T200912
CREATED:20211009T232648Z
LAST-MODIFIED:20211009T232844Z
UID:10000483-1634126400-1634133600@whatsupinwells.com
SUMMARY:Official Community Plan Walk Through - in-person events
DESCRIPTION:The District of Wells and the OCP project team are hosting 3 engagement sessions (2 in-person and 1 virtual) to share the draft revised Official Community Plan (OCP) and receive input on key topics. The project team will be sharing the draft plan and requesting your feedback on issues like growth management\, housing\, and more! \nThe in-person events will start at the Sunset Theatre and the group will walk together to the Community Hall. There is a maximum of 35 participants at each session. Proof of vaccination and masks required at in-person events. \nPlease register to attend
URL:https://whatsupinwells.com/event/official-community-plan-walk-through-in-person-events/2021-10-13/1/
LOCATION:Sunset Theatre\, 2357 Pooley St.\, Wells\, BC\, v0k2r0\, Canada
CATEGORIES:Free,Wells
ATTACH;FMTTYPE=image/png:https://whatsupinwells.com/wp-content/uploads/2021/10/Wells-OCP-walk-through.png
END:VEVENT
BEGIN:VEVENT
DTSTART;TZID=America/Vancouver:20211013T190000
DTEND;TZID=America/Vancouver:20211013T210000
DTSTAMP:20260425T200912
CREATED:20211009T232648Z
LAST-MODIFIED:20211009T232844Z
UID:10000484-1634151600-1634158800@whatsupinwells.com
SUMMARY:Official Community Plan Walk Through - in-person events
DESCRIPTION:The District of Wells and the OCP project team are hosting 3 engagement sessions (2 in-person and 1 virtual) to share the draft revised Official Community Plan (OCP) and receive input on key topics. The project team will be sharing the draft plan and requesting your feedback on issues like growth management\, housing\, and more! \nThe in-person events will start at the Sunset Theatre and the group will walk together to the Community Hall. There is a maximum of 35 participants at each session. Proof of vaccination and masks required at in-person events. \nPlease register to attend
URL:https://whatsupinwells.com/event/official-community-plan-walk-through-in-person-events/2021-10-13/2/
LOCATION:Sunset Theatre\, 2357 Pooley St.\, Wells\, BC\, v0k2r0\, Canada
CATEGORIES:Free,Wells
ATTACH;FMTTYPE=image/png:https://whatsupinwells.com/wp-content/uploads/2021/10/Wells-OCP-walk-through.png
END:VEVENT
BEGIN:VEVENT
DTSTART;TZID=America/Vancouver:20211014T190000
DTEND;TZID=America/Vancouver:20211014T200000
DTSTAMP:20260425T200912
CREATED:20211009T233125Z
LAST-MODIFIED:20211010T002512Z
UID:10000485-1634238000-1634241600@whatsupinwells.com
SUMMARY:Official Community Plan Walk Through - virtual event
DESCRIPTION:The District of Wells and the OCP project team are hosting 3 engagement sessions (2 in-person and 1 virtual) to share the draft revised Official Community Plan (OCP) and receive input on key topics. The project team will “walk you through the draft OCP” and look forward to getting your input. \nA virtual session will be hosted on Zoom on October 14th from 7:00 PM to 8:00 PM (no RSVP required): \nhttps://us06web.zoom.us/j/88056220763
URL:https://whatsupinwells.com/event/official-community-plan-walk-through-virtual-event/
CATEGORIES:Free,Wells
ATTACH;FMTTYPE=image/png:https://whatsupinwells.com/wp-content/uploads/2021/10/Wells-OCP-walk-through.png
END:VEVENT
BEGIN:VEVENT
DTSTART;TZID=America/Vancouver:20211030T150000
DTEND;TZID=America/Vancouver:20211030T170000
DTSTAMP:20260425T200912
CREATED:20211009T231018Z
LAST-MODIFIED:20211009T231018Z
UID:10000479-1635606000-1635613200@whatsupinwells.com
SUMMARY:a blind contour workshop w/ Marlene Lowden
DESCRIPTION:see objects with your eyes\, and translate them through your hands\, all without looking at the paper in this workshop on the fundamental spatial drawing technique that helped create Blind Contour Homage.\n\nto join us for this workshop\, email elyssia@imarts.com or call 250 994 3466 to reserve your space.\n\nFree to attend\, with coffee and tea by donation.\nAges 12+ must be able to provide proof of vaccination. Masks will be required.\n\nThis opportunity is supported by the Canada Council for the Arts and BC’s Community Gaming Grant.\n\nBlind Contour Homage by Marlene Lowden is on display at the IMA Public Gallery until October 30th\, 2021\nFor more on Blind Contour Homage\, visit herartstory.com
URL:https://whatsupinwells.com/event/a-blind-contour-workshop-w-marlene-lowden/
CATEGORIES:Arts,Free
ATTACH;FMTTYPE=image/jpeg:https://whatsupinwells.com/wp-content/uploads/2021/10/blind-contour.jpg
END:VEVENT
BEGIN:VEVENT
DTSTART;TZID=America/Vancouver:20211031T170000
DTEND;TZID=America/Vancouver:20211031T220000
DTSTAMP:20260425T200912
CREATED:20211028T025842Z
LAST-MODIFIED:20211028T161915Z
UID:10000493-1635699600-1635717600@whatsupinwells.com
SUMMARY:The 2nd Annual Pooley Street Pumpkin Stroll
DESCRIPTION:Step 1: Starting Oct 26 pick up your free pumpkin & register at the Wells Hotel.\nStep 2: Head home and start carving.\nStep 3: Before noon on Oct 31st\, return your carved/decorated pumpkins to the Wells hotel.\nStep 4: Stroll along Pooley Street on Halloween Night. Enjoy the pumpkin path and vote for your favorite ones …\n\nEnjoy a hot chocolate & a candy bag\, or stop into the pub for drink specials & a best MASK prize.\n\nA SPOOKTACULAR EVENT…..
URL:https://whatsupinwells.com/event/the-2nd-annual-pooley-street-pumpkin-stroll/
LOCATION:The Wells Hotel\, 2341 Pooley St.\, Wells\, BC\, V0k2R0\, Canada
CATEGORIES:Free,Wells
ATTACH;FMTTYPE=image/jpeg:https://whatsupinwells.com/wp-content/uploads/2021/10/pumpkin-stroll.jpg
END:VEVENT
END:VCALENDAR