BEGIN:VCALENDAR
VERSION:2.0
PRODID:-//What&#039;s Up in Wells - ECPv6.15.20//NONSGML v1.0//EN
CALSCALE:GREGORIAN
METHOD:PUBLISH
X-ORIGINAL-URL:https://whatsupinwells.com
X-WR-CALDESC:Events for What&#039;s Up in Wells
REFRESH-INTERVAL;VALUE=DURATION:PT1H
X-Robots-Tag:noindex
X-PUBLISHED-TTL:PT1H
BEGIN:VTIMEZONE
TZID:America/Vancouver
BEGIN:DAYLIGHT
TZOFFSETFROM:-0800
TZOFFSETTO:-0700
TZNAME:PDT
DTSTART:20210314T100000
END:DAYLIGHT
BEGIN:STANDARD
TZOFFSETFROM:-0700
TZOFFSETTO:-0800
TZNAME:PST
DTSTART:20211107T090000
END:STANDARD
BEGIN:DAYLIGHT
TZOFFSETFROM:-0800
TZOFFSETTO:-0700
TZNAME:PDT
DTSTART:20220313T100000
END:DAYLIGHT
BEGIN:STANDARD
TZOFFSETFROM:-0700
TZOFFSETTO:-0800
TZNAME:PST
DTSTART:20221106T090000
END:STANDARD
BEGIN:DAYLIGHT
TZOFFSETFROM:-0800
TZOFFSETTO:-0700
TZNAME:PDT
DTSTART:20230312T100000
END:DAYLIGHT
BEGIN:STANDARD
TZOFFSETFROM:-0700
TZOFFSETTO:-0800
TZNAME:PST
DTSTART:20231105T090000
END:STANDARD
END:VTIMEZONE
BEGIN:VEVENT
DTSTART;TZID=America/Vancouver:20221125T090000
DTEND;TZID=America/Vancouver:20221125T120000
DTSTAMP:20260424T210837
CREATED:20221123T031618Z
LAST-MODIFIED:20221123T031800Z
UID:10000714-1669366800-1669377600@whatsupinwells.com
SUMMARY:Adventures in Fingerprint-ing! w/ Silky Hen Design - Youth Workshop
DESCRIPTION:There’s nothing more heartwarming at this time of year than a handwritten card! This is your opportunity to take your handwritten holiday greetings to the next level by including an imprint of your very own thumb (which some might say is an integral part of one’s handwriting!)!\n\nThere are two opportunities to engage with this workshop!\nYouth Ages 5 – 14 from 9:00 Am – 12:00 noon: We’ll meet up in the morning at the IMA Art Gallery for some card-making\, with pick up at noon from the Gallery!\nAdvance Registration is required. Once you’ve registered here\, we’ll send along a form to collect information about the young person in your life who will be joining us!\nAll Ages from 6:30 PM – 8:30 PM: Drop in and stoke those festive feelings! Advance registration is appreciated so we can make sure we have adequate materials! We’ll have snacks and beverages by donation!
URL:https://whatsupinwells.com/event/adventures-in-fingerprint-ing-w-silky-hen-design-youth-workshop/2022-11-25/
LOCATION:Island Mountain Arts\, 2323 Pooley St.\, Wells\, BC\, V0k2R0\, Canada
CATEGORIES:Arts,Free,Wells
ATTACH;FMTTYPE=image/jpeg:https://whatsupinwells.com/wp-content/uploads/2022/11/finger-printing.jpg
END:VEVENT
BEGIN:VEVENT
DTSTART;TZID=America/Vancouver:20221125T183000
DTEND;TZID=America/Vancouver:20221125T203000
DTSTAMP:20260424T210837
CREATED:20221123T031913Z
LAST-MODIFIED:20221123T031914Z
UID:10000715-1669401000-1669408200@whatsupinwells.com
SUMMARY:Adventures in Fingerprint-ing! w/ Silky Hen Design - All Ages Workshop
DESCRIPTION:There’s nothing more heartwarming at this time of year than a handwritten card! This is your opportunity to take your handwritten holiday greetings to the next level by including an imprint of your very own thumb (which some might say is an integral part of one’s handwriting!)!\n\nThere are two opportunities to engage with this workshop!\nYouth Ages 5 – 14 from 9:00 Am – 12:00 noon: We’ll meet up in the morning at the IMA Art Gallery for some card-making\, with pick up at noon from the Gallery!\nAdvance Registration is required. Once you’ve registered here\, we’ll send along a form to collect information about the young person in your life who will be joining us!\nAll Ages from 6:30 PM – 8:30 PM: Drop in and stoke those festive feelings! Advance registration is appreciated so we can make sure we have adequate materials! We’ll have snacks and beverages by donation!
URL:https://whatsupinwells.com/event/adventures-in-fingerprint-ing-w-silky-hen-design-youth-workshop-2/
LOCATION:Island Mountain Arts\, 2323 Pooley St.\, Wells\, BC\, V0k2R0\, Canada
CATEGORIES:Arts,Free,Wells
ATTACH;FMTTYPE=image/jpeg:https://whatsupinwells.com/wp-content/uploads/2022/11/finger-printing.jpg
END:VEVENT
END:VCALENDAR