BEGIN:VCALENDAR
VERSION:2.0
PRODID:-//What&#039;s Up in Wells - ECPv6.15.20//NONSGML v1.0//EN
CALSCALE:GREGORIAN
METHOD:PUBLISH
X-WR-CALNAME:What&#039;s Up in Wells
X-ORIGINAL-URL:https://whatsupinwells.com
X-WR-CALDESC:Events for What&#039;s Up in Wells
REFRESH-INTERVAL;VALUE=DURATION:PT1H
X-Robots-Tag:noindex
X-PUBLISHED-TTL:PT1H
BEGIN:VTIMEZONE
TZID:America/Vancouver
BEGIN:DAYLIGHT
TZOFFSETFROM:-0800
TZOFFSETTO:-0700
TZNAME:PDT
DTSTART:20210314T100000
END:DAYLIGHT
BEGIN:STANDARD
TZOFFSETFROM:-0700
TZOFFSETTO:-0800
TZNAME:PST
DTSTART:20211107T090000
END:STANDARD
BEGIN:DAYLIGHT
TZOFFSETFROM:-0800
TZOFFSETTO:-0700
TZNAME:PDT
DTSTART:20220313T100000
END:DAYLIGHT
BEGIN:STANDARD
TZOFFSETFROM:-0700
TZOFFSETTO:-0800
TZNAME:PST
DTSTART:20221106T090000
END:STANDARD
BEGIN:DAYLIGHT
TZOFFSETFROM:-0800
TZOFFSETTO:-0700
TZNAME:PDT
DTSTART:20230312T100000
END:DAYLIGHT
BEGIN:STANDARD
TZOFFSETFROM:-0700
TZOFFSETTO:-0800
TZNAME:PST
DTSTART:20231105T090000
END:STANDARD
END:VTIMEZONE
BEGIN:VEVENT
DTSTART;TZID=America/Vancouver:20221201T190000
DTEND;TZID=America/Vancouver:20221201T210000
DTSTAMP:20260424T191435
CREATED:20221129T184138Z
LAST-MODIFIED:20221129T184138Z
UID:10000724-1669921200-1669928400@whatsupinwells.com
SUMMARY:Wells Works | Opening Reception and Coffee House
DESCRIPTION:It’s that time of year where once again\, we celebrate the brilliant artistic humans that call the Wells/Barkerville/Bowron area Home!\n\nJoin us for some snacks\, a beverage\, and a good look around this annual exhibition! Admission is free\, with donations graciously accepted!\n\nWells Works will run until January 16th\, 2023.\nWe’ll also host a coffee house this evening! If you want to sing a tune or two\, or read us a little something\, or give us your tight five all ages comedy set – we are here for it!\nMessage elyssia@imarts.com to sign up!
URL:https://whatsupinwells.com/event/wells-works-opening-reception-and-coffee-house/
LOCATION:Island Mountain Arts\, 2323 Pooley St.\, Wells\, BC\, V0k2R0\, Canada
CATEGORIES:Arts,Free,Wells
ATTACH;FMTTYPE=image/jpeg:https://whatsupinwells.com/wp-content/uploads/2022/11/wells-works.jpg
END:VEVENT
BEGIN:VEVENT
DTSTART;TZID=America/Vancouver:20221203T100000
DTEND;TZID=America/Vancouver:20221203T120000
DTSTAMP:20260424T191435
CREATED:20221123T030548Z
LAST-MODIFIED:20221123T030548Z
UID:10000713-1670061600-1670068800@whatsupinwells.com
SUMMARY:Create-a-School Workshop
DESCRIPTION:Hello All\,\nI am so excited to invite you to our fifth workshop about a potential high school in Wells. Parents\, children\, business owners\, and people who are a part of community groups and community organizations are invited and encouraged to participate. We will explore and brainstorm what a potential high school could look like in the community. This workshop will be co-facilitated by Steve Dunsmuir\, a retired principal with experience in rural education who is a wealth of knowledge and is excited to lend his support. Food and drink will be provided.\nPlease\, if you have any questions or comments you would like to share\, don’t hesitate to email me at mcharg@unbc.ca.\nI hope to see you there 
URL:https://whatsupinwells.com/event/create-a-school-workshop/
LOCATION:Wells Community Hall\, 4269 Sanders Ave\, Wells\, BC\, V0K2R0\, Canada
CATEGORIES:Education,Free,Wells
ATTACH;FMTTYPE=image/jpeg:https://whatsupinwells.com/wp-content/uploads/2022/11/School-workshop.jpg
END:VEVENT
BEGIN:VEVENT
DTSTART;TZID=America/Vancouver:20221209T180000
DTEND;TZID=America/Vancouver:20221209T210000
DTSTAMP:20260424T191435
CREATED:20221129T184637Z
LAST-MODIFIED:20221129T184637Z
UID:10000725-1670608800-1670619600@whatsupinwells.com
SUMMARY:Osisko Development - Barkerville Gold Mines Community Christmas Dinner
DESCRIPTION:We would like to say thank you to the communities of Wells\, Barkerville\, and Bowron Lake and invite you to join us for our Community Christmas Dinner. \nTraditional Christmas Dinner Buffet. Catering provided by Evolution Camp Services
URL:https://whatsupinwells.com/event/osisko-development-barkerville-gold-mines-community-christmas-dinner/
LOCATION:Wells Community Hall\, 4269 Sanders Ave\, Wells\, BC\, V0K2R0\, Canada
CATEGORIES:Food,Free,Wells
ORGANIZER;CN="Barkerville Gold Mines":MAILTO:feedback@barkervillegold.com
END:VEVENT
END:VCALENDAR