BEGIN:VCALENDAR
VERSION:2.0
PRODID:-//What&#039;s Up in Wells - ECPv6.15.20//NONSGML v1.0//EN
CALSCALE:GREGORIAN
METHOD:PUBLISH
X-WR-CALNAME:What&#039;s Up in Wells
X-ORIGINAL-URL:https://whatsupinwells.com
X-WR-CALDESC:Events for What&#039;s Up in Wells
REFRESH-INTERVAL;VALUE=DURATION:PT1H
X-Robots-Tag:noindex
X-PUBLISHED-TTL:PT1H
BEGIN:VTIMEZONE
TZID:America/Vancouver
BEGIN:DAYLIGHT
TZOFFSETFROM:-0800
TZOFFSETTO:-0700
TZNAME:PDT
DTSTART:20220313T100000
END:DAYLIGHT
BEGIN:STANDARD
TZOFFSETFROM:-0700
TZOFFSETTO:-0800
TZNAME:PST
DTSTART:20221106T090000
END:STANDARD
BEGIN:DAYLIGHT
TZOFFSETFROM:-0800
TZOFFSETTO:-0700
TZNAME:PDT
DTSTART:20230312T100000
END:DAYLIGHT
BEGIN:STANDARD
TZOFFSETFROM:-0700
TZOFFSETTO:-0800
TZNAME:PST
DTSTART:20231105T090000
END:STANDARD
BEGIN:DAYLIGHT
TZOFFSETFROM:-0800
TZOFFSETTO:-0700
TZNAME:PDT
DTSTART:20240310T100000
END:DAYLIGHT
BEGIN:STANDARD
TZOFFSETFROM:-0700
TZOFFSETTO:-0800
TZNAME:PST
DTSTART:20241103T090000
END:STANDARD
END:VTIMEZONE
BEGIN:VEVENT
DTSTART;TZID=America/Vancouver:20230107T200000
DTEND;TZID=America/Vancouver:20230107T220000
DTSTAMP:20260424T171628
CREATED:20230106T232810Z
LAST-MODIFIED:20230106T232810Z
UID:10000739-1673121600-1673128800@whatsupinwells.com
SUMMARY:Saturday Night Live Music with Sage Gordon
DESCRIPTION:Enjoy the talents of local pianist and guitar player Sage Gordon.
URL:https://whatsupinwells.com/event/saturday-night-live-music-with-sage-gordon/
LOCATION:The Wells Hotel\, 2341 Pooley St.\, Wells\, BC\, V0k2R0\, Canada
CATEGORIES:19+,Arts,Free,Music,Wells
ATTACH;FMTTYPE=image/jpeg:https://whatsupinwells.com/wp-content/uploads/2023/01/317686713_10160209363443788_870049631633230858_n.jpg
END:VEVENT
BEGIN:VEVENT
DTSTART;TZID=America/Vancouver:20230128T100000
DTEND;TZID=America/Vancouver:20230128T150000
DTSTAMP:20260424T171628
CREATED:20230125T055436Z
LAST-MODIFIED:20230125T055436Z
UID:10000757-1674900000-1674918000@whatsupinwells.com
SUMMARY:Beginner Pickleball Workshop
DESCRIPTION:Looking for a new way to exercise and have fun? Become a Pickler! \nThe Wells Community Association has a new date for our Beginner Pickleball workshop. This Saturday\, January 28th! Beginner session is 10 am to 12 pm\, and the Intermediate session is 1 pm to 3 pm. Come out and have some fun. And then starting in February\, drop-in Pickleball will run every Thursday from 4-6 pm at the Community Hall.
URL:https://whatsupinwells.com/event/beginner-pickleball-workshop/
LOCATION:Wells Community Hall\, 4269 Sanders Ave\, Wells\, BC\, V0K2R0\, Canada
CATEGORIES:Free,Wells
ATTACH;FMTTYPE=image/jpeg:https://whatsupinwells.com/wp-content/uploads/2023/01/pickleball.jpg
ORGANIZER;CN="Wells and Area Community Association":MAILTO:Wellsareacommunity@gmail.com
END:VEVENT
END:VCALENDAR