BEGIN:VCALENDAR
VERSION:2.0
PRODID:-//What&#039;s Up in Wells - ECPv6.15.20//NONSGML v1.0//EN
CALSCALE:GREGORIAN
METHOD:PUBLISH
X-WR-CALNAME:What&#039;s Up in Wells
X-ORIGINAL-URL:https://whatsupinwells.com
X-WR-CALDESC:Events for What&#039;s Up in Wells
REFRESH-INTERVAL;VALUE=DURATION:PT1H
X-Robots-Tag:noindex
X-PUBLISHED-TTL:PT1H
BEGIN:VTIMEZONE
TZID:America/Vancouver
BEGIN:DAYLIGHT
TZOFFSETFROM:-0800
TZOFFSETTO:-0700
TZNAME:PDT
DTSTART:20220313T100000
END:DAYLIGHT
BEGIN:STANDARD
TZOFFSETFROM:-0700
TZOFFSETTO:-0800
TZNAME:PST
DTSTART:20221106T090000
END:STANDARD
BEGIN:DAYLIGHT
TZOFFSETFROM:-0800
TZOFFSETTO:-0700
TZNAME:PDT
DTSTART:20230312T100000
END:DAYLIGHT
BEGIN:STANDARD
TZOFFSETFROM:-0700
TZOFFSETTO:-0800
TZNAME:PST
DTSTART:20231105T090000
END:STANDARD
BEGIN:DAYLIGHT
TZOFFSETFROM:-0800
TZOFFSETTO:-0700
TZNAME:PDT
DTSTART:20240310T100000
END:DAYLIGHT
BEGIN:STANDARD
TZOFFSETFROM:-0700
TZOFFSETTO:-0800
TZNAME:PST
DTSTART:20241103T090000
END:STANDARD
END:VTIMEZONE
BEGIN:VEVENT
DTSTART;TZID=America/Vancouver:20230406T160000
DTEND;TZID=America/Vancouver:20230406T180000
DTSTAMP:20260424T115944
CREATED:20230125T055808Z
LAST-MODIFIED:20230125T055808Z
UID:10000767-1680796800-1680804000@whatsupinwells.com
SUMMARY:Pickleball at the Hall
DESCRIPTION:Looking for a new way to exercise and have fun? Become a pickler. Drop-in every Thursday from 4 pm to 6 pm at the Community Hall.
URL:https://whatsupinwells.com/event/pickleball-at-the-hall/2023-04-06/
LOCATION:Wells Community Hall\, 4269 Sanders Ave\, Wells\, BC\, V0K2R0\, Canada
CATEGORIES:Free,Wells
ATTACH;FMTTYPE=image/png:https://whatsupinwells.com/wp-content/uploads/2023/01/pickleball-2.png
ORGANIZER;CN="Wells and Area Community Association":MAILTO:Wellsareacommunity@gmail.com
END:VEVENT
BEGIN:VEVENT
DTSTART;TZID=America/Vancouver:20230413T160000
DTEND;TZID=America/Vancouver:20230413T180000
DTSTAMP:20260424T115944
CREATED:20230125T055808Z
LAST-MODIFIED:20230125T055808Z
UID:10000768-1681401600-1681408800@whatsupinwells.com
SUMMARY:Pickleball at the Hall
DESCRIPTION:Looking for a new way to exercise and have fun? Become a pickler. Drop-in every Thursday from 4 pm to 6 pm at the Community Hall.
URL:https://whatsupinwells.com/event/pickleball-at-the-hall/2023-04-13/
LOCATION:Wells Community Hall\, 4269 Sanders Ave\, Wells\, BC\, V0K2R0\, Canada
CATEGORIES:Free,Wells
ATTACH;FMTTYPE=image/png:https://whatsupinwells.com/wp-content/uploads/2023/01/pickleball-2.png
ORGANIZER;CN="Wells and Area Community Association":MAILTO:Wellsareacommunity@gmail.com
END:VEVENT
BEGIN:VEVENT
DTSTART;TZID=America/Vancouver:20230420T160000
DTEND;TZID=America/Vancouver:20230420T180000
DTSTAMP:20260424T115944
CREATED:20230125T055808Z
LAST-MODIFIED:20230125T055808Z
UID:10000769-1682006400-1682013600@whatsupinwells.com
SUMMARY:Pickleball at the Hall
DESCRIPTION:Looking for a new way to exercise and have fun? Become a pickler. Drop-in every Thursday from 4 pm to 6 pm at the Community Hall.
URL:https://whatsupinwells.com/event/pickleball-at-the-hall/2023-04-20/
LOCATION:Wells Community Hall\, 4269 Sanders Ave\, Wells\, BC\, V0K2R0\, Canada
CATEGORIES:Free,Wells
ATTACH;FMTTYPE=image/png:https://whatsupinwells.com/wp-content/uploads/2023/01/pickleball-2.png
ORGANIZER;CN="Wells and Area Community Association":MAILTO:Wellsareacommunity@gmail.com
END:VEVENT
BEGIN:VEVENT
DTSTART;TZID=America/Vancouver:20230421T160000
DTEND;TZID=America/Vancouver:20230421T210000
DTSTAMP:20260424T115944
CREATED:20230418T174137Z
LAST-MODIFIED:20230418T174137Z
UID:10000828-1682092800-1682110800@whatsupinwells.com
SUMMARY:Wells Community Organizations Open House
DESCRIPTION:The Community Organizations Open House is this Friday from 4pm to 9pm! \nThere is a great lineup of participating community groups. The Wells – Barkerville Community Forest will be there to answer any and all of your questions\, especially about our upcoming expansion. And don’t forget about the food! \nWe can’t wait to see you all there!
URL:https://whatsupinwells.com/event/wells-community-organizations-open-house/
LOCATION:Wells Community Hall\, 4269 Sanders Ave\, Wells\, BC\, V0K2R0\, Canada
CATEGORIES:Education,Food,Free,Wells
ATTACH;FMTTYPE=image/jpeg:https://whatsupinwells.com/wp-content/uploads/2018/12/MG_0046.jpg
END:VEVENT
END:VCALENDAR