BEGIN:VCALENDAR
VERSION:2.0
PRODID:-//What&#039;s Up in Wells - ECPv6.15.20//NONSGML v1.0//EN
CALSCALE:GREGORIAN
METHOD:PUBLISH
X-ORIGINAL-URL:https://whatsupinwells.com
X-WR-CALDESC:Events for What&#039;s Up in Wells
REFRESH-INTERVAL;VALUE=DURATION:PT1H
X-Robots-Tag:noindex
X-PUBLISHED-TTL:PT1H
BEGIN:VTIMEZONE
TZID:America/Vancouver
BEGIN:DAYLIGHT
TZOFFSETFROM:-0800
TZOFFSETTO:-0700
TZNAME:PDT
DTSTART:20220313T100000
END:DAYLIGHT
BEGIN:STANDARD
TZOFFSETFROM:-0700
TZOFFSETTO:-0800
TZNAME:PST
DTSTART:20221106T090000
END:STANDARD
BEGIN:DAYLIGHT
TZOFFSETFROM:-0800
TZOFFSETTO:-0700
TZNAME:PDT
DTSTART:20230312T100000
END:DAYLIGHT
BEGIN:STANDARD
TZOFFSETFROM:-0700
TZOFFSETTO:-0800
TZNAME:PST
DTSTART:20231105T090000
END:STANDARD
BEGIN:DAYLIGHT
TZOFFSETFROM:-0800
TZOFFSETTO:-0700
TZNAME:PDT
DTSTART:20240310T100000
END:DAYLIGHT
BEGIN:STANDARD
TZOFFSETFROM:-0700
TZOFFSETTO:-0800
TZNAME:PST
DTSTART:20241103T090000
END:STANDARD
END:VTIMEZONE
BEGIN:VEVENT
DTSTART;TZID=America/Vancouver:20230521T090000
DTEND;TZID=America/Vancouver:20230521T150000
DTSTAMP:20260424T103059
CREATED:20230517T203750Z
LAST-MODIFIED:20230517T203750Z
UID:10000892-1684659600-1684681200@whatsupinwells.com
SUMMARY:Wells Community-Wide Garage Sale
DESCRIPTION:Looking for a long weekend activity? Head out to Wells and discover some treasures in the community-wide garage sale. A list of participating locations below will be updated as new locations are added. A printed map will be available for pickup starting Saturday at the Wells Hotel. \nParticipating locations: \n\n2323 Pooley St (Island Mountain Arts Gallery)\n2341 Pooley Street (the Wells Hotel)\n2317 Bowman (Dave)\nApartment 33 – 3874 Solibakke (Larry)\nApartment 64 – 3805 Hong St (Sophie)\n12383 Barkerville Hwy (Jack O’ Clubs store)
URL:https://whatsupinwells.com/event/wells-community-wide-garage-sale/
LOCATION:BC
CATEGORIES:Free,Wells
ATTACH;FMTTYPE=image/jpeg:https://whatsupinwells.com/wp-content/uploads/2023/05/garage-sale.jpg
END:VEVENT
BEGIN:VEVENT
DTSTART;TZID=America/Vancouver:20230526T190000
DTEND;TZID=America/Vancouver:20230526T210000
DTSTAMP:20260424T103059
CREATED:20230526T155627Z
LAST-MODIFIED:20230526T155627Z
UID:10000903-1685127600-1685134800@whatsupinwells.com
SUMMARY:Gallery Opening: Face-To-Face
DESCRIPTION:Gallery Opening tomorrow May 26th @ 7:00 pm- 9:00 pm \nTwo deeply distinct series of portraits that demand a double-take. Troy Lindstrom and Samantha Wigglesworth’s joint exhibition opens at 7:00 PM – have some snacks and beverages with us\, and hear a bit from the two artists. ⁠ \nIn Face-to-face\, the work of Northern BC Artists Troy Lindstrom and Samantha Wigglesworth are exhibited together\, exploring the fine lines of first impressions and preconceived notions. \nAnyone can walk through this show and assume each person’s gender and sexuality based on the representation of the portraits. The question is\, would you be right in your assumptions and the labels you assign to them? How would you know? \nID: From left to right:\nTroy Lindstrom\, #NotSoulless\, Digital illustration\, 2021\nSamantha Wigglesworth\, AMBIGUOUS\, Acrylic on canvas with 3D elements\, 24 x 36 in\, 2021\nFace-To-Face\nTroy Lindstrom\nSamantha Wigglesworth
URL:https://whatsupinwells.com/event/gallery-opening-face-to-face/
LOCATION:Island Mountain Arts\, 2323 Pooley St.\, Wells\, BC\, V0k2R0\, Canada
CATEGORIES:Arts,Free,Wells
END:VEVENT
BEGIN:VEVENT
DTSTART;TZID=America/Vancouver:20230527T200000
DTEND;TZID=America/Vancouver:20230527T210000
DTSTAMP:20260424T103059
CREATED:20230526T155232Z
LAST-MODIFIED:20230526T155232Z
UID:10000902-1685217600-1685221200@whatsupinwells.com
SUMMARY:Trivia Battle: Integris vs. Wells
DESCRIPTION:The Board of Directors of Integris Credit Union is hosting their annual strategic planning retreat in Wells\, and for a bit of fun they’re inviting the locals out for a trivia battle! \nCome on down and join your neighbours in a bit of friendly competition with our local credit union. The winner of the battle gets to choose which local non-profit receives a $200 donation!
URL:https://whatsupinwells.com/event/trivia-battle-integris-vs-wells/
LOCATION:The Wells Hotel\, 2341 Pooley St.\, Wells\, BC\, V0k2R0\, Canada
CATEGORIES:Free,Wells
ATTACH;FMTTYPE=image/jpeg:https://whatsupinwells.com/wp-content/uploads/2023/05/trivia-battle.jpg
END:VEVENT
END:VCALENDAR