BEGIN:VCALENDAR
VERSION:2.0
PRODID:-//What&#039;s Up in Wells - ECPv6.15.20//NONSGML v1.0//EN
CALSCALE:GREGORIAN
METHOD:PUBLISH
X-ORIGINAL-URL:https://whatsupinwells.com
X-WR-CALDESC:Events for What&#039;s Up in Wells
REFRESH-INTERVAL;VALUE=DURATION:PT1H
X-Robots-Tag:noindex
X-PUBLISHED-TTL:PT1H
BEGIN:VTIMEZONE
TZID:America/Vancouver
BEGIN:DAYLIGHT
TZOFFSETFROM:-0800
TZOFFSETTO:-0700
TZNAME:PDT
DTSTART:20220313T100000
END:DAYLIGHT
BEGIN:STANDARD
TZOFFSETFROM:-0700
TZOFFSETTO:-0800
TZNAME:PST
DTSTART:20221106T090000
END:STANDARD
BEGIN:DAYLIGHT
TZOFFSETFROM:-0800
TZOFFSETTO:-0700
TZNAME:PDT
DTSTART:20230312T100000
END:DAYLIGHT
BEGIN:STANDARD
TZOFFSETFROM:-0700
TZOFFSETTO:-0800
TZNAME:PST
DTSTART:20231105T090000
END:STANDARD
BEGIN:DAYLIGHT
TZOFFSETFROM:-0800
TZOFFSETTO:-0700
TZNAME:PDT
DTSTART:20240310T100000
END:DAYLIGHT
BEGIN:STANDARD
TZOFFSETFROM:-0700
TZOFFSETTO:-0800
TZNAME:PST
DTSTART:20241103T090000
END:STANDARD
END:VTIMEZONE
BEGIN:VEVENT
DTSTART;TZID=America/Vancouver:20230611T180000
DTEND;TZID=America/Vancouver:20230611T200000
DTSTAMP:20260424T085146
CREATED:20230604T165626Z
LAST-MODIFIED:20230604T165930Z
UID:10000966-1686506400-1686513600@whatsupinwells.com
SUMMARY:Trivia Night: the Wells of Knowledge
DESCRIPTION:Join us for weekly trivia hosted by local writer\, actor\, and generally entertaining guy\, Ryan Schmitt.
URL:https://whatsupinwells.com/event/trivia-night-the-wells-of-knowledge/2023-06-11/
LOCATION:The Wells Hotel\, 2341 Pooley St.\, Wells\, BC\, V0k2R0\, Canada
CATEGORIES:Education,Free,Theatre,Wells
ATTACH;FMTTYPE=image/jpeg:https://whatsupinwells.com/wp-content/uploads/2023/05/trivia-night.jpg
END:VEVENT
BEGIN:VEVENT
DTSTART;VALUE=DATE:20230624
DTEND;VALUE=DATE:20230626
DTSTAMP:20260424T085146
CREATED:20230620T145712Z
LAST-MODIFIED:20230620T145712Z
UID:10001000-1687579200-1687665599@whatsupinwells.com
SUMMARY:Solid Roots Fundraiser
DESCRIPTION:A one-day treeplanting extravaganza to support the community of Wells in its pursuit of education for youth. \nAre you interested in planting trees to support our destination high school initiative in Wells? We’re looking for planters to join us on the block on June 24th to achieve our goal of planting 15\,000 seedlings. All planters will be provided with lunch\, refreshments and a free ticket to the Tree Planter’s Ball in the evening.
URL:https://whatsupinwells.com/event/solid-roots-fundraiser/
LOCATION:Wells Community Hall\, 4269 Sanders Ave\, Wells\, BC\, V0K2R0\, Canada
CATEGORIES:Education,Food,Free,Outdoor Recreation,Wells
ORGANIZER;CN="Wells and Area Community Association":MAILTO:Wellsareacommunity@gmail.com
END:VEVENT
BEGIN:VEVENT
DTSTART;TZID=America/Vancouver:20230625T180000
DTEND;TZID=America/Vancouver:20230625T200000
DTSTAMP:20260424T085146
CREATED:20230604T165626Z
LAST-MODIFIED:20230604T165930Z
UID:10000967-1687716000-1687723200@whatsupinwells.com
SUMMARY:Trivia Night: the Wells of Knowledge
DESCRIPTION:Join us for weekly trivia hosted by local writer\, actor\, and generally entertaining guy\, Ryan Schmitt.
URL:https://whatsupinwells.com/event/trivia-night-the-wells-of-knowledge/2023-06-25/
LOCATION:The Wells Hotel\, 2341 Pooley St.\, Wells\, BC\, V0k2R0\, Canada
CATEGORIES:Education,Free,Theatre,Wells
ATTACH;FMTTYPE=image/jpeg:https://whatsupinwells.com/wp-content/uploads/2023/05/trivia-night.jpg
END:VEVENT
BEGIN:VEVENT
DTSTART;TZID=America/Vancouver:20230630T200000
DTEND;TZID=America/Vancouver:20230630T220000
DTSTAMP:20260424T085146
CREATED:20230628T151058Z
LAST-MODIFIED:20230628T151159Z
UID:10001012-1688155200-1688162400@whatsupinwells.com
SUMMARY:Friday Night Music at the Wells Hotel
DESCRIPTION:Welcome back regular songster Sage Gordon to the stage for a Friday night of hot rock and blues tunes to kick off your long weekend.\nNo cover charge.
URL:https://whatsupinwells.com/event/friday-night-music-at-the-wells-hotel/
LOCATION:The Wells Hotel\, 2341 Pooley St.\, Wells\, BC\, V0k2R0\, Canada
CATEGORIES:Free,Music,Wells
ATTACH;FMTTYPE=image/jpeg:https://whatsupinwells.com/wp-content/uploads/2023/06/sage-gordon.jpg
END:VEVENT
END:VCALENDAR