BEGIN:VCALENDAR
VERSION:2.0
PRODID:-//What&#039;s Up in Wells - ECPv6.15.20//NONSGML v1.0//EN
CALSCALE:GREGORIAN
METHOD:PUBLISH
X-ORIGINAL-URL:https://whatsupinwells.com
X-WR-CALDESC:Events for What&#039;s Up in Wells
REFRESH-INTERVAL;VALUE=DURATION:PT1H
X-Robots-Tag:noindex
X-PUBLISHED-TTL:PT1H
BEGIN:VTIMEZONE
TZID:America/Vancouver
BEGIN:DAYLIGHT
TZOFFSETFROM:-0800
TZOFFSETTO:-0700
TZNAME:PDT
DTSTART:20220313T100000
END:DAYLIGHT
BEGIN:STANDARD
TZOFFSETFROM:-0700
TZOFFSETTO:-0800
TZNAME:PST
DTSTART:20221106T090000
END:STANDARD
BEGIN:DAYLIGHT
TZOFFSETFROM:-0800
TZOFFSETTO:-0700
TZNAME:PDT
DTSTART:20230312T100000
END:DAYLIGHT
BEGIN:STANDARD
TZOFFSETFROM:-0700
TZOFFSETTO:-0800
TZNAME:PST
DTSTART:20231105T090000
END:STANDARD
BEGIN:DAYLIGHT
TZOFFSETFROM:-0800
TZOFFSETTO:-0700
TZNAME:PDT
DTSTART:20240310T100000
END:DAYLIGHT
BEGIN:STANDARD
TZOFFSETFROM:-0700
TZOFFSETTO:-0800
TZNAME:PST
DTSTART:20241103T090000
END:STANDARD
END:VTIMEZONE
BEGIN:VEVENT
DTSTART;TZID=America/Vancouver:20230813T190000
DTEND;TZID=America/Vancouver:20230813T210000
DTSTAMP:20260424T051026
CREATED:20230728T163647Z
LAST-MODIFIED:20230728T163719Z
UID:10000970-1691953200-1691960400@whatsupinwells.com
SUMMARY:Trivia Night: the Wells of Knowledge
DESCRIPTION:Join us for weekly trivia hosted by local writer\, actor\, and generally entertaining guy\, Ryan Schmitt.
URL:https://whatsupinwells.com/event/trivia-night-the-wells-of-knowledge-5/2023-08-13/
LOCATION:The Wells Hotel\, 2341 Pooley St.\, Wells\, BC\, V0k2R0\, Canada
CATEGORIES:Education,Free,Theatre,Wells
ATTACH;FMTTYPE=image/jpeg:https://whatsupinwells.com/wp-content/uploads/2023/05/trivia-night.jpg
END:VEVENT
BEGIN:VEVENT
DTSTART;TZID=America/Vancouver:20230814T180000
DTEND;TZID=America/Vancouver:20230814T200000
DTSTAMP:20260424T051026
CREATED:20230810T152851Z
LAST-MODIFIED:20230810T152851Z
UID:10001345-1692036000-1692043200@whatsupinwells.com
SUMMARY:2023 Harp School Coffee House
DESCRIPTION:Hello coming up this August 14th\, 2023 bring your talents to this evening of performance and coffee! \nIn conjunction with the 2023 Harp School\, Island Mountain Arts opens its doors to the local community to showcase a variety of singing\, poem reading\, or instrument playing. As well as get the opportunity to hear some of the Harp School participants. \nLocated at the IMA gallery\, starting at 6:00 pm. Coffee\, Tea and Cake provided!\nHope to see you there!
URL:https://whatsupinwells.com/event/2023-harp-school-coffee-house/
LOCATION:Island Mountain Arts\, 2323 Pooley St.\, Wells\, BC\, V0k2R0\, Canada
CATEGORIES:Arts,Free,Music,Wells
ATTACH;FMTTYPE=image/jpeg:https://whatsupinwells.com/wp-content/uploads/2023/08/coffee-house.jpg
END:VEVENT
BEGIN:VEVENT
DTSTART;TZID=America/Vancouver:20230817T180000
DTEND;TZID=America/Vancouver:20230817T200000
DTSTAMP:20260424T051026
CREATED:20230810T153230Z
LAST-MODIFIED:20230810T153230Z
UID:10001346-1692295200-1692302400@whatsupinwells.com
SUMMARY:Harp School Potluck and Cèilidh
DESCRIPTION:Get ready for a celebration of community and an opportunity to hear a bit more from the Harp School.\nOn Thursday August 17th in the Wells Community Hall at 6:00pm come on over for Potluck and Cèilidh! We’re looking forward to gathering together!
URL:https://whatsupinwells.com/event/harp-school-potluck-and-ceilidh/
LOCATION:Wells Community Hall\, 4269 Sanders Ave\, Wells\, BC\, V0K2R0\, Canada
CATEGORIES:Food,Free,Music,Wells
ATTACH;FMTTYPE=image/jpeg:https://whatsupinwells.com/wp-content/uploads/2023/08/potluck.jpg
END:VEVENT
BEGIN:VEVENT
DTSTART;TZID=America/Vancouver:20230820T180000
DTEND;TZID=America/Vancouver:20230820T190000
DTSTAMP:20260424T051026
CREATED:20230810T152120Z
LAST-MODIFIED:20230810T152122Z
UID:10001018-1692554400-1692558000@whatsupinwells.com
SUMMARY:Rock Talks with Last Ditch Mining
DESCRIPTION:Join local miner and and geological enthusiastic Ian Douglas of Last Ditch Mining for a show and tell of rock samples and old stories from the region’s vast geological territory. Every second Sunday\, 6pm – 7pm in the Wells Hotel Lounge. Admission by donation. Minors must be accompanied by an adult guardian. \nJuly 16th\, July 30th\, August 13\, August 27 \nLearn more about Last Ditch Mining at lastditchmining.ca
URL:https://whatsupinwells.com/event/rock-talks-with-last-ditch-mining-2/
LOCATION:The Wells Hotel\, 2341 Pooley St.\, Wells\, BC\, V0k2R0\, Canada
CATEGORIES:Education,Free,Wells
ATTACH;FMTTYPE=image/jpeg:https://whatsupinwells.com/wp-content/uploads/2023/07/rock-talks.jpg
END:VEVENT
BEGIN:VEVENT
DTSTART;TZID=America/Vancouver:20230827T190000
DTEND;TZID=America/Vancouver:20230827T210000
DTSTAMP:20260424T051026
CREATED:20230728T163647Z
LAST-MODIFIED:20230728T163719Z
UID:10001316-1693162800-1693170000@whatsupinwells.com
SUMMARY:Trivia Night: the Wells of Knowledge
DESCRIPTION:Join us for weekly trivia hosted by local writer\, actor\, and generally entertaining guy\, Ryan Schmitt.
URL:https://whatsupinwells.com/event/trivia-night-the-wells-of-knowledge-5/2023-08-27/
LOCATION:The Wells Hotel\, 2341 Pooley St.\, Wells\, BC\, V0k2R0\, Canada
CATEGORIES:Education,Free,Theatre,Wells
ATTACH;FMTTYPE=image/jpeg:https://whatsupinwells.com/wp-content/uploads/2023/05/trivia-night.jpg
END:VEVENT
BEGIN:VEVENT
DTSTART;TZID=America/Vancouver:20230831T190000
DTEND;TZID=America/Vancouver:20230831T210000
DTSTAMP:20260424T051026
CREATED:20230728T162417Z
LAST-MODIFIED:20230728T162417Z
UID:10001310-1693508400-1693515600@whatsupinwells.com
SUMMARY:Exhibit Opening: Sensibilities of Place
DESCRIPTION:Sensibilities of Place is a conversation between self and place. An exploration of relationships between the environment\, systems\, people\, and those houses within. Conversations that connect the material with the abstract\, and the observed and the direct. The work manifest through bearing witness and being witnessed. These notions culminate physically in text and textiles.  The installation is an invitation to meander. \nThe artist will be in Wells creating site specific components prior to the opening on August 31st.
URL:https://whatsupinwells.com/event/exhibit-opening-sensibilities-of-place/
LOCATION:Island Mountain Arts\, 2323 Pooley St.\, Wells\, BC\, V0k2R0\, Canada
CATEGORIES:Arts,Free,Wells
ATTACH;FMTTYPE=image/jpeg:https://whatsupinwells.com/wp-content/uploads/2023/07/unnamed.jpg
END:VEVENT
END:VCALENDAR