BEGIN:VCALENDAR
VERSION:2.0
PRODID:-//What&#039;s Up in Wells - ECPv6.15.20//NONSGML v1.0//EN
CALSCALE:GREGORIAN
METHOD:PUBLISH
X-ORIGINAL-URL:https://whatsupinwells.com
X-WR-CALDESC:Events for What&#039;s Up in Wells
REFRESH-INTERVAL;VALUE=DURATION:PT1H
X-Robots-Tag:noindex
X-PUBLISHED-TTL:PT1H
BEGIN:VTIMEZONE
TZID:America/Vancouver
BEGIN:DAYLIGHT
TZOFFSETFROM:-0800
TZOFFSETTO:-0700
TZNAME:PDT
DTSTART:20230312T100000
END:DAYLIGHT
BEGIN:STANDARD
TZOFFSETFROM:-0700
TZOFFSETTO:-0800
TZNAME:PST
DTSTART:20231105T090000
END:STANDARD
BEGIN:DAYLIGHT
TZOFFSETFROM:-0800
TZOFFSETTO:-0700
TZNAME:PDT
DTSTART:20240310T100000
END:DAYLIGHT
BEGIN:STANDARD
TZOFFSETFROM:-0700
TZOFFSETTO:-0800
TZNAME:PST
DTSTART:20241103T090000
END:STANDARD
BEGIN:DAYLIGHT
TZOFFSETFROM:-0800
TZOFFSETTO:-0700
TZNAME:PDT
DTSTART:20250309T100000
END:DAYLIGHT
BEGIN:STANDARD
TZOFFSETFROM:-0700
TZOFFSETTO:-0800
TZNAME:PST
DTSTART:20251102T090000
END:STANDARD
END:VTIMEZONE
BEGIN:VEVENT
DTSTART;TZID=America/Vancouver:20240705T180000
DTEND;TZID=America/Vancouver:20240705T200000
DTSTAMP:20260423T083316
CREATED:20240630T212120Z
LAST-MODIFIED:20240630T212120Z
UID:10002763-1720202400-1720209600@whatsupinwells.com
SUMMARY:Happy 10th Birthday to the Nest - a Community Potluck
DESCRIPTION:Mark your calendars for July 5th and come celebrate our 10-year milestone at The Nest. \nJoin us for a special Community Potluck & BBQ where we’ll be sharing stories\, and celebrating 10 years past\, and 10 years to come. \nWe will also welcome our Toni Onley Artists Project artists. It’s a perfect opportunity to take a trip down memory lane\, cherish the present\, and set our sights on what’s to come. \nDo you have unforgettable experiences at The Nest that you’d like to share? We would love to hear your stories and memories. Feel free to leave your comments and let us know. \nMake a donation today and become an integral part of our ongoing story! https://www.canadahelps.org/en/charities/island-mountain-arts-society/ \nWe extend our heartfelt gratitude to all of you for being a part of this remarkable journey. Together\, we can ensure that The Nest continues to thrive as a dynamic hub for artists and our community for many more years to come! \n#Donation #Charity #CanadaHelps #GreatCanadianGivingChallenge #TheNest #ArtistInResidence #10Years #10Days #10Bucks #WellsBC
URL:https://whatsupinwells.com/event/happy-10th-birthday-to-the-nest-a-community-potluck/
LOCATION:The Nest\, 4234 Sanders Ave\, Wells\, BC\, V0K2R0\, Canada
CATEGORIES:Arts,Food,Free,Wells
ATTACH;FMTTYPE=image/jpeg:https://whatsupinwells.com/wp-content/uploads/2024/06/449689993_1299194471453724_3156233497621264337_n.jpg
END:VEVENT
BEGIN:VEVENT
DTSTART;TZID=America/Vancouver:20240707T130000
DTEND;TZID=America/Vancouver:20240707T150000
DTSTAMP:20260423T083316
CREATED:20240707T182852Z
LAST-MODIFIED:20240707T183011Z
UID:10002770-1720357200-1720364400@whatsupinwells.com
SUMMARY:Wells Disc Golf Weekly League Game
DESCRIPTION:A weekly meet-up on disc golf enthusiasts to play a round or two. All ages and abilities welcome. Meet at the gazebo at the end of the Community Forest Boardwalk Trail. \nNeed a disc? There are some available for purchase at the Wells Hotel
URL:https://whatsupinwells.com/event/wells-disc-golf-weekly-league-game/2024-07-07/
LOCATION:Wells Disc Golf Course
CATEGORIES:Free,Outdoor Recreation,Wells
ATTACH;FMTTYPE=image/jpeg:https://whatsupinwells.com/wp-content/uploads/2024/07/disc-golf-2.jpg
ORGANIZER;CN="Wells Disc Golf Association":MAILTO:wellsdiscgolf@gmail.com
END:VEVENT
BEGIN:VEVENT
DTSTART;TZID=America/Vancouver:20240708T190000
DTEND;TZID=America/Vancouver:20240708T200000
DTSTAMP:20260423T083316
CREATED:20240630T212320Z
LAST-MODIFIED:20240630T212320Z
UID:10002764-1720465200-1720468800@whatsupinwells.com
SUMMARY:Rita's Artist Talk
DESCRIPTION:Rita will talk about her recent works\, which incorporate audio\, electronics\, and mechanical performing objects\, focusing on the environmental impacts of resource extraction and demonstrating her desire to use sound to create a rhythmic voice of agency and empathy to articulate forces of resistance in the natural world.
URL:https://whatsupinwells.com/event/ritas-artist-talk/
LOCATION:Island Mountain Arts\, 2323 Pooley St.\, Wells\, BC\, V0k2R0\, Canada
CATEGORIES:Arts,Free,Wells
ATTACH;FMTTYPE=image/jpeg:https://whatsupinwells.com/wp-content/uploads/2024/06/448997824_1293493842023787_6455696754359491679_n.jpg
END:VEVENT
BEGIN:VEVENT
DTSTART;TZID=America/Vancouver:20240709T190000
DTEND;TZID=America/Vancouver:20240709T200000
DTSTAMP:20260423T083316
CREATED:20240630T212536Z
LAST-MODIFIED:20240630T212536Z
UID:10002765-1720551600-1720555200@whatsupinwells.com
SUMMARY:Peter's Artist Talks
DESCRIPTION:Peter will talk about his recent works involving lenticular images and fermentation processes: ‘Borrowing heavily from The Sciences yet with little focus on making money\, Flemming’s projects are fabricated weird worlds where uninhibited systems of circulation-feedback loops\, leakages\, Overlapping cycles—teeter between stability and instability.’
URL:https://whatsupinwells.com/event/peters-artist-talks/
LOCATION:Island Mountain Arts\, 2323 Pooley St.\, Wells\, BC\, V0k2R0\, Canada
CATEGORIES:Arts,Free,Wells
ATTACH;FMTTYPE=image/jpeg:https://whatsupinwells.com/wp-content/uploads/2024/06/449181007_1295050281868143_5569534349468801375_n.jpg
END:VEVENT
BEGIN:VEVENT
DTSTART;TZID=America/Vancouver:20240714T130000
DTEND;TZID=America/Vancouver:20240714T150000
DTSTAMP:20260423T083316
CREATED:20240707T182852Z
LAST-MODIFIED:20240707T183011Z
UID:10002771-1720962000-1720969200@whatsupinwells.com
SUMMARY:Wells Disc Golf Weekly League Game
DESCRIPTION:A weekly meet-up on disc golf enthusiasts to play a round or two. All ages and abilities welcome. Meet at the gazebo at the end of the Community Forest Boardwalk Trail. \nNeed a disc? There are some available for purchase at the Wells Hotel
URL:https://whatsupinwells.com/event/wells-disc-golf-weekly-league-game/2024-07-14/
LOCATION:Wells Disc Golf Course
CATEGORIES:Free,Outdoor Recreation,Wells
ATTACH;FMTTYPE=image/jpeg:https://whatsupinwells.com/wp-content/uploads/2024/07/disc-golf-2.jpg
ORGANIZER;CN="Wells Disc Golf Association":MAILTO:wellsdiscgolf@gmail.com
END:VEVENT
BEGIN:VEVENT
DTSTART;TZID=America/Vancouver:20240721T130000
DTEND;TZID=America/Vancouver:20240721T150000
DTSTAMP:20260423T083316
CREATED:20240707T182852Z
LAST-MODIFIED:20240707T183011Z
UID:10002772-1721566800-1721574000@whatsupinwells.com
SUMMARY:Wells Disc Golf Weekly League Game
DESCRIPTION:A weekly meet-up on disc golf enthusiasts to play a round or two. All ages and abilities welcome. Meet at the gazebo at the end of the Community Forest Boardwalk Trail. \nNeed a disc? There are some available for purchase at the Wells Hotel
URL:https://whatsupinwells.com/event/wells-disc-golf-weekly-league-game/2024-07-21/
LOCATION:Wells Disc Golf Course
CATEGORIES:Free,Outdoor Recreation,Wells
ATTACH;FMTTYPE=image/jpeg:https://whatsupinwells.com/wp-content/uploads/2024/07/disc-golf-2.jpg
ORGANIZER;CN="Wells Disc Golf Association":MAILTO:wellsdiscgolf@gmail.com
END:VEVENT
BEGIN:VEVENT
DTSTART;TZID=America/Vancouver:20240728T130000
DTEND;TZID=America/Vancouver:20240728T150000
DTSTAMP:20260423T083316
CREATED:20240707T182852Z
LAST-MODIFIED:20240707T183011Z
UID:10002773-1722171600-1722178800@whatsupinwells.com
SUMMARY:Wells Disc Golf Weekly League Game
DESCRIPTION:A weekly meet-up on disc golf enthusiasts to play a round or two. All ages and abilities welcome. Meet at the gazebo at the end of the Community Forest Boardwalk Trail. \nNeed a disc? There are some available for purchase at the Wells Hotel
URL:https://whatsupinwells.com/event/wells-disc-golf-weekly-league-game/2024-07-28/
LOCATION:Wells Disc Golf Course
CATEGORIES:Free,Outdoor Recreation,Wells
ATTACH;FMTTYPE=image/jpeg:https://whatsupinwells.com/wp-content/uploads/2024/07/disc-golf-2.jpg
ORGANIZER;CN="Wells Disc Golf Association":MAILTO:wellsdiscgolf@gmail.com
END:VEVENT
END:VCALENDAR