BEGIN:VCALENDAR
VERSION:2.0
PRODID:-//What&#039;s Up in Wells - ECPv6.15.20//NONSGML v1.0//EN
CALSCALE:GREGORIAN
METHOD:PUBLISH
X-ORIGINAL-URL:https://whatsupinwells.com
X-WR-CALDESC:Events for What&#039;s Up in Wells
REFRESH-INTERVAL;VALUE=DURATION:PT1H
X-Robots-Tag:noindex
X-PUBLISHED-TTL:PT1H
BEGIN:VTIMEZONE
TZID:America/Vancouver
BEGIN:DAYLIGHT
TZOFFSETFROM:-0800
TZOFFSETTO:-0700
TZNAME:PDT
DTSTART:20230312T100000
END:DAYLIGHT
BEGIN:STANDARD
TZOFFSETFROM:-0700
TZOFFSETTO:-0800
TZNAME:PST
DTSTART:20231105T090000
END:STANDARD
BEGIN:DAYLIGHT
TZOFFSETFROM:-0800
TZOFFSETTO:-0700
TZNAME:PDT
DTSTART:20240310T100000
END:DAYLIGHT
BEGIN:STANDARD
TZOFFSETFROM:-0700
TZOFFSETTO:-0800
TZNAME:PST
DTSTART:20241103T090000
END:STANDARD
BEGIN:DAYLIGHT
TZOFFSETFROM:-0800
TZOFFSETTO:-0700
TZNAME:PDT
DTSTART:20250309T100000
END:DAYLIGHT
BEGIN:STANDARD
TZOFFSETFROM:-0700
TZOFFSETTO:-0800
TZNAME:PST
DTSTART:20251102T090000
END:STANDARD
END:VTIMEZONE
BEGIN:VEVENT
DTSTART;TZID=America/Vancouver:20240804T130000
DTEND;TZID=America/Vancouver:20240804T150000
DTSTAMP:20260423T065931
CREATED:20240707T182852Z
LAST-MODIFIED:20240707T183011Z
UID:10002774-1722776400-1722783600@whatsupinwells.com
SUMMARY:Wells Disc Golf Weekly League Game
DESCRIPTION:A weekly meet-up on disc golf enthusiasts to play a round or two. All ages and abilities welcome. Meet at the gazebo at the end of the Community Forest Boardwalk Trail. \nNeed a disc? There are some available for purchase at the Wells Hotel
URL:https://whatsupinwells.com/event/wells-disc-golf-weekly-league-game/2024-08-04/
LOCATION:Wells Disc Golf Course
CATEGORIES:Free,Outdoor Recreation,Wells
ATTACH;FMTTYPE=image/jpeg:https://whatsupinwells.com/wp-content/uploads/2024/07/disc-golf-2.jpg
ORGANIZER;CN="Wells Disc Golf Association":MAILTO:wellsdiscgolf@gmail.com
END:VEVENT
BEGIN:VEVENT
DTSTART;TZID=America/Vancouver:20240811T130000
DTEND;TZID=America/Vancouver:20240811T150000
DTSTAMP:20260423T065931
CREATED:20240707T182852Z
LAST-MODIFIED:20240707T183011Z
UID:10002775-1723381200-1723388400@whatsupinwells.com
SUMMARY:Wells Disc Golf Weekly League Game
DESCRIPTION:A weekly meet-up on disc golf enthusiasts to play a round or two. All ages and abilities welcome. Meet at the gazebo at the end of the Community Forest Boardwalk Trail. \nNeed a disc? There are some available for purchase at the Wells Hotel
URL:https://whatsupinwells.com/event/wells-disc-golf-weekly-league-game/2024-08-11/
LOCATION:Wells Disc Golf Course
CATEGORIES:Free,Outdoor Recreation,Wells
ATTACH;FMTTYPE=image/jpeg:https://whatsupinwells.com/wp-content/uploads/2024/07/disc-golf-2.jpg
ORGANIZER;CN="Wells Disc Golf Association":MAILTO:wellsdiscgolf@gmail.com
END:VEVENT
BEGIN:VEVENT
DTSTART;TZID=America/Vancouver:20240818T130000
DTEND;TZID=America/Vancouver:20240818T150000
DTSTAMP:20260423T065931
CREATED:20240707T182852Z
LAST-MODIFIED:20240707T183011Z
UID:10002776-1723986000-1723993200@whatsupinwells.com
SUMMARY:Wells Disc Golf Weekly League Game
DESCRIPTION:A weekly meet-up on disc golf enthusiasts to play a round or two. All ages and abilities welcome. Meet at the gazebo at the end of the Community Forest Boardwalk Trail. \nNeed a disc? There are some available for purchase at the Wells Hotel
URL:https://whatsupinwells.com/event/wells-disc-golf-weekly-league-game/2024-08-18/
LOCATION:Wells Disc Golf Course
CATEGORIES:Free,Outdoor Recreation,Wells
ATTACH;FMTTYPE=image/jpeg:https://whatsupinwells.com/wp-content/uploads/2024/07/disc-golf-2.jpg
ORGANIZER;CN="Wells Disc Golf Association":MAILTO:wellsdiscgolf@gmail.com
END:VEVENT
BEGIN:VEVENT
DTSTART;TZID=America/Vancouver:20240822T190000
DTEND;TZID=America/Vancouver:20240822T200000
DTSTAMP:20260423T065931
CREATED:20240818T214240Z
LAST-MODIFIED:20240818T214240Z
UID:10002848-1724353200-1724356800@whatsupinwells.com
SUMMARY:Roots: a look at the permanent collection of Island Mountain Arts
DESCRIPTION:Join us on Thursday\, August 22nd\, 2024 at 7:00 pm for the opening reception of “Roots”\, a look at the permanent collection of Island Mountain Arts\, curated by Jessica Peachey. This reception will be accompanied by a draw night led by Miss Peachey\, exploring topics of place and reflection. \nThis exhibition is from the permanent collection of Island Mountain Arts. The exhibition follows four parts\, such as four seasons\, and takes the audience down a path of reflection and exploration. The viewer will go through the topics of settling\, standing\, rest\, and guidance\, in relation to the idea of roots. Posing the audience to think about; What nurtures the love for art in wells? How does art nourish the people of wells? What are our feelings surrounding these thoughts? \nThe “Roots” show will run from August 22nd to September 22nd\, and showcases the artwork of artists Al Colton\, David T. Alexander\, Eliza Fry\, Esther Colton\, Leya Tess\, Linda Dayan Frimer\, Michael Kluckner\, Peter Von Tiesenhausen\, Pnina Granirer\, Sayake Suzuki\, Shaela Kinting\, and Nelson Hughes.
URL:https://whatsupinwells.com/event/roots-a-look-at-the-permanent-collection-of-island-mountain-arts/
LOCATION:Island Mountain Arts\, 2323 Pooley St.\, Wells\, BC\, V0k2R0\, Canada
CATEGORIES:Arts,Free,Wells
ATTACH;FMTTYPE=image/jpeg:https://whatsupinwells.com/wp-content/uploads/2024/08/roots.jpg
END:VEVENT
BEGIN:VEVENT
DTSTART;TZID=America/Vancouver:20240825T130000
DTEND;TZID=America/Vancouver:20240825T150000
DTSTAMP:20260423T065931
CREATED:20240707T182852Z
LAST-MODIFIED:20240707T183011Z
UID:10002777-1724590800-1724598000@whatsupinwells.com
SUMMARY:Wells Disc Golf Weekly League Game
DESCRIPTION:A weekly meet-up on disc golf enthusiasts to play a round or two. All ages and abilities welcome. Meet at the gazebo at the end of the Community Forest Boardwalk Trail. \nNeed a disc? There are some available for purchase at the Wells Hotel
URL:https://whatsupinwells.com/event/wells-disc-golf-weekly-league-game/2024-08-25/
LOCATION:Wells Disc Golf Course
CATEGORIES:Free,Outdoor Recreation,Wells
ATTACH;FMTTYPE=image/jpeg:https://whatsupinwells.com/wp-content/uploads/2024/07/disc-golf-2.jpg
ORGANIZER;CN="Wells Disc Golf Association":MAILTO:wellsdiscgolf@gmail.com
END:VEVENT
END:VCALENDAR