BEGIN:VCALENDAR
VERSION:2.0
PRODID:-//What&#039;s Up in Wells - ECPv6.15.20//NONSGML v1.0//EN
CALSCALE:GREGORIAN
METHOD:PUBLISH
X-ORIGINAL-URL:https://whatsupinwells.com
X-WR-CALDESC:Events for What&#039;s Up in Wells
REFRESH-INTERVAL;VALUE=DURATION:PT1H
X-Robots-Tag:noindex
X-PUBLISHED-TTL:PT1H
BEGIN:VTIMEZONE
TZID:America/Vancouver
BEGIN:DAYLIGHT
TZOFFSETFROM:-0800
TZOFFSETTO:-0700
TZNAME:PDT
DTSTART:20230312T100000
END:DAYLIGHT
BEGIN:STANDARD
TZOFFSETFROM:-0700
TZOFFSETTO:-0800
TZNAME:PST
DTSTART:20231105T090000
END:STANDARD
BEGIN:DAYLIGHT
TZOFFSETFROM:-0800
TZOFFSETTO:-0700
TZNAME:PDT
DTSTART:20240310T100000
END:DAYLIGHT
BEGIN:STANDARD
TZOFFSETFROM:-0700
TZOFFSETTO:-0800
TZNAME:PST
DTSTART:20241103T090000
END:STANDARD
BEGIN:DAYLIGHT
TZOFFSETFROM:-0800
TZOFFSETTO:-0700
TZNAME:PDT
DTSTART:20250309T100000
END:DAYLIGHT
BEGIN:STANDARD
TZOFFSETFROM:-0700
TZOFFSETTO:-0800
TZNAME:PST
DTSTART:20251102T090000
END:STANDARD
END:VTIMEZONE
BEGIN:VEVENT
DTSTART;TZID=America/Vancouver:20240901T130000
DTEND;TZID=America/Vancouver:20240901T150000
DTSTAMP:20260423T052558
CREATED:20240707T182852Z
LAST-MODIFIED:20240707T183011Z
UID:10002778-1725195600-1725202800@whatsupinwells.com
SUMMARY:Wells Disc Golf Weekly League Game
DESCRIPTION:A weekly meet-up on disc golf enthusiasts to play a round or two. All ages and abilities welcome. Meet at the gazebo at the end of the Community Forest Boardwalk Trail. \nNeed a disc? There are some available for purchase at the Wells Hotel
URL:https://whatsupinwells.com/event/wells-disc-golf-weekly-league-game/2024-09-01/
LOCATION:Wells Disc Golf Course
CATEGORIES:Free,Outdoor Recreation,Wells
ATTACH;FMTTYPE=image/jpeg:https://whatsupinwells.com/wp-content/uploads/2024/07/disc-golf-2.jpg
ORGANIZER;CN="Wells Disc Golf Association":MAILTO:wellsdiscgolf@gmail.com
END:VEVENT
BEGIN:VEVENT
DTSTART;TZID=America/Vancouver:20240905T170000
DTEND;TZID=America/Vancouver:20240905T200000
DTSTAMP:20260423T052558
CREATED:20240830T181258Z
LAST-MODIFIED:20240830T182415Z
UID:10002850-1725555600-1725566400@whatsupinwells.com
SUMMARY:Osisko Community BBQ and Mine Site Presentation
DESCRIPTION:Osisko Development and the Cariboo Gold Project would like to invite Wells and Area residents to a Community BBQ Dinner and presentation of the Preliminary Mine Site Complex 3D Model\, along with a Corporate Update\, on September 5 from 5:00-8:00 pm.We look forward to seeing you there!
URL:https://whatsupinwells.com/event/osisko-community-bbq-and-mine-site-presentation/
LOCATION:Wells Community Hall\, 4269 Sanders Ave\, Wells\, BC\, V0K2R0\, Canada
CATEGORIES:Barkerville,Education,Food,Free,Wells
ATTACH;FMTTYPE=image/jpeg:https://whatsupinwells.com/wp-content/uploads/2024/08/osisko-bbq.jpg
ORGANIZER;CN="Barkerville Gold Mines":MAILTO:feedback@barkervillegold.com
END:VEVENT
BEGIN:VEVENT
DTSTART;TZID=America/Vancouver:20240908T130000
DTEND;TZID=America/Vancouver:20240908T150000
DTSTAMP:20260423T052558
CREATED:20240707T182852Z
LAST-MODIFIED:20240707T183011Z
UID:10002779-1725800400-1725807600@whatsupinwells.com
SUMMARY:Wells Disc Golf Weekly League Game
DESCRIPTION:A weekly meet-up on disc golf enthusiasts to play a round or two. All ages and abilities welcome. Meet at the gazebo at the end of the Community Forest Boardwalk Trail. \nNeed a disc? There are some available for purchase at the Wells Hotel
URL:https://whatsupinwells.com/event/wells-disc-golf-weekly-league-game/2024-09-08/
LOCATION:Wells Disc Golf Course
CATEGORIES:Free,Outdoor Recreation,Wells
ATTACH;FMTTYPE=image/jpeg:https://whatsupinwells.com/wp-content/uploads/2024/07/disc-golf-2.jpg
ORGANIZER;CN="Wells Disc Golf Association":MAILTO:wellsdiscgolf@gmail.com
END:VEVENT
BEGIN:VEVENT
DTSTART;TZID=America/Vancouver:20240911T180000
DTEND;TZID=America/Vancouver:20240911T210000
DTSTAMP:20260423T052558
CREATED:20240830T191955Z
LAST-MODIFIED:20240830T191955Z
UID:10002852-1726077600-1726088400@whatsupinwells.com
SUMMARY:Wells Works Wednesdays
DESCRIPTION:Do you have an art project you’ve been neglecting? Do you want to meet up with other folks in Wells and share what you know? Looking to get crafty this fall? Then join us for Wells Works Wednesdays!\nIMA will be hosting workshops starting Wednesday September 11 until November 20. Workshops will be held at 2323 Pooley Street (the IMA Gallery) from 6:00 to 9:00 PM. All ages are welcome. Materials\, coffee\, tea\, hot chocolate and snacks by donation. \nDates are: \n\nSeptember 11\nSeptember 23\nOctober 7\nOctober 23\nNovember 6\nNovember 20\n\nAdditionally\, we’re encouraging workshop participants to submit their work made in these sessions to the 2024 Wells Works Exhibition (running Nov. 28- Jan. 5). We love this annual exhibition\, which celebrates work from folks living in the Wells/Barkerville/Bowron areas. If you cannot participate in the workshops\, but would like to submit to the Wells Works Exhibition\, we encourage you to submit as well. \nContact info@imarts.com for any other questions.\nIMA’s Public Gallery operations are made possible through the support of the Province of British Columbia. Wells Works 2024 is supported through a generous donation made in memory of Caroline Murphy\, a talented visual artist and dearly-missed mother who would have been happy to see people coming together to make art.
URL:https://whatsupinwells.com/event/wells-works-wednesdays/
LOCATION:Island Mountain Arts\, 2323 Pooley St.\, Wells\, BC\, V0k2R0\, Canada
CATEGORIES:Arts,Free,Wells
ATTACH;FMTTYPE=image/jpeg:https://whatsupinwells.com/wp-content/uploads/2024/08/wells-works-wednesdays.jpg
END:VEVENT
BEGIN:VEVENT
DTSTART;TZID=America/Vancouver:20240915T130000
DTEND;TZID=America/Vancouver:20240915T150000
DTSTAMP:20260423T052558
CREATED:20240707T182852Z
LAST-MODIFIED:20240707T183011Z
UID:10002780-1726405200-1726412400@whatsupinwells.com
SUMMARY:Wells Disc Golf Weekly League Game
DESCRIPTION:A weekly meet-up on disc golf enthusiasts to play a round or two. All ages and abilities welcome. Meet at the gazebo at the end of the Community Forest Boardwalk Trail. \nNeed a disc? There are some available for purchase at the Wells Hotel
URL:https://whatsupinwells.com/event/wells-disc-golf-weekly-league-game/2024-09-15/
LOCATION:Wells Disc Golf Course
CATEGORIES:Free,Outdoor Recreation,Wells
ATTACH;FMTTYPE=image/jpeg:https://whatsupinwells.com/wp-content/uploads/2024/07/disc-golf-2.jpg
ORGANIZER;CN="Wells Disc Golf Association":MAILTO:wellsdiscgolf@gmail.com
END:VEVENT
BEGIN:VEVENT
DTSTART;TZID=America/Vancouver:20240922T130000
DTEND;TZID=America/Vancouver:20240922T150000
DTSTAMP:20260423T052558
CREATED:20240707T182852Z
LAST-MODIFIED:20240707T183011Z
UID:10002781-1727010000-1727017200@whatsupinwells.com
SUMMARY:Wells Disc Golf Weekly League Game
DESCRIPTION:A weekly meet-up on disc golf enthusiasts to play a round or two. All ages and abilities welcome. Meet at the gazebo at the end of the Community Forest Boardwalk Trail. \nNeed a disc? There are some available for purchase at the Wells Hotel
URL:https://whatsupinwells.com/event/wells-disc-golf-weekly-league-game/2024-09-22/
LOCATION:Wells Disc Golf Course
CATEGORIES:Free,Outdoor Recreation,Wells
ATTACH;FMTTYPE=image/jpeg:https://whatsupinwells.com/wp-content/uploads/2024/07/disc-golf-2.jpg
ORGANIZER;CN="Wells Disc Golf Association":MAILTO:wellsdiscgolf@gmail.com
END:VEVENT
BEGIN:VEVENT
DTSTART;TZID=America/Vancouver:20240929T130000
DTEND;TZID=America/Vancouver:20240929T150000
DTSTAMP:20260423T052558
CREATED:20240707T182852Z
LAST-MODIFIED:20240707T183011Z
UID:10002782-1727614800-1727622000@whatsupinwells.com
SUMMARY:Wells Disc Golf Weekly League Game
DESCRIPTION:A weekly meet-up on disc golf enthusiasts to play a round or two. All ages and abilities welcome. Meet at the gazebo at the end of the Community Forest Boardwalk Trail. \nNeed a disc? There are some available for purchase at the Wells Hotel
URL:https://whatsupinwells.com/event/wells-disc-golf-weekly-league-game/2024-09-29/
LOCATION:Wells Disc Golf Course
CATEGORIES:Free,Outdoor Recreation,Wells
ATTACH;FMTTYPE=image/jpeg:https://whatsupinwells.com/wp-content/uploads/2024/07/disc-golf-2.jpg
ORGANIZER;CN="Wells Disc Golf Association":MAILTO:wellsdiscgolf@gmail.com
END:VEVENT
END:VCALENDAR