BEGIN:VCALENDAR
VERSION:2.0
PRODID:-//What&#039;s Up in Wells - ECPv6.15.20//NONSGML v1.0//EN
CALSCALE:GREGORIAN
METHOD:PUBLISH
X-ORIGINAL-URL:https://whatsupinwells.com
X-WR-CALDESC:Events for What&#039;s Up in Wells
REFRESH-INTERVAL;VALUE=DURATION:PT1H
X-Robots-Tag:noindex
X-PUBLISHED-TTL:PT1H
BEGIN:VTIMEZONE
TZID:America/Vancouver
BEGIN:DAYLIGHT
TZOFFSETFROM:-0800
TZOFFSETTO:-0700
TZNAME:PDT
DTSTART:20230312T100000
END:DAYLIGHT
BEGIN:STANDARD
TZOFFSETFROM:-0700
TZOFFSETTO:-0800
TZNAME:PST
DTSTART:20231105T090000
END:STANDARD
BEGIN:DAYLIGHT
TZOFFSETFROM:-0800
TZOFFSETTO:-0700
TZNAME:PDT
DTSTART:20240310T100000
END:DAYLIGHT
BEGIN:STANDARD
TZOFFSETFROM:-0700
TZOFFSETTO:-0800
TZNAME:PST
DTSTART:20241103T090000
END:STANDARD
BEGIN:DAYLIGHT
TZOFFSETFROM:-0800
TZOFFSETTO:-0700
TZNAME:PDT
DTSTART:20250309T100000
END:DAYLIGHT
BEGIN:STANDARD
TZOFFSETFROM:-0700
TZOFFSETTO:-0800
TZNAME:PST
DTSTART:20251102T090000
END:STANDARD
END:VTIMEZONE
BEGIN:VEVENT
DTSTART;TZID=America/Vancouver:20241121T180000
DTEND;TZID=America/Vancouver:20241121T210000
DTSTAMP:20260423T021052
CREATED:20241118T180007Z
LAST-MODIFIED:20241118T180007Z
UID:10002942-1732212000-1732222800@whatsupinwells.com
SUMMARY:Wells Works Thursday
DESCRIPTION:FOLKS! \nIt’s the last Wells Works of November – my oh my\, where has the time gone?! \nSo we don’t compete with @pianoheistcanada while they are performing in Wells at @sunset_theatre\, we are moving Wells Works to Thursday\, November 21st. Come join us for some acrylic pours in the Gallery. We have an excess of materials thanks to a generous donation from Diggy’s Diner 🙂 \nSee you there!
URL:https://whatsupinwells.com/event/wells-works-thursday/
LOCATION:Island Mountain Arts\, 2323 Pooley St.\, Wells\, BC\, V0k2R0\, Canada
CATEGORIES:Arts,Free,Wells
ATTACH;FMTTYPE=image/jpeg:https://whatsupinwells.com/wp-content/uploads/2024/11/466683788_1402778944428609_3547837106962119987_n.jpg
END:VEVENT
END:VCALENDAR