BEGIN:VCALENDAR
VERSION:2.0
PRODID:-//What&#039;s Up in Wells - ECPv6.15.20//NONSGML v1.0//EN
CALSCALE:GREGORIAN
METHOD:PUBLISH
X-WR-CALNAME:What&#039;s Up in Wells
X-ORIGINAL-URL:https://whatsupinwells.com
X-WR-CALDESC:Events for What&#039;s Up in Wells
REFRESH-INTERVAL;VALUE=DURATION:PT1H
X-Robots-Tag:noindex
X-PUBLISHED-TTL:PT1H
BEGIN:VTIMEZONE
TZID:America/Vancouver
BEGIN:DAYLIGHT
TZOFFSETFROM:-0800
TZOFFSETTO:-0700
TZNAME:PDT
DTSTART:20230312T100000
END:DAYLIGHT
BEGIN:STANDARD
TZOFFSETFROM:-0700
TZOFFSETTO:-0800
TZNAME:PST
DTSTART:20231105T090000
END:STANDARD
BEGIN:DAYLIGHT
TZOFFSETFROM:-0800
TZOFFSETTO:-0700
TZNAME:PDT
DTSTART:20240310T100000
END:DAYLIGHT
BEGIN:STANDARD
TZOFFSETFROM:-0700
TZOFFSETTO:-0800
TZNAME:PST
DTSTART:20241103T090000
END:STANDARD
BEGIN:DAYLIGHT
TZOFFSETFROM:-0800
TZOFFSETTO:-0700
TZNAME:PDT
DTSTART:20250309T100000
END:DAYLIGHT
BEGIN:STANDARD
TZOFFSETFROM:-0700
TZOFFSETTO:-0800
TZNAME:PST
DTSTART:20251102T090000
END:STANDARD
BEGIN:DAYLIGHT
TZOFFSETFROM:-0800
TZOFFSETTO:-0700
TZNAME:PDT
DTSTART:20260308T100000
END:DAYLIGHT
BEGIN:STANDARD
TZOFFSETFROM:-0700
TZOFFSETTO:-0800
TZNAME:PST
DTSTART:20261101T090000
END:STANDARD
END:VTIMEZONE
BEGIN:VEVENT
DTSTART;TZID=America/Vancouver:20250222T210000
DTEND;TZID=America/Vancouver:20250222T233000
DTSTAMP:20260423T164109
CREATED:20241118T180500Z
LAST-MODIFIED:20241118T180500Z
UID:10002978-1740258000-1740267000@whatsupinwells.com
SUMMARY:Karaoke Night
DESCRIPTION:Every Saturday from 9 pm to late
URL:https://whatsupinwells.com/event/karaoke-night-4/2025-02-22/
LOCATION:Jack O’ Club Restaurant & Pub\, 12383 Hwy 27 E.\, Wells\, BC\, V0K2R0\, Canada
CATEGORIES:19+,Music,Wells
ATTACH;FMTTYPE=image/jpeg:https://whatsupinwells.com/wp-content/uploads/2023/07/karaokee.jpg
END:VEVENT
BEGIN:VEVENT
DTSTART;TZID=America/Vancouver:20250215T210000
DTEND;TZID=America/Vancouver:20250215T233000
DTSTAMP:20260423T164109
CREATED:20241118T180500Z
LAST-MODIFIED:20241118T180500Z
UID:10002977-1739653200-1739662200@whatsupinwells.com
SUMMARY:Karaoke Night
DESCRIPTION:Every Saturday from 9 pm to late
URL:https://whatsupinwells.com/event/karaoke-night-4/2025-02-15/
LOCATION:Jack O’ Club Restaurant & Pub\, 12383 Hwy 27 E.\, Wells\, BC\, V0K2R0\, Canada
CATEGORIES:19+,Music,Wells
ATTACH;FMTTYPE=image/jpeg:https://whatsupinwells.com/wp-content/uploads/2023/07/karaokee.jpg
END:VEVENT
BEGIN:VEVENT
DTSTART;TZID=America/Vancouver:20250214T200000
DTEND;TZID=America/Vancouver:20250214T220000
DTSTAMP:20260423T164109
CREATED:20250117T011410Z
LAST-MODIFIED:20250117T011410Z
UID:10003497-1739563200-1739570400@whatsupinwells.com
SUMMARY:Firebird - Live Music at the Wells Hotel
DESCRIPTION:Firebird is three accomplished singer-songwriters\, living and working on traditional Quw’utsun lands\, leaning heavily into gorgeous three part harmonies and catchy heartfelt songs. With guitar\, piano\, accordion\, and bouzouki they meld Irish\, bluegrass and pop to create a fusion folk that is full of fire and redemption. \nThey’ll be playing plenty of love songs for this Valentines Day show at the Wells Hotel. Admission by donation. \nSorry\, no minors permitted after the end of food service
URL:https://whatsupinwells.com/event/firebird-live-music-at-the-wells-hotel/
LOCATION:The Wells Hotel\, 2341 Pooley St.\, Wells\, BC\, V0k2R0\, Canada
CATEGORIES:19+,Arts,Music,Wells
ATTACH;FMTTYPE=image/png:https://whatsupinwells.com/wp-content/uploads/2025/01/Firebird-18.png
END:VEVENT
BEGIN:VEVENT
DTSTART;TZID=America/Vancouver:20250208T210000
DTEND;TZID=America/Vancouver:20250208T233000
DTSTAMP:20260423T164109
CREATED:20241118T180500Z
LAST-MODIFIED:20241118T180500Z
UID:10002976-1739048400-1739057400@whatsupinwells.com
SUMMARY:Karaoke Night
DESCRIPTION:Every Saturday from 9 pm to late
URL:https://whatsupinwells.com/event/karaoke-night-4/2025-02-08/
LOCATION:Jack O’ Club Restaurant & Pub\, 12383 Hwy 27 E.\, Wells\, BC\, V0K2R0\, Canada
CATEGORIES:19+,Music,Wells
ATTACH;FMTTYPE=image/jpeg:https://whatsupinwells.com/wp-content/uploads/2023/07/karaokee.jpg
END:VEVENT
BEGIN:VEVENT
DTSTART;TZID=America/Vancouver:20250201T210000
DTEND;TZID=America/Vancouver:20250201T233000
DTSTAMP:20260423T164109
CREATED:20241118T180500Z
LAST-MODIFIED:20241118T180500Z
UID:10002975-1738443600-1738452600@whatsupinwells.com
SUMMARY:Karaoke Night
DESCRIPTION:Every Saturday from 9 pm to late
URL:https://whatsupinwells.com/event/karaoke-night-4/2025-02-01/
LOCATION:Jack O’ Club Restaurant & Pub\, 12383 Hwy 27 E.\, Wells\, BC\, V0K2R0\, Canada
CATEGORIES:19+,Music,Wells
ATTACH;FMTTYPE=image/jpeg:https://whatsupinwells.com/wp-content/uploads/2023/07/karaokee.jpg
END:VEVENT
BEGIN:VEVENT
DTSTART;TZID=America/Vancouver:20250126T170000
DTEND;TZID=America/Vancouver:20250126T200000
DTSTAMP:20260423T164109
CREATED:20250117T011140Z
LAST-MODIFIED:20250117T011140Z
UID:10003496-1737910800-1737921600@whatsupinwells.com
SUMMARY:Burns Night: a celebration of all things Scottish
DESCRIPTION:Burns Night is a time to enjoy Scottish traditions and celebrate the renowned poet Robert Burns. The celebrations centre around the Bard’s birthday on January 25th. They first began in 1801 and have continued all over the world as an homage to his words and Scotland’s enduring legacy of creativity. \nJoin us at the Wells Hotel on Sunday\, January 26th for an evening that will feature music\, poetry\, food\, whiskey\, and good company. Door open at 5pm\, festivities begin at 6pm. \nYour ticket includes:\n* a three-course traditional Scottish meal: soup\, steak pie with neeps and tatties\, and dessert\, with sample of haggis\,\n* 4 x 1/2 oz curated Scotch whiskey tasting from our extensive collection.\n* Bagpipes as played by local legands Judy Campbell and Donald Lindsay\n* The poetry of Robbie Burns\n* Vegetarian and alcohol-free options on offer as well. \nJoin us as we raise a toast to the immortal words of Burns and bring past and present together to create a celebration that resonates with the spirit of Scotland. \nFull ticket: $45 per person\nNo-alcohol ticket: $30 per person\nChildren ages 4-12 ticket: $15 per person \nSchedule of ceremonies\, starting at 6pm:\n* Opening pipes\n* Toast from the host\n* Soup course with Scotch pairing\n* Piping in the haggis\n* Address to the haggis\n* Main course with Scotch pairing\n* Toast to the Lassies and response\n* Dessert course and Scotch pairing\n* Poem reading and final piping\n* Final Scotch tasting \nDress: tartan (plaid) encouraged.
URL:https://whatsupinwells.com/event/burns-night-a-celebration-of-all-things-scottish/
LOCATION:The Wells Hotel\, 2341 Pooley St.\, Wells\, BC\, V0k2R0\, Canada
CATEGORIES:Arts,Food,Music,Wells
ATTACH;FMTTYPE=image/png:https://whatsupinwells.com/wp-content/uploads/2025/01/Burns-Night-Poster.png
END:VEVENT
BEGIN:VEVENT
DTSTART;TZID=America/Vancouver:20250125T210000
DTEND;TZID=America/Vancouver:20250125T233000
DTSTAMP:20260423T164109
CREATED:20241118T180500Z
LAST-MODIFIED:20241118T180500Z
UID:10002974-1737838800-1737847800@whatsupinwells.com
SUMMARY:Karaoke Night
DESCRIPTION:Every Saturday from 9 pm to late
URL:https://whatsupinwells.com/event/karaoke-night-4/2025-01-25/
LOCATION:Jack O’ Club Restaurant & Pub\, 12383 Hwy 27 E.\, Wells\, BC\, V0K2R0\, Canada
CATEGORIES:19+,Music,Wells
ATTACH;FMTTYPE=image/jpeg:https://whatsupinwells.com/wp-content/uploads/2023/07/karaokee.jpg
END:VEVENT
BEGIN:VEVENT
DTSTART;TZID=America/Vancouver:20250118T210000
DTEND;TZID=America/Vancouver:20250118T233000
DTSTAMP:20260423T164109
CREATED:20241118T180500Z
LAST-MODIFIED:20241118T180500Z
UID:10002973-1737234000-1737243000@whatsupinwells.com
SUMMARY:Karaoke Night
DESCRIPTION:Every Saturday from 9 pm to late
URL:https://whatsupinwells.com/event/karaoke-night-4/2025-01-18/
LOCATION:Jack O’ Club Restaurant & Pub\, 12383 Hwy 27 E.\, Wells\, BC\, V0K2R0\, Canada
CATEGORIES:19+,Music,Wells
ATTACH;FMTTYPE=image/jpeg:https://whatsupinwells.com/wp-content/uploads/2023/07/karaokee.jpg
END:VEVENT
BEGIN:VEVENT
DTSTART;TZID=America/Vancouver:20250111T210000
DTEND;TZID=America/Vancouver:20250111T233000
DTSTAMP:20260423T164109
CREATED:20241118T180500Z
LAST-MODIFIED:20241118T180500Z
UID:10002972-1736629200-1736638200@whatsupinwells.com
SUMMARY:Karaoke Night
DESCRIPTION:Every Saturday from 9 pm to late
URL:https://whatsupinwells.com/event/karaoke-night-4/2025-01-11/
LOCATION:Jack O’ Club Restaurant & Pub\, 12383 Hwy 27 E.\, Wells\, BC\, V0K2R0\, Canada
CATEGORIES:19+,Music,Wells
ATTACH;FMTTYPE=image/jpeg:https://whatsupinwells.com/wp-content/uploads/2023/07/karaokee.jpg
END:VEVENT
BEGIN:VEVENT
DTSTART;TZID=America/Vancouver:20250104T210000
DTEND;TZID=America/Vancouver:20250104T233000
DTSTAMP:20260423T164109
CREATED:20241118T180500Z
LAST-MODIFIED:20241118T180500Z
UID:10002971-1736024400-1736033400@whatsupinwells.com
SUMMARY:Karaoke Night
DESCRIPTION:Every Saturday from 9 pm to late
URL:https://whatsupinwells.com/event/karaoke-night-4/2025-01-04/
LOCATION:Jack O’ Club Restaurant & Pub\, 12383 Hwy 27 E.\, Wells\, BC\, V0K2R0\, Canada
CATEGORIES:19+,Music,Wells
ATTACH;FMTTYPE=image/jpeg:https://whatsupinwells.com/wp-content/uploads/2023/07/karaokee.jpg
END:VEVENT
BEGIN:VEVENT
DTSTART;TZID=America/Vancouver:20241231T200000
DTEND;TZID=America/Vancouver:20241231T233000
DTSTAMP:20260423T164109
CREATED:20241227T161730Z
LAST-MODIFIED:20241227T161730Z
UID:10003494-1735675200-1735687800@whatsupinwells.com
SUMMARY:NYE Live Jazz Trio at the Wells Hotel
DESCRIPTION:Bid farewell to 2024 and welcome 2025 with an evening of local talent on the stage\, featuring Patrick Courtin\, Birch Kuch\, and Layla Hansen.\nDinner served 5pm – 8pm\, music to follow. Admission by donation. \n8:00 pm: solo set by Patrick Courtin\n9:30 pm: first trio set\n11:00 pm: second trio set\nFree late night snacks served at 10:00 pm \nAges 19+ only after the end of dinner service.
URL:https://whatsupinwells.com/event/nye-live-jazz-trio-at-the-wells-hotel/
LOCATION:The Wells Hotel\, 2341 Pooley St.\, Wells\, BC\, V0k2R0\, Canada
CATEGORIES:Music,Wells
ATTACH;FMTTYPE=image/png:https://whatsupinwells.com/wp-content/uploads/2024/12/Modern-Festive-New-Years-Eve-Party-Poster.png
END:VEVENT
BEGIN:VEVENT
DTSTART;TZID=America/Vancouver:20241228T210000
DTEND;TZID=America/Vancouver:20241228T233000
DTSTAMP:20260423T164109
CREATED:20241118T180500Z
LAST-MODIFIED:20241118T180500Z
UID:10002970-1735419600-1735428600@whatsupinwells.com
SUMMARY:Karaoke Night
DESCRIPTION:Every Saturday from 9 pm to late
URL:https://whatsupinwells.com/event/karaoke-night-4/2024-12-28/
LOCATION:Jack O’ Club Restaurant & Pub\, 12383 Hwy 27 E.\, Wells\, BC\, V0K2R0\, Canada
CATEGORIES:19+,Music,Wells
ATTACH;FMTTYPE=image/jpeg:https://whatsupinwells.com/wp-content/uploads/2023/07/karaokee.jpg
END:VEVENT
BEGIN:VEVENT
DTSTART;TZID=America/Vancouver:20241221T210000
DTEND;TZID=America/Vancouver:20241221T233000
DTSTAMP:20260423T164109
CREATED:20241118T180500Z
LAST-MODIFIED:20241118T180500Z
UID:10002969-1734814800-1734823800@whatsupinwells.com
SUMMARY:Karaoke Night
DESCRIPTION:Every Saturday from 9 pm to late
URL:https://whatsupinwells.com/event/karaoke-night-4/2024-12-21/
LOCATION:Jack O’ Club Restaurant & Pub\, 12383 Hwy 27 E.\, Wells\, BC\, V0K2R0\, Canada
CATEGORIES:19+,Music,Wells
ATTACH;FMTTYPE=image/jpeg:https://whatsupinwells.com/wp-content/uploads/2023/07/karaokee.jpg
END:VEVENT
BEGIN:VEVENT
DTSTART;TZID=America/Vancouver:20241220T120000
DTEND;TZID=America/Vancouver:20241220T170000
DTSTAMP:20260423T164109
CREATED:20241216T215520Z
LAST-MODIFIED:20241216T215520Z
UID:10003491-1734696000-1734714000@whatsupinwells.com
SUMMARY:Jingle and Mingle
DESCRIPTION:Join us for a festive Christmas party! Entry is by donation\, and all proceeds will go towards supporting the Wells Food Hampers. Everyone is welcome\, and your generosity will help bring joy and nourishment to those in need this holiday season. Enjoy yourself while making a difference! Thank you for your support! 🎄😊
URL:https://whatsupinwells.com/event/jingle-and-mingle/
LOCATION:Diggy’s Diner\, 3885 Ski Hill Road\, Wells\, BC\, V0K2R0\, Canada
CATEGORIES:Food,Music,Wells
ATTACH;FMTTYPE=image/jpeg:https://whatsupinwells.com/wp-content/uploads/2024/12/Jingle-and-Mingle.jpg
END:VEVENT
BEGIN:VEVENT
DTSTART;TZID=America/Vancouver:20241219T180000
DTEND;TZID=America/Vancouver:20241219T190000
DTSTAMP:20260423T164109
CREATED:20241211T155420Z
LAST-MODIFIED:20241211T155420Z
UID:10003490-1734631200-1734634800@whatsupinwells.com
SUMMARY:The Animals Solstice
DESCRIPTION:Hello Wells\,\nThe Wells-Barkerville elementary students and staff would like to invite you to our Winter Concert on Thursday\, Dec. 19th @ 6 pm.
URL:https://whatsupinwells.com/event/the-animals-solstice/
LOCATION:Wells-Barkerville Community School\, Wells\, BC\, Canada
CATEGORIES:Arts,Free,Music,Theatre,Wells
ATTACH;FMTTYPE=image/jpeg:https://whatsupinwells.com/wp-content/uploads/2024/12/Student-Winter-Concert.jpg
END:VEVENT
BEGIN:VEVENT
DTSTART;TZID=America/Vancouver:20241215T190000
DTEND;TZID=America/Vancouver:20241215T203000
DTSTAMP:20260423T164109
CREATED:20241125T021930Z
LAST-MODIFIED:20241125T021930Z
UID:10003487-1734289200-1734294600@whatsupinwells.com
SUMMARY:Quesnel Concert Band
DESCRIPTION:Join us at the Sunset Theatre in Wells Dec. 15 at 7 pm. Tickets will be $20. Watch for more information!
URL:https://whatsupinwells.com/event/quesnel-concert-band/
LOCATION:Sunset Theatre\, 2357 Pooley St.\, Wells\, BC\, v0k2r0\, Canada
CATEGORIES:Music,Wells
ATTACH;FMTTYPE=image/jpeg:https://whatsupinwells.com/wp-content/uploads/2024/11/467948357_122151540902285661_1424074991744076106_n.jpg
END:VEVENT
BEGIN:VEVENT
DTSTART;TZID=America/Vancouver:20241214T210000
DTEND;TZID=America/Vancouver:20241214T233000
DTSTAMP:20260423T164109
CREATED:20241118T180500Z
LAST-MODIFIED:20241118T180500Z
UID:10002968-1734210000-1734219000@whatsupinwells.com
SUMMARY:Karaoke Night
DESCRIPTION:Every Saturday from 9 pm to late
URL:https://whatsupinwells.com/event/karaoke-night-4/2024-12-14/
LOCATION:Jack O’ Club Restaurant & Pub\, 12383 Hwy 27 E.\, Wells\, BC\, V0K2R0\, Canada
CATEGORIES:19+,Music,Wells
ATTACH;FMTTYPE=image/jpeg:https://whatsupinwells.com/wp-content/uploads/2023/07/karaokee.jpg
END:VEVENT
BEGIN:VEVENT
DTSTART;TZID=America/Vancouver:20241214T200000
DTEND;TZID=America/Vancouver:20241214T220000
DTSTAMP:20260423T164109
CREATED:20240818T213406Z
LAST-MODIFIED:20240818T213406Z
UID:10002847-1734206400-1734213600@whatsupinwells.com
SUMMARY:Christmas Cabaret
DESCRIPTION:A christmas cornucopia of amazing music\, hilarious sketch comedy\, and spirit! \nTickets are $20/each
URL:https://whatsupinwells.com/event/christmas-cabaret-4/
LOCATION:Sunset Theatre\, 2357 Pooley St.\, Wells\, BC\, v0k2r0\, Canada
CATEGORIES:Arts,Music,Theatre,Wells
ATTACH;FMTTYPE=image/jpeg:https://whatsupinwells.com/wp-content/uploads/2024/08/cabaretchristmas14december2024-1.jpg
END:VEVENT
BEGIN:VEVENT
DTSTART;TZID=America/Vancouver:20241207T210000
DTEND;TZID=America/Vancouver:20241207T233000
DTSTAMP:20260423T164109
CREATED:20241118T180500Z
LAST-MODIFIED:20241118T180500Z
UID:10002967-1733605200-1733614200@whatsupinwells.com
SUMMARY:Karaoke Night
DESCRIPTION:Every Saturday from 9 pm to late
URL:https://whatsupinwells.com/event/karaoke-night-4/2024-12-07/
LOCATION:Jack O’ Club Restaurant & Pub\, 12383 Hwy 27 E.\, Wells\, BC\, V0K2R0\, Canada
CATEGORIES:19+,Music,Wells
ATTACH;FMTTYPE=image/jpeg:https://whatsupinwells.com/wp-content/uploads/2023/07/karaokee.jpg
END:VEVENT
BEGIN:VEVENT
DTSTART;TZID=America/Vancouver:20241130T210000
DTEND;TZID=America/Vancouver:20241130T233000
DTSTAMP:20260423T164109
CREATED:20241118T180500Z
LAST-MODIFIED:20241118T180500Z
UID:10002966-1733000400-1733009400@whatsupinwells.com
SUMMARY:Karaoke Night
DESCRIPTION:Every Saturday from 9 pm to late
URL:https://whatsupinwells.com/event/karaoke-night-4/2024-11-30/
LOCATION:Jack O’ Club Restaurant & Pub\, 12383 Hwy 27 E.\, Wells\, BC\, V0K2R0\, Canada
CATEGORIES:19+,Music,Wells
ATTACH;FMTTYPE=image/jpeg:https://whatsupinwells.com/wp-content/uploads/2023/07/karaokee.jpg
END:VEVENT
BEGIN:VEVENT
DTSTART;TZID=America/Vancouver:20241130T140000
DTEND;TZID=America/Vancouver:20241130T233000
DTSTAMP:20260423T164109
CREATED:20241018T200150Z
LAST-MODIFIED:20241107T182647Z
UID:10002861-1732975200-1733009400@whatsupinwells.com
SUMMARY:Nonageneria: a celebration 90 years in the making
DESCRIPTION:The townsite of Wells was first surveyed in 1933 with the opening of the Cariboo Gold Quartz Mine. In the spring of 1934 the first buildings were started\, and by the end of the year there were 40 buildings completed\, including a Theatre\, a Hotel\, and a Church\, plus a Fire Brigade to help protect them. \nThe Wells Hotel\, Sunset Theatre\, St. George Studio\, and the Wells Volunteer Fire Brigade invite you to join us to commemorate their 90th anniversaries together at Nonageneria: a Celebration 90 Years in the making \nTickets to this very special event are $90 and include an evening of food\, drink\, and entertainment\, supporting four incredible organizations: \n\n2 pm to 6 pm: Open house cocktail reception at St. George Studio\n5 pm to 7 pm: Buffet dinner at the Wells Hotel\n8 pm to 9 pm: Live jazz concert at Sunset Theatre\n9 pm to late: Cake\, mingling\, and dancing at Sunset Theatre\n\nYour ticket includes: \n\na signature cocktail (or mocktail) at the St. George reception\na gourmet buffet dinner at the Wells Hotel (prepared by our new Chef)\ntickets to a live jazz concert at Sunset Theatre\ncake and a late night snack after the concert\na $10 donation to the Wells Volunteer Fire Brigade\n\nThe dress for the evening is Cariboo semi-formal\nPlease support these four amazing organizations and enjoy and evening of good food\, drink\, music\, and company honouring their journeys to 90 years old! \nTickets to the general public go on sale November 9th
URL:https://whatsupinwells.com/event/nonageneria-a-90th-birthday-party/
LOCATION:The Wells Hotel\, 2341 Pooley St.\, Wells\, BC\, V0k2R0\, Canada
CATEGORIES:Arts,Food,Music,Theatre,Wells
ATTACH;FMTTYPE=image/jpeg:https://whatsupinwells.com/wp-content/uploads/2024/10/nonageneria-30-november-2024-v2-scaled.jpg
END:VEVENT
BEGIN:VEVENT
DTSTART;TZID=America/Vancouver:20241123T210000
DTEND;TZID=America/Vancouver:20241123T233000
DTSTAMP:20260423T164109
CREATED:20241118T180500Z
LAST-MODIFIED:20241118T180500Z
UID:10002965-1732395600-1732404600@whatsupinwells.com
SUMMARY:Karaoke Night
DESCRIPTION:Every Saturday from 9 pm to late
URL:https://whatsupinwells.com/event/karaoke-night-4/2024-11-23/
LOCATION:Jack O’ Club Restaurant & Pub\, 12383 Hwy 27 E.\, Wells\, BC\, V0K2R0\, Canada
CATEGORIES:19+,Music,Wells
ATTACH;FMTTYPE=image/jpeg:https://whatsupinwells.com/wp-content/uploads/2023/07/karaokee.jpg
END:VEVENT
BEGIN:VEVENT
DTSTART;TZID=America/Vancouver:20241120T190000
DTEND;TZID=America/Vancouver:20241120T220000
DTSTAMP:20260423T164109
CREATED:20240530T161106Z
LAST-MODIFIED:20240530T161106Z
UID:10002752-1732129200-1732140000@whatsupinwells.com
SUMMARY:Piano Heist
DESCRIPTION:Lifelong friends and colleagues Nico Rhodes and Patrick Courtin\, shocked and appalled by the realization that piano just isn’t cool anymore\, set off on a divine quest to redeem the keyboard and reinstate its reputation as the greatest instrument of ALL TIME! \nEver wonder what Patrick Courtin gets up to when he’s not tickling the ivories as resident musical director at the Theatre Royal? \nWell\, wonder no more! \nTeaming up with his best friend Nico Rhodes\, Piano Heist is a virtuosic comic tour of hundreds of years of piano history\, evoking the brilliant humour of the Smothers Brothers and Victor Borge.
URL:https://whatsupinwells.com/event/piano-heist/
LOCATION:Sunset Theatre\, 2357 Pooley St.\, Wells\, BC\, v0k2r0\, Canada
CATEGORIES:Music,Theatre,Wells
ATTACH;FMTTYPE=image/jpeg:https://whatsupinwells.com/wp-content/uploads/2024/05/pianoheist_20november2024.jpg
END:VEVENT
BEGIN:VEVENT
DTSTART;TZID=America/Vancouver:20241026T210000
DTEND;TZID=America/Vancouver:20241026T233000
DTSTAMP:20260423T164109
CREATED:20241018T195324Z
LAST-MODIFIED:20241018T195324Z
UID:10002860-1729976400-1729985400@whatsupinwells.com
SUMMARY:Beetlejuice Halloween Party
DESCRIPTION:It’s Showtime! \n\n\nJoin us for a spooktacular night of mischief and mayhem as we summon the spirit of Beetlejuice in the pub!\n\n\n Saturday\, October 26th.\n 9 PM ’til late.\n\n\nPrepare to be whisked away into the strange and unusual! Whether you’re rocking a black-and-white striped suit or channeling your inner Lydia\, come dressed to impress in your most hauntingly creative costumes.\n\n\n Costume Contest with prizes!\n DJ spinning eerie beats\n Specialty “Beetlejuice” cocktails\n\n\nMark your calendars\, and remember: It’s going to be a night so fun\, it’s scary!
URL:https://whatsupinwells.com/event/beetlejuice-halloween-party/
LOCATION:Jack O’ Club Restaurant & Pub\, 12383 Hwy 27 E.\, Wells\, BC\, V0K2R0\, Canada
CATEGORIES:19+,Music,Wells
ATTACH;FMTTYPE=image/jpeg:https://whatsupinwells.com/wp-content/uploads/2024/10/beetlejuice-hallowenn.jpg
END:VEVENT
BEGIN:VEVENT
DTSTART;TZID=America/Vancouver:20240918T080000
DTEND;TZID=America/Vancouver:20240918T220000
DTSTAMP:20260423T164109
CREATED:20240913T192453Z
LAST-MODIFIED:20240913T192453Z
UID:10002855-1726646400-1726696800@whatsupinwells.com
SUMMARY:Ian Skorscha and Naomi Kavka
DESCRIPTION:We have one more scheduled concert at SARRAS to finish off our summer programming. If you haven’t made it to a SARRAS show yet\, here’s your chance. Back by popular demand…
URL:https://whatsupinwells.com/event/ian-skorscha-and-naomi-kavka/
LOCATION:SARRAS\, 2338 Bowman Cres\, Wells\, BC\, V0K2R0\, Canada
CATEGORIES:Arts,Music,Wells
ATTACH;FMTTYPE=image/jpeg:https://whatsupinwells.com/wp-content/uploads/2024/09/ian-skorchka.jpg
ORGANIZER;CN="SARRAS":MAILTO:sarrasinwells@gmail.com
END:VEVENT
BEGIN:VEVENT
DTSTART;TZID=America/Vancouver:20240914T180000
DTEND;TZID=America/Vancouver:20240914T200000
DTSTAMP:20260423T164109
CREATED:20240830T182758Z
LAST-MODIFIED:20240830T182758Z
UID:10002851-1726336800-1726344000@whatsupinwells.com
SUMMARY:Mid-Autumn Moon Feast
DESCRIPTION:Celebrate the harvest season and the full moon by gathering and giving thanks with a Chinese Buffet Feast! This event is also an end-of-season celebration for the many workers and entrepreneurs who make the summer season happen in here! A complimentary drink ticket will be provided to all attendees who work or own businesses in the hospitality and cultural sector in the Wells\, Barkerville\, Bowron\, or Troll areas. \nWe’ll be adorning the Pub in lanterns\, hosting some fun activities\, and going all out with the food\, making the all-you-can-eat feast from scratch in-house to celebrate the authentic flavours of China. The Cariboo Chinese Choir will also be joining us for the event. \n$10 for every ticket sold will go to support the Friends of Barkerville in the preservation of local Chinese culture and history. \nDate: Saturday September 14\, 2024\n6 pm to 8 pm: Buffet service for ticket holders only\n8 pm: Cariboo Chinese Choir\n8:30 pm: Pub will open for general entry (no ticket required)\n9:00 pm: Toasts and recognitions\nuntil late: mingling and celebrations \nPrice: $45 per person. $20 for children 12 and under.\nDue to the high interest in the event\, tickets should be purchased in advance. Visit our online store to purchase yours or call to book: 250-994-3427 \nThe Buffet Menu: to be announced!\nSpecial cocktails available at the bar
URL:https://whatsupinwells.com/event/mid-autumn-moon-feast/
LOCATION:The Wells Hotel\, 2341 Pooley St.\, Wells\, BC\, V0k2R0\, Canada
CATEGORIES:Arts,Food,Music,Wells
ATTACH;FMTTYPE=image/png:https://whatsupinwells.com/wp-content/uploads/2024/08/Dark-Blue-Illustrative-Mid-Autumn-Festival-Greeting-Card.png
END:VEVENT
BEGIN:VEVENT
DTSTART;TZID=America/Vancouver:20240913T200000
DTEND;TZID=America/Vancouver:20240913T220000
DTSTAMP:20260423T164109
CREATED:20240913T194058Z
LAST-MODIFIED:20240913T194058Z
UID:10002856-1726257600-1726264800@whatsupinwells.com
SUMMARY:Courtin vs. Keaton - Silent Film as it was meant to be heard!
DESCRIPTION:Join us at The Sunset Theatre in Wells on Friday\, September 13\, 2024 @ 8PM for one of our favourites.\nThis Hybrid Soiree of Silent Film with Live Piano Accompaniment and original music by Patrick Courtin is an evening you will thoroughly enjoy. \nThe Evening will be 2 Acts including one 15 minute intermission.\nAct 1 @ 45 minutes\nThe Buster Keaton Silent Film – SHERLOCK JNR. with Original Live Piano Accompaniment by Patrick Courtin\nAct 2 @ 30 minutes \nThe Buster Keaton Silent Film – ONE WEEK w/ Original Live Piano Accompaniment by Patrick Courtin.\nTickets $20/$18/$10 or PWYC\n#seeyouatthesunset\nOriginal Music/Show Conceived by Patrick Courtin\nFilms by Buster Keaton
URL:https://whatsupinwells.com/event/courtin-vs-keaton-silent-film-as-it-was-meant-to-be-heard/
LOCATION:Sunset Theatre\, 2357 Pooley St.\, Wells\, BC\, v0k2r0\, Canada
CATEGORIES:Arts,Music,Theatre,Wells
ATTACH;FMTTYPE=image/jpeg:https://whatsupinwells.com/wp-content/uploads/2024/09/courtin-vs-keaton.jpg-sept-13.jpg
END:VEVENT
BEGIN:VEVENT
DTSTART;TZID=America/Vancouver:20240906T200000
DTEND;TZID=America/Vancouver:20240906T213000
DTSTAMP:20260423T164109
CREATED:20240905T161251Z
LAST-MODIFIED:20240905T161251Z
UID:10002854-1725652800-1725658200@whatsupinwells.com
SUMMARY:Folky Strum Strum live at SARRAS
DESCRIPTION:Northern Rockin’ Banjo FOLK \nSARRAS Wells BC\nFRIDAY\, SEPT. 6 @ 8:00 pm (doors: 7:30)\nPay-what-you-can ($15 suggested)
URL:https://whatsupinwells.com/event/folky-strum-strum-live-at-sarras/
LOCATION:SARRAS\, 2338 Bowman Cres\, Wells\, BC\, V0K2R0\, Canada
CATEGORIES:Arts,Music,Wells
ATTACH;FMTTYPE=image/jpeg:https://whatsupinwells.com/wp-content/uploads/2024/09/folky-strum-strum.jpg
END:VEVENT
BEGIN:VEVENT
DTSTART;TZID=America/Vancouver:20240901T180000
DTEND;TZID=America/Vancouver:20240901T200000
DTSTAMP:20260423T164109
CREATED:20240830T171457Z
LAST-MODIFIED:20240830T171457Z
UID:10002849-1725213600-1725220800@whatsupinwells.com
SUMMARY:Live Music with "As Is"
DESCRIPTION:Join us for live music with ‘As Is’ and enjoy our special of the evening – 5 layer lasagna with toss salad and garlic toast\, as well as all menu items.
URL:https://whatsupinwells.com/event/live-music-with-as-is/
LOCATION:Becker’s Lodge\, 4480 Bowron Lake Park Rd\, Bowron Lake\, BC
CATEGORIES:Bowron,Music
ATTACH;FMTTYPE=image/jpeg:https://whatsupinwells.com/wp-content/uploads/2024/08/As-is.jpg
END:VEVENT
BEGIN:VEVENT
DTSTART;TZID=America/Vancouver:20240831T200000
DTEND;TZID=America/Vancouver:20240831T213000
DTSTAMP:20260423T164109
CREATED:20240530T160845Z
LAST-MODIFIED:20240530T160925Z
UID:10002751-1725134400-1725139800@whatsupinwells.com
SUMMARY:LABOUR DAY CABARET
DESCRIPTION:A Labour Day cornucopia of amazing music\, hilarious sketch comedy\, poetry\, and possible nudity.
URL:https://whatsupinwells.com/event/labour-day-cabaret/
LOCATION:Sunset Theatre\, 2357 Pooley St.\, Wells\, BC\, v0k2r0\, Canada
CATEGORIES:Music,Theatre,Wells
ATTACH;FMTTYPE=image/jpeg:https://whatsupinwells.com/wp-content/uploads/2024/05/artswellscabaret_31august2024.jpg
END:VEVENT
END:VCALENDAR