BEGIN:VCALENDAR
VERSION:2.0
PRODID:-//What&#039;s Up in Wells - ECPv6.15.20//NONSGML v1.0//EN
CALSCALE:GREGORIAN
METHOD:PUBLISH
X-ORIGINAL-URL:https://whatsupinwells.com
X-WR-CALDESC:Events for What&#039;s Up in Wells
REFRESH-INTERVAL;VALUE=DURATION:PT1H
X-Robots-Tag:noindex
X-PUBLISHED-TTL:PT1H
BEGIN:VTIMEZONE
TZID:America/Vancouver
BEGIN:DAYLIGHT
TZOFFSETFROM:-0800
TZOFFSETTO:-0700
TZNAME:PDT
DTSTART:20240310T100000
END:DAYLIGHT
BEGIN:STANDARD
TZOFFSETFROM:-0700
TZOFFSETTO:-0800
TZNAME:PST
DTSTART:20241103T090000
END:STANDARD
BEGIN:DAYLIGHT
TZOFFSETFROM:-0800
TZOFFSETTO:-0700
TZNAME:PDT
DTSTART:20250309T100000
END:DAYLIGHT
BEGIN:STANDARD
TZOFFSETFROM:-0700
TZOFFSETTO:-0800
TZNAME:PST
DTSTART:20251102T090000
END:STANDARD
BEGIN:DAYLIGHT
TZOFFSETFROM:-0800
TZOFFSETTO:-0700
TZNAME:PDT
DTSTART:20260308T100000
END:DAYLIGHT
BEGIN:STANDARD
TZOFFSETFROM:-0700
TZOFFSETTO:-0800
TZNAME:PST
DTSTART:20261101T090000
END:STANDARD
BEGIN:DAYLIGHT
TZOFFSETFROM:-0800
TZOFFSETTO:-0700
TZNAME:PDT
DTSTART:20270314T100000
END:DAYLIGHT
BEGIN:STANDARD
TZOFFSETFROM:-0700
TZOFFSETTO:-0800
TZNAME:PST
DTSTART:20271107T090000
END:STANDARD
END:VTIMEZONE
BEGIN:VEVENT
DTSTART;TZID=America/Vancouver:20260110T210000
DTEND;TZID=America/Vancouver:20260110T233000
DTSTAMP:20260423T052751
CREATED:20251126T162905Z
LAST-MODIFIED:20251126T162911Z
UID:10003024-1768078800-1768087800@whatsupinwells.com
SUMMARY:Karaoke Night
DESCRIPTION:Every Saturday from 9 pm to late
URL:https://whatsupinwells.com/event/karaoke-night-4-2/2026-01-10/
LOCATION:Jack O’ Club Restaurant & Pub\, 12383 Hwy 27 E.\, Wells\, BC\, V0K2R0\, Canada
CATEGORIES:19+,Music,Wells
END:VEVENT
BEGIN:VEVENT
DTSTART;TZID=America/Vancouver:20260103T210000
DTEND;TZID=America/Vancouver:20260103T233000
DTSTAMP:20260423T052751
CREATED:20251126T162905Z
LAST-MODIFIED:20251126T162911Z
UID:10003023-1767474000-1767483000@whatsupinwells.com
SUMMARY:Karaoke Night
DESCRIPTION:Every Saturday from 9 pm to late
URL:https://whatsupinwells.com/event/karaoke-night-4-2/2026-01-03/
LOCATION:Jack O’ Club Restaurant & Pub\, 12383 Hwy 27 E.\, Wells\, BC\, V0K2R0\, Canada
CATEGORIES:19+,Music,Wells
END:VEVENT
BEGIN:VEVENT
DTSTART;TZID=America/Vancouver:20251231T200000
DTEND;TZID=America/Vancouver:20251231T233000
DTSTAMP:20260423T052751
CREATED:20251120T161402Z
LAST-MODIFIED:20251120T161402Z
UID:10003701-1767211200-1767223800@whatsupinwells.com
SUMMARY:Old Time New Year's Eve
DESCRIPTION:Ring in the new year with this all-ages old-time dance. Great music\, beverages\, a photo booth\, group dances\, raffles\, board games and more!\nThe evening’s entertainment is helmed by the D9 Stringband (Horsefly\, BC)\, featuring:\nPharis & Jason Romero | https://www.pharisandjason.com/Max Malone | https://www.instagram.com/maxmalonemusic/Grace ForrestTrent Freeman | https://www.trentfreeman.com/Patrick M’Gonigle | https://www.patrickmgonigle.com/Allison de Groot | https://www.allisondegroot.com/
URL:https://whatsupinwells.com/event/old-time-new-years-eve/
LOCATION:Wells Community Hall\, 4269 Sanders Ave\, Wells\, BC\, V0K2R0\, Canada
CATEGORIES:Arts,Music,Wells
ATTACH;FMTTYPE=image/jpeg:https://whatsupinwells.com/wp-content/uploads/2025/11/Old-Time-New-Years-Eve.jpg
END:VEVENT
BEGIN:VEVENT
DTSTART;TZID=America/Vancouver:20251227T210000
DTEND;TZID=America/Vancouver:20251227T233000
DTSTAMP:20260423T052751
CREATED:20251126T162905Z
LAST-MODIFIED:20251126T162911Z
UID:10003022-1766869200-1766878200@whatsupinwells.com
SUMMARY:Karaoke Night
DESCRIPTION:Every Saturday from 9 pm to late
URL:https://whatsupinwells.com/event/karaoke-night-4-2/2025-12-27/
LOCATION:Jack O’ Club Restaurant & Pub\, 12383 Hwy 27 E.\, Wells\, BC\, V0K2R0\, Canada
CATEGORIES:19+,Music,Wells
END:VEVENT
BEGIN:VEVENT
DTSTART;TZID=America/Vancouver:20251220T210000
DTEND;TZID=America/Vancouver:20251220T233000
DTSTAMP:20260423T052751
CREATED:20251126T162905Z
LAST-MODIFIED:20251126T162911Z
UID:10003021-1766264400-1766273400@whatsupinwells.com
SUMMARY:Karaoke Night
DESCRIPTION:Every Saturday from 9 pm to late
URL:https://whatsupinwells.com/event/karaoke-night-4-2/2025-12-20/
LOCATION:Jack O’ Club Restaurant & Pub\, 12383 Hwy 27 E.\, Wells\, BC\, V0K2R0\, Canada
CATEGORIES:19+,Music,Wells
END:VEVENT
BEGIN:VEVENT
DTSTART;TZID=America/Vancouver:20251213T210000
DTEND;TZID=America/Vancouver:20251213T233000
DTSTAMP:20260423T052751
CREATED:20251126T162905Z
LAST-MODIFIED:20251126T162911Z
UID:10003020-1765659600-1765668600@whatsupinwells.com
SUMMARY:Karaoke Night
DESCRIPTION:Every Saturday from 9 pm to late
URL:https://whatsupinwells.com/event/karaoke-night-4-2/2025-12-13/
LOCATION:Jack O’ Club Restaurant & Pub\, 12383 Hwy 27 E.\, Wells\, BC\, V0K2R0\, Canada
CATEGORIES:19+,Music,Wells
END:VEVENT
BEGIN:VEVENT
DTSTART;TZID=America/Vancouver:20251206T210000
DTEND;TZID=America/Vancouver:20251206T233000
DTSTAMP:20260423T052751
CREATED:20251126T162905Z
LAST-MODIFIED:20251126T162911Z
UID:10003019-1765054800-1765063800@whatsupinwells.com
SUMMARY:Karaoke Night
DESCRIPTION:Every Saturday from 9 pm to late
URL:https://whatsupinwells.com/event/karaoke-night-4-2/2025-12-06/
LOCATION:Jack O’ Club Restaurant & Pub\, 12383 Hwy 27 E.\, Wells\, BC\, V0K2R0\, Canada
CATEGORIES:19+,Music,Wells
END:VEVENT
BEGIN:VEVENT
DTSTART;TZID=America/Vancouver:20251129T210000
DTEND;TZID=America/Vancouver:20251129T233000
DTSTAMP:20260423T052751
CREATED:20251126T162905Z
LAST-MODIFIED:20251126T162911Z
UID:10003018-1764450000-1764459000@whatsupinwells.com
SUMMARY:Karaoke Night
DESCRIPTION:Every Saturday from 9 pm to late
URL:https://whatsupinwells.com/event/karaoke-night-4-2/2025-11-29/
LOCATION:Jack O’ Club Restaurant & Pub\, 12383 Hwy 27 E.\, Wells\, BC\, V0K2R0\, Canada
CATEGORIES:19+,Music,Wells
END:VEVENT
BEGIN:VEVENT
DTSTART;TZID=America/Vancouver:20251115T210000
DTEND;TZID=America/Vancouver:20251115T233000
DTSTAMP:20260423T052751
CREATED:20241118T180500Z
LAST-MODIFIED:20241118T180500Z
UID:10003016-1763240400-1763249400@whatsupinwells.com
SUMMARY:Karaoke Night
DESCRIPTION:Every Saturday from 9 pm to late
URL:https://whatsupinwells.com/event/karaoke-night-4/2025-11-15/
LOCATION:Jack O’ Club Restaurant & Pub\, 12383 Hwy 27 E.\, Wells\, BC\, V0K2R0\, Canada
CATEGORIES:19+,Music,Wells
ATTACH;FMTTYPE=image/jpeg:https://whatsupinwells.com/wp-content/uploads/2023/07/karaokee.jpg
END:VEVENT
BEGIN:VEVENT
DTSTART;TZID=America/Vancouver:20251108T210000
DTEND;TZID=America/Vancouver:20251108T233000
DTSTAMP:20260423T052751
CREATED:20241118T180500Z
LAST-MODIFIED:20241118T180500Z
UID:10003015-1762635600-1762644600@whatsupinwells.com
SUMMARY:Karaoke Night
DESCRIPTION:Every Saturday from 9 pm to late
URL:https://whatsupinwells.com/event/karaoke-night-4/2025-11-08/
LOCATION:Jack O’ Club Restaurant & Pub\, 12383 Hwy 27 E.\, Wells\, BC\, V0K2R0\, Canada
CATEGORIES:19+,Music,Wells
ATTACH;FMTTYPE=image/jpeg:https://whatsupinwells.com/wp-content/uploads/2023/07/karaokee.jpg
END:VEVENT
BEGIN:VEVENT
DTSTART;TZID=America/Vancouver:20251101T210000
DTEND;TZID=America/Vancouver:20251101T233000
DTSTAMP:20260423T052751
CREATED:20250904T152232Z
LAST-MODIFIED:20250904T152336Z
UID:10003694-1762030800-1762039800@whatsupinwells.com
SUMMARY:The Screech Owls
DESCRIPTION:After gracing the stage in 2023 for the Treeplanter’s Ball\, The Screech Owls are returning to the Wells Community Hall stage to deliver for an unforgettable night of music. This five-piece band hailing from Williams Lake is bringing rock\, country and blues to the people\, plus a few lasers and smoke machines…Be sure to bring your dancing shoes!\nDoor open at 8pm. Music starts at 9pm. \nThis show is ages 19+. Tickets available by pre-sale only. No tickets will be available at the door. \nThis show is part of a Purfect Murder: An All-Inclusive Weekend Murder Mystery at the Wells Hotel. All Purfect Murder guests automatically receive a ticket to the show. Stand-alone concert tickets are available for purchase by the general public.
URL:https://whatsupinwells.com/event/the-screech-owls/
LOCATION:Wells Community Hall\, 4269 Sanders Ave\, Wells\, BC\, V0K2R0\, Canada
CATEGORIES:19+,Arts,Music,Wells
ATTACH;FMTTYPE=image/png:https://whatsupinwells.com/wp-content/uploads/2025/09/Screech-Owls-Poster-2025-11-01.png
END:VEVENT
BEGIN:VEVENT
DTSTART;TZID=America/Vancouver:20251101T210000
DTEND;TZID=America/Vancouver:20251101T233000
DTSTAMP:20260423T052751
CREATED:20241118T180500Z
LAST-MODIFIED:20241118T180500Z
UID:10003014-1762030800-1762039800@whatsupinwells.com
SUMMARY:Karaoke Night
DESCRIPTION:Every Saturday from 9 pm to late
URL:https://whatsupinwells.com/event/karaoke-night-4/2025-11-01/
LOCATION:Jack O’ Club Restaurant & Pub\, 12383 Hwy 27 E.\, Wells\, BC\, V0K2R0\, Canada
CATEGORIES:19+,Music,Wells
ATTACH;FMTTYPE=image/jpeg:https://whatsupinwells.com/wp-content/uploads/2023/07/karaokee.jpg
END:VEVENT
BEGIN:VEVENT
DTSTART;TZID=America/Vancouver:20251031T190000
DTEND;TZID=America/Vancouver:20251102T110000
DTSTAMP:20260423T052751
CREATED:20250904T151640Z
LAST-MODIFIED:20250904T151640Z
UID:10003693-1761937200-1762081200@whatsupinwells.com
SUMMARY:A Purfect Murder Works: An All-Inclusive Weekend Murder Mystery at the Wells Hotel
DESCRIPTION:The once peaceful cat colony of Whiskerville is under attack! A gang of feral felines has infiltrated the village and is shredding friendly kitties to bits. It’s a cat-astrophe! Can the friendlies sleuth out and identify all of the murderous ferals without being targeted for murder themselves? Or will the ferals prevail in concealing their true identities and make off with the village catnip? It’s all up to you\, brave kitty! \nJoin us for a Halloween weekend all-inclusive event of murder mystery and social purr-suasion. Compete to be one of the last cats standing to win the weekend’s grand prizes. \nTickets available online at wellshotel.com or by phone at 250-994-3427\nPlease note: this event is for ages 19+. \nHow A Purfect Murder Works:\nEach guest will be assigned a kitty character\, with a true identity\, friendly or feral\, known only to them. Friendlies must banish the ferals and make them hiss-tory while also avoiding murder. Ferals must work in secret together to scratch the friendlies out of existence and remain undetected. Expects twists\, challenges\, and clues along the way!\nAt the end of the game\, if the last kitties standing are all friendlies\, they split the grand prize. If there is even one feral remaining at the end of the game\, they take home the grand prize. \nOther activities:\nArrive on Halloween night to a spooky reception with cocktails/mocktails and charcuterie. Meet one-on-one with your host to learn your fate as a feral or a friendly. \nAfter an all-day game on Saturday\, we’ll turn the mew-sic up and get the paw-ty started on Saturday night with rocking country dance band\, the Screech Owls.*\n* Stand-alone tickets to the concert are available to the general public. Purchase online at wellshotel.com \nThe Food:\nWe’re excited to put together a beautiful menu that is fresh\, fun\, and delicious. All meals will include vegetarian and gluten free choices\, and accommodations for all registered dietary restrictions. \nYour ticket includes: \n\nFriday & Saturday Night Accommodation at the Wells Hotel or the Nest by IMA (tickets without accommodation also available)\nFriday night welcome reception with snacks and entertainment\nSaturday meals\, including continental breakfast\, hot luncheon\, and buffet dinner\nA full day of murder mystery on Saturday\nA Saturday night country-rock dance concert with the Screech Owls\nSunday morning breakfast buffet\nA chance to win prizes\, including $1\,000 in gift cards to the Wells Hotel\n\nCancellation Policy: \n\nTickets are fully refundable minus payment transaction fees up until October 10.\nCancellations October 10 – 20 would be eligible for a 50% refund\nCancellations after October 20 would not be eligible for a refund.\nOrganizers have the ability to waive cancellation fees if they are able to re-sell cancelled tickets to a wait list.
URL:https://whatsupinwells.com/event/a-purfect-murder-works-an-all-inclusive-weekend-murder-mystery-at-the-wells-hotel/
LOCATION:The Wells Hotel\, 2341 Pooley St.\, Wells\, BC\, V0k2R0\, Canada
CATEGORIES:19+,Arts,Food,Music,Wells
ATTACH;FMTTYPE=image/png:https://whatsupinwells.com/wp-content/uploads/2025/09/Red-and-White-Modern-Horror-Movie-Poster-8.5-x-8.5-in.png
END:VEVENT
BEGIN:VEVENT
DTSTART;TZID=America/Vancouver:20251025T210000
DTEND;TZID=America/Vancouver:20251025T233000
DTSTAMP:20260423T052751
CREATED:20241118T180500Z
LAST-MODIFIED:20241118T180500Z
UID:10003013-1761426000-1761435000@whatsupinwells.com
SUMMARY:Karaoke Night
DESCRIPTION:Every Saturday from 9 pm to late
URL:https://whatsupinwells.com/event/karaoke-night-4/2025-10-25/
LOCATION:Jack O’ Club Restaurant & Pub\, 12383 Hwy 27 E.\, Wells\, BC\, V0K2R0\, Canada
CATEGORIES:19+,Music,Wells
ATTACH;FMTTYPE=image/jpeg:https://whatsupinwells.com/wp-content/uploads/2023/07/karaokee.jpg
END:VEVENT
BEGIN:VEVENT
DTSTART;TZID=America/Vancouver:20251025T200000
DTEND;TZID=America/Vancouver:20251025T220000
DTSTAMP:20260423T052751
CREATED:20251017T163348Z
LAST-MODIFIED:20251017T163348Z
UID:10003697-1761422400-1761429600@whatsupinwells.com
SUMMARY:The Chimney Swallows
DESCRIPTION:Join us Saturday\, October 25th @ 8PM at The Sunset Theatre! \nThe Chimney Swallows are a unique folk music duo and microtheatre troupe composed of songwriters Raghu Lokanathan and Corwin Fox. Playing music together casually\, while working for (& picketing at) the Victoria Public Library the friends discovered they had a mutual affinity for long conversations\, song games and the stories of random strangers\, & so began The Chimney Swallows. \nThis is a spontaneous opportunity to enjoy a special performance by this unique duo as Raghu now resides in Prince George and Corwin on Vancouver Island\, so it is rare to see them together\, much like the avian phenomenon after which they are named. \nTo create ‘Cut Down’ Raghu and Corwin memorized actual conversations they had with their elderly neighbours and used them to create a new conversation between two old men who never met in real life. ‘Cut Down’ is an exploration of aging and change\, and gently touches upon the universal suffering and hilarity inherent to both. Please be advised there is some strong language. \n‘Has There Been a Time Since?’ is a short spoken experience that leads the audience through a weekend at a music festival from the perspective of a veteran performer who is observing the experience they are having while they are in the throes of it. \nTickets are $25.00
URL:https://whatsupinwells.com/event/the-chimney-swallows/
LOCATION:Sunset Theatre\, 2357 Pooley St.\, Wells\, BC\, v0k2r0\, Canada
CATEGORIES:Arts,Music,Theatre,Wells
ATTACH;FMTTYPE=image/jpeg:https://whatsupinwells.com/wp-content/uploads/2025/10/560583408_1223728739791018_3100891804340775854_n.jpg
END:VEVENT
BEGIN:VEVENT
DTSTART;TZID=America/Vancouver:20251018T210000
DTEND;TZID=America/Vancouver:20251018T233000
DTSTAMP:20260423T052751
CREATED:20241118T180500Z
LAST-MODIFIED:20241118T180500Z
UID:10003012-1760821200-1760830200@whatsupinwells.com
SUMMARY:Karaoke Night
DESCRIPTION:Every Saturday from 9 pm to late
URL:https://whatsupinwells.com/event/karaoke-night-4/2025-10-18/
LOCATION:Jack O’ Club Restaurant & Pub\, 12383 Hwy 27 E.\, Wells\, BC\, V0K2R0\, Canada
CATEGORIES:19+,Music,Wells
ATTACH;FMTTYPE=image/jpeg:https://whatsupinwells.com/wp-content/uploads/2023/07/karaokee.jpg
END:VEVENT
BEGIN:VEVENT
DTSTART;TZID=America/Vancouver:20251011T210000
DTEND;TZID=America/Vancouver:20251011T233000
DTSTAMP:20260423T052751
CREATED:20241118T180500Z
LAST-MODIFIED:20241118T180500Z
UID:10003011-1760216400-1760225400@whatsupinwells.com
SUMMARY:Karaoke Night
DESCRIPTION:Every Saturday from 9 pm to late
URL:https://whatsupinwells.com/event/karaoke-night-4/2025-10-11/
LOCATION:Jack O’ Club Restaurant & Pub\, 12383 Hwy 27 E.\, Wells\, BC\, V0K2R0\, Canada
CATEGORIES:19+,Music,Wells
ATTACH;FMTTYPE=image/jpeg:https://whatsupinwells.com/wp-content/uploads/2023/07/karaokee.jpg
END:VEVENT
BEGIN:VEVENT
DTSTART;TZID=America/Vancouver:20251004T210000
DTEND;TZID=America/Vancouver:20251004T233000
DTSTAMP:20260423T052751
CREATED:20241118T180500Z
LAST-MODIFIED:20241118T180500Z
UID:10003010-1759611600-1759620600@whatsupinwells.com
SUMMARY:Karaoke Night
DESCRIPTION:Every Saturday from 9 pm to late
URL:https://whatsupinwells.com/event/karaoke-night-4/2025-10-04/
LOCATION:Jack O’ Club Restaurant & Pub\, 12383 Hwy 27 E.\, Wells\, BC\, V0K2R0\, Canada
CATEGORIES:19+,Music,Wells
ATTACH;FMTTYPE=image/jpeg:https://whatsupinwells.com/wp-content/uploads/2023/07/karaokee.jpg
END:VEVENT
BEGIN:VEVENT
DTSTART;TZID=America/Vancouver:20250927T210000
DTEND;TZID=America/Vancouver:20250927T233000
DTSTAMP:20260423T052751
CREATED:20241118T180500Z
LAST-MODIFIED:20241118T180500Z
UID:10003009-1759006800-1759015800@whatsupinwells.com
SUMMARY:Karaoke Night
DESCRIPTION:Every Saturday from 9 pm to late
URL:https://whatsupinwells.com/event/karaoke-night-4/2025-09-27/
LOCATION:Jack O’ Club Restaurant & Pub\, 12383 Hwy 27 E.\, Wells\, BC\, V0K2R0\, Canada
CATEGORIES:19+,Music,Wells
ATTACH;FMTTYPE=image/jpeg:https://whatsupinwells.com/wp-content/uploads/2023/07/karaokee.jpg
END:VEVENT
BEGIN:VEVENT
DTSTART;TZID=America/Vancouver:20250920T210000
DTEND;TZID=America/Vancouver:20250920T233000
DTSTAMP:20260423T052751
CREATED:20241118T180500Z
LAST-MODIFIED:20241118T180500Z
UID:10003008-1758402000-1758411000@whatsupinwells.com
SUMMARY:Karaoke Night
DESCRIPTION:Every Saturday from 9 pm to late
URL:https://whatsupinwells.com/event/karaoke-night-4/2025-09-20/
LOCATION:Jack O’ Club Restaurant & Pub\, 12383 Hwy 27 E.\, Wells\, BC\, V0K2R0\, Canada
CATEGORIES:19+,Music,Wells
ATTACH;FMTTYPE=image/jpeg:https://whatsupinwells.com/wp-content/uploads/2023/07/karaokee.jpg
END:VEVENT
BEGIN:VEVENT
DTSTART;TZID=America/Vancouver:20250913T210000
DTEND;TZID=America/Vancouver:20250913T233000
DTSTAMP:20260423T052751
CREATED:20241118T180500Z
LAST-MODIFIED:20241118T180500Z
UID:10003007-1757797200-1757806200@whatsupinwells.com
SUMMARY:Karaoke Night
DESCRIPTION:Every Saturday from 9 pm to late
URL:https://whatsupinwells.com/event/karaoke-night-4/2025-09-13/
LOCATION:Jack O’ Club Restaurant & Pub\, 12383 Hwy 27 E.\, Wells\, BC\, V0K2R0\, Canada
CATEGORIES:19+,Music,Wells
ATTACH;FMTTYPE=image/jpeg:https://whatsupinwells.com/wp-content/uploads/2023/07/karaokee.jpg
END:VEVENT
BEGIN:VEVENT
DTSTART;TZID=America/Vancouver:20250906T210000
DTEND;TZID=America/Vancouver:20250906T233000
DTSTAMP:20260423T052751
CREATED:20241118T180500Z
LAST-MODIFIED:20241118T180500Z
UID:10003006-1757192400-1757201400@whatsupinwells.com
SUMMARY:Karaoke Night
DESCRIPTION:Every Saturday from 9 pm to late
URL:https://whatsupinwells.com/event/karaoke-night-4/2025-09-06/
LOCATION:Jack O’ Club Restaurant & Pub\, 12383 Hwy 27 E.\, Wells\, BC\, V0K2R0\, Canada
CATEGORIES:19+,Music,Wells
ATTACH;FMTTYPE=image/jpeg:https://whatsupinwells.com/wp-content/uploads/2023/07/karaokee.jpg
END:VEVENT
BEGIN:VEVENT
DTSTART;TZID=America/Vancouver:20250830T210000
DTEND;TZID=America/Vancouver:20250830T233000
DTSTAMP:20260423T052751
CREATED:20241118T180500Z
LAST-MODIFIED:20241118T180500Z
UID:10003005-1756587600-1756596600@whatsupinwells.com
SUMMARY:Karaoke Night
DESCRIPTION:Every Saturday from 9 pm to late
URL:https://whatsupinwells.com/event/karaoke-night-4/2025-08-30/
LOCATION:Jack O’ Club Restaurant & Pub\, 12383 Hwy 27 E.\, Wells\, BC\, V0K2R0\, Canada
CATEGORIES:19+,Music,Wells
ATTACH;FMTTYPE=image/jpeg:https://whatsupinwells.com/wp-content/uploads/2023/07/karaokee.jpg
END:VEVENT
BEGIN:VEVENT
DTSTART;TZID=America/Vancouver:20250830T190000
DTEND;TZID=America/Vancouver:20250830T210000
DTSTAMP:20260423T052751
CREATED:20250816T022346Z
LAST-MODIFIED:20250816T022346Z
UID:10003689-1756580400-1756587600@whatsupinwells.com
SUMMARY:As Is Live Music
DESCRIPTION:Back by popular demand – AS IS! These guys sounds great and make for a good night 🙂\nPlaying from 7-9pm Saturday August 30th. Cover by donation to the band!! Hopefully the weather holds up and we can enjoy the outside this time!\nSpecials will be on\, as well as select menu items( kitchen will close at 8pm)\nHope to see you out here
URL:https://whatsupinwells.com/event/as-is-live-music-2/
LOCATION:Becker’s Lodge\, 4480 Bowron Lake Park Rd\, Bowron Lake\, BC
CATEGORIES:Arts,Bowron,Music
ATTACH;FMTTYPE=image/jpeg:https://whatsupinwells.com/wp-content/uploads/2025/05/As-Is-2025.jpg
END:VEVENT
BEGIN:VEVENT
DTSTART;TZID=America/Vancouver:20250823T210000
DTEND;TZID=America/Vancouver:20250823T233000
DTSTAMP:20260423T052751
CREATED:20241118T180500Z
LAST-MODIFIED:20241118T180500Z
UID:10003004-1755982800-1755991800@whatsupinwells.com
SUMMARY:Karaoke Night
DESCRIPTION:Every Saturday from 9 pm to late
URL:https://whatsupinwells.com/event/karaoke-night-4/2025-08-23/
LOCATION:Jack O’ Club Restaurant & Pub\, 12383 Hwy 27 E.\, Wells\, BC\, V0K2R0\, Canada
CATEGORIES:19+,Music,Wells
ATTACH;FMTTYPE=image/jpeg:https://whatsupinwells.com/wp-content/uploads/2023/07/karaokee.jpg
END:VEVENT
BEGIN:VEVENT
DTSTART;VALUE=DATE:20250823
DTEND;VALUE=DATE:20250825
DTSTAMP:20260423T052751
CREATED:20250814T164213Z
LAST-MODIFIED:20250814T164213Z
UID:10003649-1755921600-1756007999@whatsupinwells.com
SUMMARY:Barkerville's Mid Autumn Moon Festival
DESCRIPTION:Mid-Autumn Moon Festival\nCelebrate Barkerville’s rich Chinese culture! \nSaturday\, August 23rd\, 2025 \nBrought to you with support from the Province of BC and Northern Development Initiative Trust \nSpecial Event Programming\nIMG_4526\nLANTERN MAKING WORKSHOP\n10:00am – 3:00pm \nChoose and decorate your own traditional lantern at the Welcome Centre Grand Room! \nMid-Autumn Moon Festival\nChinese School Lessons at the Myatovic Cabin\n10:00am\n45 minutes \nSchool is in session at the Chinese School house. Come and learn about the spoken Chinese language\, Chinese calligraphy and how to do math on an abacus. \nOPENING CEREMONY\n11:30am\n30 minutes \nJoin us at the Chinatown Arch as we open the 2025 Mid-Autumn Moon Festival! \nCHINATOWN TOUR\n12:00pm\n60 minutes \nExplore one of Canada’s oldest Chinatowns. Find out more about the life of Chinese miners and merchants in Barkerville\, and how their culture was maintained and adapted to the rugged land of the Cariboo. To join in on the tour\, meet in front of the Lung Duck Tong restaurant. \nCHINATOWN TRIVIA\n1:15pm\n50 minutes \nTest your knowledge gained from the Chinatown tour in this exciting trivia contest! \nCHINESE GAMES\n3:00pm\n90 minutes \nParticipate in an array of games that challenge contenders of all ages! \nWhite Pigeon Lottery\n4:30pm\n30 minutes \nLottery tickets will be distributed throughout the day. Join us at the Barker Co. Shafthouse to pull the winning tickets! \nLION & DRAGON DANCES\n7:00pm\n30 minutes \nDon’t miss these exquisite and colourful dances! \nEVENING PERFORMANCES\n8:00pm\n60 minutes \nJoin us at the Theatre Royal for an hour of entertainment that will immerse you in Chinese music and dance. \nLANTERN PARADE\n9:15pm\n60 minutes \nThe evening finishes with a colourful parade starting at the Chinatown arch and ending at the bottom of town.
URL:https://whatsupinwells.com/event/barkervilles-mid-autumn-moon-festival/
LOCATION:Barkerville Historic Town & Park\, 14301 Hwy 26 E.\, Barkerville\, BC\, V0K2R0\, Canada
CATEGORIES:Arts,Barkerville,Education,Food,Music
ATTACH;FMTTYPE=image/jpeg:https://whatsupinwells.com/wp-content/uploads/2019/06/mid-autumn-moon.jpg
END:VEVENT
BEGIN:VEVENT
DTSTART;TZID=America/Vancouver:20250816T210000
DTEND;TZID=America/Vancouver:20250816T233000
DTSTAMP:20260423T052751
CREATED:20241118T180500Z
LAST-MODIFIED:20241118T180500Z
UID:10003003-1755378000-1755387000@whatsupinwells.com
SUMMARY:Karaoke Night
DESCRIPTION:Every Saturday from 9 pm to late
URL:https://whatsupinwells.com/event/karaoke-night-4/2025-08-16/
LOCATION:Jack O’ Club Restaurant & Pub\, 12383 Hwy 27 E.\, Wells\, BC\, V0K2R0\, Canada
CATEGORIES:19+,Music,Wells
ATTACH;FMTTYPE=image/jpeg:https://whatsupinwells.com/wp-content/uploads/2023/07/karaokee.jpg
END:VEVENT
BEGIN:VEVENT
DTSTART;TZID=America/Vancouver:20250816T100000
DTEND;TZID=America/Vancouver:20250816T160000
DTSTAMP:20260423T052751
CREATED:20250814T164001Z
LAST-MODIFIED:20250814T164409Z
UID:10003648-1755338400-1755360000@whatsupinwells.com
SUMMARY:Barkerville's Indigenous Peoples' Celebration
DESCRIPTION:Celebrate the region’s Indigenous culture and history! \nSaturday\, August 16th\, 2025\n10AM – 4PM\nArtists’ Market in the Welcome Centre\nIncluding free Bannock!\nSpecial Event Programming\nat Mitlite Iskum #188\nIndigenous Peoples’ Celebration\nMorning Drum Circle\n9:30am \nJoin us for a traditional Indigenous drum circle at Mitlite Iskum to start the day and honour the Original Peoples of this land. 15 minutes. \nIndigenous Peoples’ Celebration\nPARADE\n11:20am \nThe parade begins at the Chinatown Arch and finishes at Mitlite Iskum \nWelcome Ceremony\n11:30am \nJoin us at Mitlite Iskum as we welcome our guests to the Indigenous Peoples’ Celebration. \nDrumming\, Dancing\, & Stories\n11:45pm \nThe celebration kicks off with ceremonial dances and drumming from across British Columbia\, along with stories shared by the region’s Elders. \nIndigenous Peoples’ Celebration\nBear Dancers\n3:15pm \nThe St’át’imc Bear Dancers provide an unforgettable performance and cultural experience that is not to be missed. \nIndigenous Peoples’ Celebration\nGames\n4:00pm \nThe traditional Lahal game dates back countless generations and is a fun activity for all ages. \nClosing Drum Circle\n5:15pm \nThe final drum circle of the day will close out the day’s celebrations.
URL:https://whatsupinwells.com/event/barkervilles-indigenous-peoples-celebration/
LOCATION:Barkerville Historic Town & Park\, 14301 Hwy 26 E.\, Barkerville\, BC\, V0K2R0\, Canada
CATEGORIES:Arts,Barkerville,Food,Free,Music
ATTACH;FMTTYPE=image/jpeg:https://whatsupinwells.com/wp-content/uploads/2019/06/indigenous-celebrations-2018.jpg
END:VEVENT
BEGIN:VEVENT
DTSTART;TZID=America/Vancouver:20250815T180000
DTEND;TZID=America/Vancouver:20250815T190000
DTSTAMP:20260423T052751
CREATED:20250808T153050Z
LAST-MODIFIED:20250808T153050Z
UID:10003646-1755280800-1755284400@whatsupinwells.com
SUMMARY:International Harp School Public Events
DESCRIPTION:🎶 Do you want to experience some of the magic that harp school has to offer? \nWe have multiple different events that will be open to the public for you to enjoy! On August 10th join us for Trees.Listen with Sharlene Wallace\, followed by an Instructors concert on August 12th\, then join us for the coffee house at The Summit (next to Frog on the Bog) on the 14th\, and finally\, on August 15th\, we will be hosting a potluck and Cèilidh to finish off harp school!\nWe can’t wait to see you there!
URL:https://whatsupinwells.com/event/international-harp-school-public-events/2025-08-15/
LOCATION:BC
CATEGORIES:Arts,Music,Wells
ATTACH;FMTTYPE=image/jpeg:https://whatsupinwells.com/wp-content/uploads/2025/08/528626455_1620383699334798_1510390860568978412_n.jpg
END:VEVENT
BEGIN:VEVENT
DTSTART;TZID=America/Vancouver:20250814T190000
DTEND;TZID=America/Vancouver:20250814T200000
DTSTAMP:20260423T052751
CREATED:20250808T153050Z
LAST-MODIFIED:20250808T153050Z
UID:10003645-1755198000-1755201600@whatsupinwells.com
SUMMARY:International Harp School Public Events
DESCRIPTION:🎶 Do you want to experience some of the magic that harp school has to offer? \nWe have multiple different events that will be open to the public for you to enjoy! On August 10th join us for Trees.Listen with Sharlene Wallace\, followed by an Instructors concert on August 12th\, then join us for the coffee house at The Summit (next to Frog on the Bog) on the 14th\, and finally\, on August 15th\, we will be hosting a potluck and Cèilidh to finish off harp school!\nWe can’t wait to see you there!
URL:https://whatsupinwells.com/event/international-harp-school-public-events/2025-08-14/
LOCATION:BC
CATEGORIES:Arts,Music,Wells
ATTACH;FMTTYPE=image/jpeg:https://whatsupinwells.com/wp-content/uploads/2025/08/528626455_1620383699334798_1510390860568978412_n.jpg
END:VEVENT
END:VCALENDAR