BEGIN:VCALENDAR
VERSION:2.0
PRODID:-//What&#039;s Up in Wells - ECPv6.15.20//NONSGML v1.0//EN
CALSCALE:GREGORIAN
METHOD:PUBLISH
X-ORIGINAL-URL:https://whatsupinwells.com
X-WR-CALDESC:Events for What&#039;s Up in Wells
REFRESH-INTERVAL;VALUE=DURATION:PT1H
X-Robots-Tag:noindex
X-PUBLISHED-TTL:PT1H
BEGIN:VTIMEZONE
TZID:America/Vancouver
BEGIN:DAYLIGHT
TZOFFSETFROM:-0800
TZOFFSETTO:-0700
TZNAME:PDT
DTSTART:20210314T100000
END:DAYLIGHT
BEGIN:STANDARD
TZOFFSETFROM:-0700
TZOFFSETTO:-0800
TZNAME:PST
DTSTART:20211107T090000
END:STANDARD
BEGIN:DAYLIGHT
TZOFFSETFROM:-0800
TZOFFSETTO:-0700
TZNAME:PDT
DTSTART:20220313T100000
END:DAYLIGHT
BEGIN:STANDARD
TZOFFSETFROM:-0700
TZOFFSETTO:-0800
TZNAME:PST
DTSTART:20221106T090000
END:STANDARD
BEGIN:DAYLIGHT
TZOFFSETFROM:-0800
TZOFFSETTO:-0700
TZNAME:PDT
DTSTART:20230312T100000
END:DAYLIGHT
BEGIN:STANDARD
TZOFFSETFROM:-0700
TZOFFSETTO:-0800
TZNAME:PST
DTSTART:20231105T090000
END:STANDARD
END:VTIMEZONE
BEGIN:VEVENT
DTSTART;TZID=America/Vancouver:20220806T130000
DTEND;TZID=America/Vancouver:20220806T150000
DTSTAMP:20260424T090101
CREATED:20220803T032500Z
LAST-MODIFIED:20220803T032500Z
UID:10000639-1659790800-1659798000@whatsupinwells.com
SUMMARY:Medicinal Plant Walk
DESCRIPTION:ave you ever wondered what that little flower is on the forest floor or which plants are safe to eat and which are not? Join Birch Kuch on Saturday August 6th from 1-3 pm for an afternoon walk through the Wells marsh and Community Forest to identify many of the useful plants that grow all around us.  We will focus on abundant species that are resistant to over harvesting while discussing wildcrafting ethics\, processing techniques\, and common ailments suitable to herbal treatment. \n\n\n\n\n \n \n\n\n\n\n\n\n\n\n\nBirch’s passion for wild medicinal and edible plants started as a child picking berries.  As he grew up he found out that many of his favourite smelly plants\, from yarrow and wild mint to willow and aspen\, are actually useful to us as medicine. \nHerbal medicine is not a replacement for mainstream medicine\, but the two complement each other very nicely. A basic understanding of safe local herbs can help prevent and ameliorate some of the ailments that modern medicine struggles with. \n\nThis workshop is Pay What You Can \nReserve your spot here (you can only book one space at a time): https://islandmountainarts.as.me/plant-walk
URL:https://whatsupinwells.com/event/medicinal-plant-walk/
CATEGORIES:Outdoor Recreation,Wells
ATTACH;FMTTYPE=image/jpeg:https://whatsupinwells.com/wp-content/uploads/2022/08/Birch_Photo.jpeg
END:VEVENT
BEGIN:VEVENT
DTSTART;TZID=America/Vancouver:20220809T090000
DTEND;TZID=America/Vancouver:20220811T143000
DTSTAMP:20260424T090101
CREATED:20220803T033519Z
LAST-MODIFIED:20220803T033519Z
UID:10000641-1660035600-1660228200@whatsupinwells.com
SUMMARY:Kids Nature Camp: Wondrous World of Plants
DESCRIPTION:Have you ever seen a juicy berry while walking in the woods and wondered if you could eat it? This program will help you to discover the bounty of edible plants that thrive in the forest. Participants will learn about sustainable harvesting practices that ensure the health of the plants and foraging safety. Different activities will help participants learn the different plants in a fun manner that highlights the many benefits and help that plants provide us while maintaining the importance of respect for the different plants themselves. To further deepen our relationships with the plants that we learn about\, a guest artist will lead a workshop exploring how art is an important part of our toolkit when exploring the world around us. \nThis Camp will run from 9:00am-2:30pm each day \nThis program costs $30 valued at $10 per day. \nNature Camp Packing List
URL:https://whatsupinwells.com/event/kids-nature-camp-wondrous-world-of-plants/
CATEGORIES:Education,Food,Outdoor Recreation,Wells
ATTACH;FMTTYPE=image/jpeg:https://whatsupinwells.com/wp-content/uploads/2022/08/wondrous-plants.jpg
END:VEVENT
BEGIN:VEVENT
DTSTART;VALUE=DATE:20220820
DTEND;VALUE=DATE:20220823
DTSTAMP:20260424T090101
CREATED:20220708T023850Z
LAST-MODIFIED:20220708T023850Z
UID:10000623-1660968000-1661140799@whatsupinwells.com
SUMMARY:PAL/CORE Training
DESCRIPTION:Want to be licensed to own a firearm and use it for hunting? Want to learn more about gun safety and ethical hunting practices? The Wells-Barkerville Community Forest is pleased to offer a local opportunity to complete the training required for your PAL and FWID licenses.\n\nDay 1: Canadian Firearms Safety Course (CFSC) – the mandatory training required to apply for your unrestricted Possession and Acquisition License (PAL). Participants must be 12 years of age or older.\n\nDay 2: Conservation and Outdoor Recreation Education (CORE) Course – the mandatory training required to apply for your BC Fish & Wildlife ID (FWID – required for hunting license). Participants must be 10 years of age or older\nParticipants who have previously completed their CFSC may join for the second day only if they provide a copy of their CFSC Course Report (the PAL license alone is not sufficient)\n\nThe course is limited to a maximum enrollment of 8 participants. Cost per participants is $150 for both courses.\n\nCourse instructor: Dan Petrisor of North Central Firearms Training.\n\nTo register\, please contact Jillian at 778-763-0641 or newjillenium@gmail.com\nSponsored & hosted by the Wells-Barkerville Community Forest Coordinated by Jillenium Consulting
URL:https://whatsupinwells.com/event/pal-core-training/
CATEGORIES:Education,Outdoor Recreation,Wells
ATTACH;FMTTYPE=image/jpeg:https://whatsupinwells.com/wp-content/uploads/2022/07/Wellsians-in-1.jpg
END:VEVENT
END:VCALENDAR