BEGIN:VCALENDAR
VERSION:2.0
PRODID:-//What&#039;s Up in Wells - ECPv6.15.20//NONSGML v1.0//EN
CALSCALE:GREGORIAN
METHOD:PUBLISH
X-WR-CALNAME:What&#039;s Up in Wells
X-ORIGINAL-URL:https://whatsupinwells.com
X-WR-CALDESC:Events for What&#039;s Up in Wells
REFRESH-INTERVAL;VALUE=DURATION:PT1H
X-Robots-Tag:noindex
X-PUBLISHED-TTL:PT1H
BEGIN:VTIMEZONE
TZID:America/Vancouver
BEGIN:DAYLIGHT
TZOFFSETFROM:-0800
TZOFFSETTO:-0700
TZNAME:PDT
DTSTART:20220313T100000
END:DAYLIGHT
BEGIN:STANDARD
TZOFFSETFROM:-0700
TZOFFSETTO:-0800
TZNAME:PST
DTSTART:20221106T090000
END:STANDARD
BEGIN:DAYLIGHT
TZOFFSETFROM:-0800
TZOFFSETTO:-0700
TZNAME:PDT
DTSTART:20230312T100000
END:DAYLIGHT
BEGIN:STANDARD
TZOFFSETFROM:-0700
TZOFFSETTO:-0800
TZNAME:PST
DTSTART:20231105T090000
END:STANDARD
BEGIN:DAYLIGHT
TZOFFSETFROM:-0800
TZOFFSETTO:-0700
TZNAME:PDT
DTSTART:20240310T100000
END:DAYLIGHT
BEGIN:STANDARD
TZOFFSETFROM:-0700
TZOFFSETTO:-0800
TZNAME:PST
DTSTART:20241103T090000
END:STANDARD
END:VTIMEZONE
BEGIN:VEVENT
DTSTART;TZID=America/Vancouver:20231216T100000
DTEND;TZID=America/Vancouver:20231216T163000
DTSTAMP:20260423T035114
CREATED:20231106T002146Z
LAST-MODIFIED:20231106T002146Z
UID:10001654-1702720800-1702744200@whatsupinwells.com
SUMMARY:Barkerville's Olde-Fashioned Christmas
DESCRIPTION:Mark your calendars! Olde-Fashioned Christmas in Barkerville is happening Dec. 16th & 17th. Sleigh rides\, hot cocoa\, caroling\, shopping\, Father Christmas\, and the list goes on. \nLearn all about it and book your admission in advance at http://barkerville.ca
URL:https://whatsupinwells.com/event/barkervilles-olde-fashioned-christmas/2023-12-16/
LOCATION:Barkerville Historic Town & Park\, 14301 Hwy 26 E.\, Barkerville\, BC\, V0K2R0\, Canada
CATEGORIES:Barkerville,Outdoor Recreation
ATTACH;FMTTYPE=image/jpeg:https://whatsupinwells.com/wp-content/uploads/2023/11/olde-xmas.jpg
END:VEVENT
BEGIN:VEVENT
DTSTART;TZID=America/Vancouver:20231217T100000
DTEND;TZID=America/Vancouver:20231217T163000
DTSTAMP:20260423T035114
CREATED:20231106T002146Z
LAST-MODIFIED:20231106T002146Z
UID:10001655-1702807200-1702830600@whatsupinwells.com
SUMMARY:Barkerville's Olde-Fashioned Christmas
DESCRIPTION:Mark your calendars! Olde-Fashioned Christmas in Barkerville is happening Dec. 16th & 17th. Sleigh rides\, hot cocoa\, caroling\, shopping\, Father Christmas\, and the list goes on. \nLearn all about it and book your admission in advance at http://barkerville.ca
URL:https://whatsupinwells.com/event/barkervilles-olde-fashioned-christmas/2023-12-17/
LOCATION:Barkerville Historic Town & Park\, 14301 Hwy 26 E.\, Barkerville\, BC\, V0K2R0\, Canada
CATEGORIES:Barkerville,Outdoor Recreation
ATTACH;FMTTYPE=image/jpeg:https://whatsupinwells.com/wp-content/uploads/2023/11/olde-xmas.jpg
END:VEVENT
END:VCALENDAR