BEGIN:VCALENDAR
VERSION:2.0
PRODID:-//What&#039;s Up in Wells - ECPv6.15.20//NONSGML v1.0//EN
CALSCALE:GREGORIAN
METHOD:PUBLISH
X-ORIGINAL-URL:https://whatsupinwells.com
X-WR-CALDESC:Events for What&#039;s Up in Wells
REFRESH-INTERVAL;VALUE=DURATION:PT1H
X-Robots-Tag:noindex
X-PUBLISHED-TTL:PT1H
BEGIN:VTIMEZONE
TZID:America/Vancouver
BEGIN:DAYLIGHT
TZOFFSETFROM:-0800
TZOFFSETTO:-0700
TZNAME:PDT
DTSTART:20230312T100000
END:DAYLIGHT
BEGIN:STANDARD
TZOFFSETFROM:-0700
TZOFFSETTO:-0800
TZNAME:PST
DTSTART:20231105T090000
END:STANDARD
BEGIN:DAYLIGHT
TZOFFSETFROM:-0800
TZOFFSETTO:-0700
TZNAME:PDT
DTSTART:20240310T100000
END:DAYLIGHT
BEGIN:STANDARD
TZOFFSETFROM:-0700
TZOFFSETTO:-0800
TZNAME:PST
DTSTART:20241103T090000
END:STANDARD
BEGIN:DAYLIGHT
TZOFFSETFROM:-0800
TZOFFSETTO:-0700
TZNAME:PDT
DTSTART:20250309T100000
END:DAYLIGHT
BEGIN:STANDARD
TZOFFSETFROM:-0700
TZOFFSETTO:-0800
TZNAME:PST
DTSTART:20251102T090000
END:STANDARD
END:VTIMEZONE
BEGIN:VEVENT
DTSTART;TZID=America/Vancouver:20240507T190000
DTEND;TZID=America/Vancouver:20240507T210000
DTSTAMP:20260420T191743
CREATED:20240131T210733Z
LAST-MODIFIED:20240530T154143Z
UID:10001679-1715108400-1715115600@whatsupinwells.com
SUMMARY:Adult Pickleball Nights
DESCRIPTION:Wells Pickleball is back! Tuesdays @ 7pm\, starting tomorrow\, at the Community Hall. All you need is a pair of running shoes. Drop in fee is $3. No experience required. We will also be running youth Pickleball on Thursdays from 4-5:30 pm.\nHope to see you there!
URL:https://whatsupinwells.com/event/pickleball-nights/2024-05-07/
LOCATION:Wells Community Hall\, 4269 Sanders Ave\, Wells\, BC\, V0K2R0\, Canada
CATEGORIES:Outdoor Recreation,Wells
ATTACH;FMTTYPE=image/png:https://whatsupinwells.com/wp-content/uploads/2023/01/pickleball-2.png
ORGANIZER;CN="Wells and Area Community Association":MAILTO:Wellsareacommunity@gmail.com
END:VEVENT
BEGIN:VEVENT
DTSTART;TZID=America/Vancouver:20240514T190000
DTEND;TZID=America/Vancouver:20240514T210000
DTSTAMP:20260420T191743
CREATED:20240131T210733Z
LAST-MODIFIED:20240530T154143Z
UID:10001680-1715713200-1715720400@whatsupinwells.com
SUMMARY:Adult Pickleball Nights
DESCRIPTION:Wells Pickleball is back! Tuesdays @ 7pm\, starting tomorrow\, at the Community Hall. All you need is a pair of running shoes. Drop in fee is $3. No experience required. We will also be running youth Pickleball on Thursdays from 4-5:30 pm.\nHope to see you there!
URL:https://whatsupinwells.com/event/pickleball-nights/2024-05-14/
LOCATION:Wells Community Hall\, 4269 Sanders Ave\, Wells\, BC\, V0K2R0\, Canada
CATEGORIES:Outdoor Recreation,Wells
ATTACH;FMTTYPE=image/png:https://whatsupinwells.com/wp-content/uploads/2023/01/pickleball-2.png
ORGANIZER;CN="Wells and Area Community Association":MAILTO:Wellsareacommunity@gmail.com
END:VEVENT
BEGIN:VEVENT
DTSTART;TZID=America/Vancouver:20240521T190000
DTEND;TZID=America/Vancouver:20240521T210000
DTSTAMP:20260420T191743
CREATED:20240131T210733Z
LAST-MODIFIED:20240530T154143Z
UID:10001681-1716318000-1716325200@whatsupinwells.com
SUMMARY:Adult Pickleball Nights
DESCRIPTION:Wells Pickleball is back! Tuesdays @ 7pm\, starting tomorrow\, at the Community Hall. All you need is a pair of running shoes. Drop in fee is $3. No experience required. We will also be running youth Pickleball on Thursdays from 4-5:30 pm.\nHope to see you there!
URL:https://whatsupinwells.com/event/pickleball-nights/2024-05-21/
LOCATION:Wells Community Hall\, 4269 Sanders Ave\, Wells\, BC\, V0K2R0\, Canada
CATEGORIES:Outdoor Recreation,Wells
ATTACH;FMTTYPE=image/png:https://whatsupinwells.com/wp-content/uploads/2023/01/pickleball-2.png
ORGANIZER;CN="Wells and Area Community Association":MAILTO:Wellsareacommunity@gmail.com
END:VEVENT
BEGIN:VEVENT
DTSTART;TZID=America/Vancouver:20240528T190000
DTEND;TZID=America/Vancouver:20240528T210000
DTSTAMP:20260420T191743
CREATED:20240131T210733Z
LAST-MODIFIED:20240530T154143Z
UID:10001682-1716922800-1716930000@whatsupinwells.com
SUMMARY:Adult Pickleball Nights
DESCRIPTION:Wells Pickleball is back! Tuesdays @ 7pm\, starting tomorrow\, at the Community Hall. All you need is a pair of running shoes. Drop in fee is $3. No experience required. We will also be running youth Pickleball on Thursdays from 4-5:30 pm.\nHope to see you there!
URL:https://whatsupinwells.com/event/pickleball-nights/2024-05-28/
LOCATION:Wells Community Hall\, 4269 Sanders Ave\, Wells\, BC\, V0K2R0\, Canada
CATEGORIES:Outdoor Recreation,Wells
ATTACH;FMTTYPE=image/png:https://whatsupinwells.com/wp-content/uploads/2023/01/pickleball-2.png
ORGANIZER;CN="Wells and Area Community Association":MAILTO:Wellsareacommunity@gmail.com
END:VEVENT
END:VCALENDAR