BEGIN:VCALENDAR
VERSION:2.0
PRODID:-//What&#039;s Up in Wells - ECPv6.15.20//NONSGML v1.0//EN
CALSCALE:GREGORIAN
METHOD:PUBLISH
X-WR-CALNAME:What&#039;s Up in Wells
X-ORIGINAL-URL:https://whatsupinwells.com
X-WR-CALDESC:Events for What&#039;s Up in Wells
REFRESH-INTERVAL;VALUE=DURATION:PT1H
X-Robots-Tag:noindex
X-PUBLISHED-TTL:PT1H
BEGIN:VTIMEZONE
TZID:America/Vancouver
BEGIN:DAYLIGHT
TZOFFSETFROM:-0800
TZOFFSETTO:-0700
TZNAME:PDT
DTSTART:20230312T100000
END:DAYLIGHT
BEGIN:STANDARD
TZOFFSETFROM:-0700
TZOFFSETTO:-0800
TZNAME:PST
DTSTART:20231105T090000
END:STANDARD
BEGIN:DAYLIGHT
TZOFFSETFROM:-0800
TZOFFSETTO:-0700
TZNAME:PDT
DTSTART:20240310T100000
END:DAYLIGHT
BEGIN:STANDARD
TZOFFSETFROM:-0700
TZOFFSETTO:-0800
TZNAME:PST
DTSTART:20241103T090000
END:STANDARD
BEGIN:DAYLIGHT
TZOFFSETFROM:-0800
TZOFFSETTO:-0700
TZNAME:PDT
DTSTART:20250309T100000
END:DAYLIGHT
BEGIN:STANDARD
TZOFFSETFROM:-0700
TZOFFSETTO:-0800
TZNAME:PST
DTSTART:20251102T090000
END:STANDARD
END:VTIMEZONE
BEGIN:VEVENT
DTSTART;TZID=America/Vancouver:20240604T190000
DTEND;TZID=America/Vancouver:20240604T210000
DTSTAMP:20260420T173906
CREATED:20240131T210733Z
LAST-MODIFIED:20240530T154143Z
UID:10001683-1717527600-1717534800@whatsupinwells.com
SUMMARY:Adult Pickleball Nights
DESCRIPTION:Wells Pickleball is back! Tuesdays @ 7pm\, starting tomorrow\, at the Community Hall. All you need is a pair of running shoes. Drop in fee is $3. No experience required. We will also be running youth Pickleball on Thursdays from 4-5:30 pm.\nHope to see you there!
URL:https://whatsupinwells.com/event/pickleball-nights/2024-06-04/
LOCATION:Wells Community Hall\, 4269 Sanders Ave\, Wells\, BC\, V0K2R0\, Canada
CATEGORIES:Outdoor Recreation,Wells
ATTACH;FMTTYPE=image/png:https://whatsupinwells.com/wp-content/uploads/2023/01/pickleball-2.png
ORGANIZER;CN="Wells and Area Community Association":MAILTO:Wellsareacommunity@gmail.com
END:VEVENT
BEGIN:VEVENT
DTSTART;VALUE=DATE:20240615
DTEND;VALUE=DATE:20240617
DTSTAMP:20260420T173906
CREATED:20240530T153938Z
LAST-MODIFIED:20240530T153952Z
UID:10002000-1718424000-1718510399@whatsupinwells.com
SUMMARY:2nd Annual Tree Planting Fundraiser
DESCRIPTION:It’s happening! The Wells Destination School Society\, in cooperation with West Fraser and the Wells Barkerville Community Forest is holding the 2nd annual Tree Planting Fundraiser. Join us on the block June 15th. \nVolunteers are needed (no experience necessary) to join us on the block Saturday June 15 to achieve our goal of planting 15\,000 seedlings. All planters will be provided with lunch and refreshments and a free ticket to attend the Treeplanter’s Ball. Raised funds will goal towards starting the WILDWays Highschool September 2024. \nFor more info and to sign up email wellsdestinationschool@gmail.com
URL:https://whatsupinwells.com/event/2nd-annual-tree-planting-fundraiser/
CATEGORIES:Education,Free,Outdoor Recreation,Wells
ATTACH;FMTTYPE=image/jpeg:https://whatsupinwells.com/wp-content/uploads/2024/05/treeplanting-fundraiser.jpg
END:VEVENT
END:VCALENDAR