BEGIN:VCALENDAR
VERSION:2.0
PRODID:-//What&#039;s Up in Wells - ECPv6.15.20//NONSGML v1.0//EN
CALSCALE:GREGORIAN
METHOD:PUBLISH
X-ORIGINAL-URL:https://whatsupinwells.com
X-WR-CALDESC:Events for What&#039;s Up in Wells
REFRESH-INTERVAL;VALUE=DURATION:PT1H
X-Robots-Tag:noindex
X-PUBLISHED-TTL:PT1H
BEGIN:VTIMEZONE
TZID:America/Vancouver
BEGIN:DAYLIGHT
TZOFFSETFROM:-0800
TZOFFSETTO:-0700
TZNAME:PDT
DTSTART:20240310T100000
END:DAYLIGHT
BEGIN:STANDARD
TZOFFSETFROM:-0700
TZOFFSETTO:-0800
TZNAME:PST
DTSTART:20241103T090000
END:STANDARD
BEGIN:DAYLIGHT
TZOFFSETFROM:-0800
TZOFFSETTO:-0700
TZNAME:PDT
DTSTART:20250309T100000
END:DAYLIGHT
BEGIN:STANDARD
TZOFFSETFROM:-0700
TZOFFSETTO:-0800
TZNAME:PST
DTSTART:20251102T090000
END:STANDARD
BEGIN:DAYLIGHT
TZOFFSETFROM:-0800
TZOFFSETTO:-0700
TZNAME:PDT
DTSTART:20260308T100000
END:DAYLIGHT
BEGIN:STANDARD
TZOFFSETFROM:-0700
TZOFFSETTO:-0800
TZNAME:PST
DTSTART:20261101T090000
END:STANDARD
END:VTIMEZONE
BEGIN:VEVENT
DTSTART;VALUE=DATE:20250207
DTEND;VALUE=DATE:20250211
DTSTAMP:20260420T025141
CREATED:20250117T013213Z
LAST-MODIFIED:20250117T013314Z
UID:10003500-1738900800-1739159999@whatsupinwells.com
SUMMARY:Gold Rush Trail Sled Dog Mail Run
DESCRIPTION:Where sled dog teams travel wilderness trails between Quesnel\, Wells & Barkerville over three days – Feb 7-9\, 2025 \nThe picture featured in this year’s mail run is a beautiful photograph taken by Pat Suter of his great niece Nevada Jones from a previous event. \nThe Gold Rush Trail Sled Dog Mail Run is living history for the past 33 years. Our dedicated mushers and their dog teams will again be sworn in as official mail carriers and will carry Canada Post mail in their dog sleds over the Gold Rush Trail to Barkerville. \nPlease support this special year by purchasing unique Mail Run envelopes that are sold from this website or at local outlets\, stamped “Carried by Dog Team” and hand cancelled by volunteers in Quesnel\, Wells and Barkerville\, the three post offices along the route. Once delivered to Barkerville\, this mail enters the regular mail system for delivery anywhere in the world.
URL:https://whatsupinwells.com/event/gold-rush-trail-sled-dog-mail-run-3/
CATEGORIES:Barkerville,Outdoor Recreation,Troll,Wells
ATTACH;FMTTYPE=image/jpeg:https://whatsupinwells.com/wp-content/uploads/2025/01/sled-dog-2025.jpg
ORGANIZER;CN="Gold Rush Trail Dog Sled Mail Run":MAILTO:info@dogsledmailrun.ca
END:VEVENT
BEGIN:VEVENT
DTSTART;TZID=America/Vancouver:20250215T100000
DTEND;TZID=America/Vancouver:20250215T170000
DTSTAMP:20260420T025141
CREATED:20250117T012211Z
LAST-MODIFIED:20250117T012211Z
UID:10003498-1739613600-1739638800@whatsupinwells.com
SUMMARY:International Gourmet Ski Tour
DESCRIPTION:FEBRUARY 15 2025\nDon’t miss out on the fun! The Wells International Gourmet Ski has been extremely popular family fun cross-country ski and snowshoe event for over 15 years. It is routinely sold out. Mark FEBRUARY 15\, 2025 on your calendar now.\nRegistration for the 2025 International Gourmet Ski will open in early January. Watch for posts on our website or this Facebook page for further details. if you are not on our mailing list sign up on the WATS website (www.wellstrails.ca ) to receive our updates.\nSEE YOU IN FEBRUARY!!
URL:https://whatsupinwells.com/event/international-gourmet-ski-tour/
CATEGORIES:Food,Outdoor Recreation,Wells
ATTACH;FMTTYPE=image/jpeg:https://whatsupinwells.com/wp-content/uploads/2025/01/ski-tour.jpg
ORGANIZER;CN="Wells and Area Trails Society":MAILTO:wellstrails@gmail.com
END:VEVENT
BEGIN:VEVENT
DTSTART;TZID=America/Vancouver:20250215T190000
DTEND;TZID=America/Vancouver:20250215T210000
DTSTAMP:20260420T025141
CREATED:20250201T222843Z
LAST-MODIFIED:20250201T222843Z
UID:10003508-1739646000-1739653200@whatsupinwells.com
SUMMARY:2025 Mountain Film Festival
DESCRIPTION:The WELLS and AREA TRAILS SOCIETY Presents the\n2025 MOUNTAIN FILM FESTIVAL.\nJoin us at the Sunset Theatre on Saturday\, February 15th @ 7PM for another wonderful showing of outdoor films curated and presented by Dave Jorgenson.\nTickets are $22.00 and can be purchased at WATS Website or Sunset Theatre Website. Follow the link below to either site.\nSee you at the Sunset!
URL:https://whatsupinwells.com/event/2025-mountain-film-festival/
LOCATION:Sunset Theatre\, 2357 Pooley St.\, Wells\, BC\, v0k2r0\, Canada
CATEGORIES:Outdoor Recreation,Theatre,Wells
ATTACH;FMTTYPE=image/jpeg:https://whatsupinwells.com/wp-content/uploads/2025/02/mountain-film-fest-2025.jpg
ORGANIZER;CN="Wells and Area Trails Society":MAILTO:wellstrails@gmail.com
END:VEVENT
BEGIN:VEVENT
DTSTART;VALUE=DATE:20250216
DTEND;VALUE=DATE:20250218
DTSTAMP:20260420T025141
CREATED:20250117T040622Z
LAST-MODIFIED:20250117T040622Z
UID:10003504-1739678400-1739764799@whatsupinwells.com
SUMMARY:Family Day Fun
DESCRIPTION:Your invited for some Family Day Fun!\nJoin us on Sunday\, February 16 at Groundhog lake ❄
URL:https://whatsupinwells.com/event/family-day-fun/
CATEGORIES:Barkerville,Outdoor Recreation,Wells
ATTACH;FMTTYPE=image/jpeg:https://whatsupinwells.com/wp-content/uploads/2025/01/snowmobile-family-day.jpg
ORGANIZER;CN="Wells Snowmobile Club":MAILTO:Snowmobilewells@gmail.com
END:VEVENT
BEGIN:VEVENT
DTSTART;VALUE=DATE:20250227
DTEND;VALUE=DATE:20250304
DTSTAMP:20260420T025141
CREATED:20250201T174810Z
LAST-MODIFIED:20250201T174810Z
UID:10003507-1740628800-1740974399@whatsupinwells.com
SUMMARY:Avalanche Safety Training
DESCRIPTION:Snowmobile AST2 is based in Wells BC. This 4-day course will take your skills to the next level. It is designed to help you grow your avalanche skills and knowledge to help students make more advanced decisions.
URL:https://whatsupinwells.com/event/avalanche-safety-training/
CATEGORIES:Education,Outdoor Recreation,Wells
ATTACH;FMTTYPE=image/jpeg:https://whatsupinwells.com/wp-content/uploads/2025/02/ast-2.jpg
ORGANIZER;CN="Outside Ventures":MAILTO:outsideventurespg@gmail.com
END:VEVENT
END:VCALENDAR