BEGIN:VCALENDAR
VERSION:2.0
PRODID:-//What&#039;s Up in Wells - ECPv6.15.20//NONSGML v1.0//EN
CALSCALE:GREGORIAN
METHOD:PUBLISH
X-WR-CALNAME:What&#039;s Up in Wells
X-ORIGINAL-URL:https://whatsupinwells.com
X-WR-CALDESC:Events for What&#039;s Up in Wells
REFRESH-INTERVAL;VALUE=DURATION:PT1H
X-Robots-Tag:noindex
X-PUBLISHED-TTL:PT1H
BEGIN:VTIMEZONE
TZID:America/Vancouver
BEGIN:DAYLIGHT
TZOFFSETFROM:-0800
TZOFFSETTO:-0700
TZNAME:PDT
DTSTART:20180311T100000
END:DAYLIGHT
BEGIN:STANDARD
TZOFFSETFROM:-0700
TZOFFSETTO:-0800
TZNAME:PST
DTSTART:20181104T090000
END:STANDARD
BEGIN:DAYLIGHT
TZOFFSETFROM:-0800
TZOFFSETTO:-0700
TZNAME:PDT
DTSTART:20190310T100000
END:DAYLIGHT
BEGIN:STANDARD
TZOFFSETFROM:-0700
TZOFFSETTO:-0800
TZNAME:PST
DTSTART:20191103T090000
END:STANDARD
BEGIN:DAYLIGHT
TZOFFSETFROM:-0800
TZOFFSETTO:-0700
TZNAME:PDT
DTSTART:20200308T100000
END:DAYLIGHT
BEGIN:STANDARD
TZOFFSETFROM:-0700
TZOFFSETTO:-0800
TZNAME:PST
DTSTART:20201101T090000
END:STANDARD
END:VTIMEZONE
BEGIN:VEVENT
DTSTART;TZID=America/Vancouver:20190223T100000
DTEND;TZID=America/Vancouver:20190223T160000
DTSTAMP:20260422T141802
CREATED:20181219T205616Z
LAST-MODIFIED:20190106T174311Z
UID:10000037-1550916000-1550937600@whatsupinwells.com
SUMMARY:Wells International Gourmet Ski
DESCRIPTION:The Wells International Gourmet Ski has been the main fundraiser for WATS for over 10 years. Participants get to experience a few of the things that make Wells great: the skiing\, the company\, the gorgeous natural setting\, and the delicious food produced in our humble kitchens! \nSki as much or as little as you would like\, eat fantastic International cuisine at four food stations along the way\, and join us for hot drinks and desserts at the finale. Get dressed up in your most ridiculous costumes for a chance to win great prizes! Stay in Wells for the evening and join us at the Sunset Theatre for our popular Winter Film Fest. \nItinerary for The Wells International Gourmet Ski: FEBRUARY 23\, 2019  \nCheck-in and sign waiver\nWhere: The Frog on the Bog (new location on the west side of the Bear’s Paw\, Hwy 26\, Wells)\nWhen: 10 am until 12 noon\nParking: BGM (Barkerville Gold Mines) parking lot across from the Bear’s Paw; not behind the Jack o’ Clubs \nSki and eat (and laugh)\nWhere: Start skiing from behind the Bear’s Paw\nWhen: Start skiing anytime between 11 am and 12 noon; food stations close at 3 pm\nHow: Ski the trails in any order or direction; visit the food stations in any order; visit up to four “Booty Basket” locations to see some new trail development and to get extra treats! \nDesserts and Finale\nWhere: The Jack O’ Clubs pub\nWhen: Pub will be open for drinks starting at 3 pm; desserts will be ready to sample starting at 3 pm; prize give-away starts at around 3:30 pm; group photo in front of the Jack O’Clubs at around 4 pm \nDinner\nEat in the Jack O’ Clubs Restaurant or in The Pooley Street Cafe at the Wells Hotel \nWinter Film Festival\nJoin us for a viewing of Dave’s Faves – the best of the films compiled from over 10 years of film festivals!\nWhere: The Sunset Theatre\nWhen: 7 pm
URL:https://whatsupinwells.com/event/wells-international-gourmet-ski/
CATEGORIES:Outdoor Recreation,Wells
ATTACH;FMTTYPE=image/jpeg:https://whatsupinwells.com/wp-content/uploads/2018/12/GourmetSkiersBanner-1024x576.jpg
ORGANIZER;CN="Wells and Area Trails Society":MAILTO:wellstrails@gmail.com
END:VEVENT
BEGIN:VEVENT
DTSTART;TZID=America/Vancouver:20190218T110000
DTEND;TZID=America/Vancouver:20190218T160000
DTSTAMP:20260422T141802
CREATED:20190129T002041Z
LAST-MODIFIED:20190129T002903Z
UID:10000126-1550487600-1550505600@whatsupinwells.com
SUMMARY:Family Day Celebrations at Barkerville
DESCRIPTION:This Family Day\, Barkerville’s historic Main Street will come alive for one day only! Join us for heritage games\, museum exhibitions\, live interpretations\, and a free hot dog roast. Admission to the park is FREE\, and the Shamrock Tube run is offering 50% off lift passes. \nWhat’s Open (11:00 am – 4:00 pm):\n– Miss Wendle is back in the Wendle House. Stop in for a visit.\n– Mr. Hankin is back in the Cameron & Ames Blacksmith Shop. See him at work.\n– Order hot drinks and home-cooked meals from the Barkerville Cafe.\n– Slide down the Shamrock Tube Run with 50% off lift passes.\n– Grab a free hot dog from the Barkerville Cafe and roast in on the bonfire.\n– The Nicol Hotel\, Barkerville Hotel\, and Lee Chong Co. Exhibits will be open for viewing \nSpecial Performances:\n11:00 am – 11:45 am: Justice Brew host an Early Justice Interpretation in the Methodist Church\n12:00 pm – 1:30 pm: Mr. Bowron hosts Heritage Games in the Clearing\n1:30 pm – 2:10 pm: Mr. Grimsby hosts Amazing Tales from the Goldrush Trail in the Visitors’ Centre\n2:00 pm – 3:10 pm: Miss Wilson hosts a Town Tour (meeting at the Pavilion)\n3:00 pm – 3:45 pm: Mrs. Kibbee hosts a Chinatown Tour (meeting at the Lung Duck Tong)\n3:15 pm – 4:00 pm: Mr. Grimsby hosts Amazing Tales from the Goldrush Trail in the Visitors’ Centre \n***\nCome out for the weekend! The The Barkerville Cafe and Gift Store Cafe\, the Barkerville’s Shamrock Tube RunTube Run\, and select Museum Exhibits will be open Saturday and Sunday too! Join us Sunday evening for Night Tubing on the Shamrock Tube Run until 7 pm.
URL:https://whatsupinwells.com/event/family-day-celebration-at-barkerville/
LOCATION:Barkerville Historic Town & Park\, 14301 Hwy 26 E.\, Barkerville\, BC\, V0K2R0\, Canada
CATEGORIES:Barkerville,Outdoor Recreation
ATTACH;FMTTYPE=image/png:https://whatsupinwells.com/wp-content/uploads/2019/01/family-day.png
END:VEVENT
BEGIN:VEVENT
DTSTART;TZID=America/Vancouver:20190217T110000
DTEND;TZID=America/Vancouver:20190217T190000
DTSTAMP:20260422T141802
CREATED:20190129T002237Z
LAST-MODIFIED:20190129T002237Z
UID:10000127-1550401200-1550430000@whatsupinwells.com
SUMMARY:Night Tubing on the Shamrock Tube Run
DESCRIPTION:We’re hosting special evening hours for the Family Day Weekend! Come and join us for tubing under the stars\, one night only\, Sunday February 17th. Spend the night with us and enjoy all the great Family Day Celebrations at Barkerville the next day.
URL:https://whatsupinwells.com/event/night-tubing-on-the-shamrock-tube-run/
LOCATION:Barkerville Historic Town & Park\, 14301 Hwy 26 E.\, Barkerville\, BC\, V0K2R0\, Canada
CATEGORIES:Barkerville,Outdoor Recreation
ATTACH;FMTTYPE=image/jpeg:https://whatsupinwells.com/wp-content/uploads/2019/01/night-tubing.jpg
END:VEVENT
BEGIN:VEVENT
DTSTART;VALUE=DATE:20190216
DTEND;VALUE=DATE:20190218
DTSTAMP:20260422T141802
CREATED:20181228T190622Z
LAST-MODIFIED:20181228T190824Z
UID:10000072-1550289600-1550375999@whatsupinwells.com
SUMMARY:14th Annual Troll Tele-Fest
DESCRIPTION:THIS is a ‘Celebration of the Season’. Although it began in 2005 as a way to celebrate and promote Telemark skiing\, it has turned into a BIG party that celebrates EVERYONE’S love for winter sports on the ski hill! \nThroughout the day\, our local telemark skiers will have Demo Gear to borrow and Lessons on ‘how to’ telemark. Watch them as they demonstrate this unique style of skiing. THEN\, with ticket in hand\, the evening fun begins in the lodge. A delicious buffet dinner will be served\, AMAZING Draw Prizes will be handed out\, everyone will receive their annual Tele-fest T-Shirt AND all of this will be happening to the incredible sounds of the ROADBLOCK!!!! \nJoin the fun\, join the party and Celebrate The Season! Come celebrate the 14th annual Tele Fest
URL:https://whatsupinwells.com/event/14th-annual-troll-tele-fest/
LOCATION:Troll Ski Resort\, Barkerville Hwy 27 E.\, BC\, Canada
CATEGORIES:Outdoor Recreation,Troll
ATTACH;FMTTYPE=image/jpeg:https://whatsupinwells.com/wp-content/uploads/2018/12/48403730_2131855146876804_2331215605824225280_o.jpg
END:VEVENT
BEGIN:VEVENT
DTSTART;TZID=America/Vancouver:20190202T120000
DTEND;TZID=America/Vancouver:20190202T233000
DTSTAMP:20260422T141802
CREATED:20190128T043101Z
LAST-MODIFIED:20190128T043101Z
UID:10000113-1549108800-1549150200@whatsupinwells.com
SUMMARY:Polar Bear Dip
DESCRIPTION:Registration at 12:00 pm at the Jack O’ Clubs General. Dip will take place around 1 pm at the Jack O’ Clubs Lake \nFood available at the Jack O’ Clubs Restaurant and Pub from 12 pm – 9 pm\, and fresh tunes in the evening from DJ Phat Funk.
URL:https://whatsupinwells.com/event/polar-bear-dip/
LOCATION:Jack O’ Club Restaurant & Pub\, 12383 Hwy 27 E.\, Wells\, BC\, V0K2R0\, Canada
CATEGORIES:All Events,Music,Outdoor Recreation,Wells
ATTACH;FMTTYPE=image/jpeg:https://whatsupinwells.com/wp-content/uploads/2019/01/2DBF31C9-DC12-4FDD-BE72-4BCE21127AE7.jpeg
END:VEVENT
END:VCALENDAR