BEGIN:VCALENDAR
VERSION:2.0
PRODID:-//What&#039;s Up in Wells - ECPv6.15.20//NONSGML v1.0//EN
CALSCALE:GREGORIAN
METHOD:PUBLISH
X-ORIGINAL-URL:https://whatsupinwells.com
X-WR-CALDESC:Events for What&#039;s Up in Wells
REFRESH-INTERVAL;VALUE=DURATION:PT1H
X-Robots-Tag:noindex
X-PUBLISHED-TTL:PT1H
BEGIN:VTIMEZONE
TZID:America/Vancouver
BEGIN:DAYLIGHT
TZOFFSETFROM:-0800
TZOFFSETTO:-0700
TZNAME:PDT
DTSTART:20250309T100000
END:DAYLIGHT
BEGIN:STANDARD
TZOFFSETFROM:-0700
TZOFFSETTO:-0800
TZNAME:PST
DTSTART:20251102T090000
END:STANDARD
BEGIN:DAYLIGHT
TZOFFSETFROM:-0800
TZOFFSETTO:-0700
TZNAME:PDT
DTSTART:20260308T100000
END:DAYLIGHT
BEGIN:STANDARD
TZOFFSETFROM:-0700
TZOFFSETTO:-0800
TZNAME:PST
DTSTART:20261101T090000
END:STANDARD
BEGIN:DAYLIGHT
TZOFFSETFROM:-0800
TZOFFSETTO:-0700
TZNAME:PDT
DTSTART:20270314T100000
END:DAYLIGHT
BEGIN:STANDARD
TZOFFSETFROM:-0700
TZOFFSETTO:-0800
TZNAME:PST
DTSTART:20271107T090000
END:STANDARD
BEGIN:DAYLIGHT
TZOFFSETFROM:-0800
TZOFFSETTO:-0700
TZNAME:PDT
DTSTART:20280312T100000
END:DAYLIGHT
BEGIN:STANDARD
TZOFFSETFROM:-0700
TZOFFSETTO:-0800
TZNAME:PST
DTSTART:20281105T090000
END:STANDARD
END:VTIMEZONE
BEGIN:VEVENT
DTSTART;TZID=America/Vancouver:20260906T160000
DTEND;TZID=America/Vancouver:20260906T180000
DTSTAMP:20260419T065434
CREATED:20251126T163004Z
LAST-MODIFIED:20251126T163006Z
UID:10003966-1788710400-1788717600@whatsupinwells.com
SUMMARY:Pickleball at the Hall
DESCRIPTION:8 pm and Sundays from 4-6 pm at the Community hall. No experience required\, all you need is a clean pair of shoes. The drop in fee is $3
URL:https://whatsupinwells.com/event/pickleball-at-the-hall-3-2/2026-09-06/
LOCATION:Wells Community Hall\, 4269 Sanders Ave\, Wells\, BC\, V0K2R0\, Canada
CATEGORIES:Outdoor Recreation,Wells
END:VEVENT
BEGIN:VEVENT
DTSTART;TZID=America/Vancouver:20260913T160000
DTEND;TZID=America/Vancouver:20260913T180000
DTSTAMP:20260419T065434
CREATED:20251126T163004Z
LAST-MODIFIED:20251126T163006Z
UID:10003967-1789315200-1789322400@whatsupinwells.com
SUMMARY:Pickleball at the Hall
DESCRIPTION:8 pm and Sundays from 4-6 pm at the Community hall. No experience required\, all you need is a clean pair of shoes. The drop in fee is $3
URL:https://whatsupinwells.com/event/pickleball-at-the-hall-3-2/2026-09-13/
LOCATION:Wells Community Hall\, 4269 Sanders Ave\, Wells\, BC\, V0K2R0\, Canada
CATEGORIES:Outdoor Recreation,Wells
END:VEVENT
BEGIN:VEVENT
DTSTART;TZID=America/Vancouver:20260920T160000
DTEND;TZID=America/Vancouver:20260920T180000
DTSTAMP:20260419T065434
CREATED:20251126T163004Z
LAST-MODIFIED:20251126T163006Z
UID:10003968-1789920000-1789927200@whatsupinwells.com
SUMMARY:Pickleball at the Hall
DESCRIPTION:8 pm and Sundays from 4-6 pm at the Community hall. No experience required\, all you need is a clean pair of shoes. The drop in fee is $3
URL:https://whatsupinwells.com/event/pickleball-at-the-hall-3-2/2026-09-20/
LOCATION:Wells Community Hall\, 4269 Sanders Ave\, Wells\, BC\, V0K2R0\, Canada
CATEGORIES:Outdoor Recreation,Wells
END:VEVENT
BEGIN:VEVENT
DTSTART;TZID=America/Vancouver:20260927T160000
DTEND;TZID=America/Vancouver:20260927T180000
DTSTAMP:20260419T065434
CREATED:20251126T163004Z
LAST-MODIFIED:20251126T163006Z
UID:10003969-1790524800-1790532000@whatsupinwells.com
SUMMARY:Pickleball at the Hall
DESCRIPTION:8 pm and Sundays from 4-6 pm at the Community hall. No experience required\, all you need is a clean pair of shoes. The drop in fee is $3
URL:https://whatsupinwells.com/event/pickleball-at-the-hall-3-2/2026-09-27/
LOCATION:Wells Community Hall\, 4269 Sanders Ave\, Wells\, BC\, V0K2R0\, Canada
CATEGORIES:Outdoor Recreation,Wells
END:VEVENT
BEGIN:VEVENT
DTSTART;TZID=America/Vancouver:20261004T160000
DTEND;TZID=America/Vancouver:20261004T180000
DTSTAMP:20260419T065434
CREATED:20251126T163004Z
LAST-MODIFIED:20251126T163006Z
UID:10003970-1791129600-1791136800@whatsupinwells.com
SUMMARY:Pickleball at the Hall
DESCRIPTION:8 pm and Sundays from 4-6 pm at the Community hall. No experience required\, all you need is a clean pair of shoes. The drop in fee is $3
URL:https://whatsupinwells.com/event/pickleball-at-the-hall-3-2/2026-10-04/
LOCATION:Wells Community Hall\, 4269 Sanders Ave\, Wells\, BC\, V0K2R0\, Canada
CATEGORIES:Outdoor Recreation,Wells
END:VEVENT
BEGIN:VEVENT
DTSTART;TZID=America/Vancouver:20261011T160000
DTEND;TZID=America/Vancouver:20261011T180000
DTSTAMP:20260419T065434
CREATED:20251126T163004Z
LAST-MODIFIED:20251126T163006Z
UID:10003971-1791734400-1791741600@whatsupinwells.com
SUMMARY:Pickleball at the Hall
DESCRIPTION:8 pm and Sundays from 4-6 pm at the Community hall. No experience required\, all you need is a clean pair of shoes. The drop in fee is $3
URL:https://whatsupinwells.com/event/pickleball-at-the-hall-3-2/2026-10-11/
LOCATION:Wells Community Hall\, 4269 Sanders Ave\, Wells\, BC\, V0K2R0\, Canada
CATEGORIES:Outdoor Recreation,Wells
END:VEVENT
BEGIN:VEVENT
DTSTART;TZID=America/Vancouver:20261018T160000
DTEND;TZID=America/Vancouver:20261018T180000
DTSTAMP:20260419T065434
CREATED:20251126T163004Z
LAST-MODIFIED:20251126T163006Z
UID:10003972-1792339200-1792346400@whatsupinwells.com
SUMMARY:Pickleball at the Hall
DESCRIPTION:8 pm and Sundays from 4-6 pm at the Community hall. No experience required\, all you need is a clean pair of shoes. The drop in fee is $3
URL:https://whatsupinwells.com/event/pickleball-at-the-hall-3-2/2026-10-18/
LOCATION:Wells Community Hall\, 4269 Sanders Ave\, Wells\, BC\, V0K2R0\, Canada
CATEGORIES:Outdoor Recreation,Wells
END:VEVENT
BEGIN:VEVENT
DTSTART;TZID=America/Vancouver:20261025T160000
DTEND;TZID=America/Vancouver:20261025T180000
DTSTAMP:20260419T065434
CREATED:20251126T163004Z
LAST-MODIFIED:20251126T163006Z
UID:10003973-1792944000-1792951200@whatsupinwells.com
SUMMARY:Pickleball at the Hall
DESCRIPTION:8 pm and Sundays from 4-6 pm at the Community hall. No experience required\, all you need is a clean pair of shoes. The drop in fee is $3
URL:https://whatsupinwells.com/event/pickleball-at-the-hall-3-2/2026-10-25/
LOCATION:Wells Community Hall\, 4269 Sanders Ave\, Wells\, BC\, V0K2R0\, Canada
CATEGORIES:Outdoor Recreation,Wells
END:VEVENT
BEGIN:VEVENT
DTSTART;TZID=America/Vancouver:20261101T160000
DTEND;TZID=America/Vancouver:20261101T180000
DTSTAMP:20260419T065434
CREATED:20251126T163004Z
LAST-MODIFIED:20251126T163006Z
UID:10003974-1793548800-1793556000@whatsupinwells.com
SUMMARY:Pickleball at the Hall
DESCRIPTION:8 pm and Sundays from 4-6 pm at the Community hall. No experience required\, all you need is a clean pair of shoes. The drop in fee is $3
URL:https://whatsupinwells.com/event/pickleball-at-the-hall-3-2/2026-11-01/
LOCATION:Wells Community Hall\, 4269 Sanders Ave\, Wells\, BC\, V0K2R0\, Canada
CATEGORIES:Outdoor Recreation,Wells
END:VEVENT
BEGIN:VEVENT
DTSTART;TZID=America/Vancouver:20261108T160000
DTEND;TZID=America/Vancouver:20261108T180000
DTSTAMP:20260419T065434
CREATED:20251126T163004Z
LAST-MODIFIED:20251126T163006Z
UID:10003975-1794153600-1794160800@whatsupinwells.com
SUMMARY:Pickleball at the Hall
DESCRIPTION:8 pm and Sundays from 4-6 pm at the Community hall. No experience required\, all you need is a clean pair of shoes. The drop in fee is $3
URL:https://whatsupinwells.com/event/pickleball-at-the-hall-3-2/2026-11-08/
LOCATION:Wells Community Hall\, 4269 Sanders Ave\, Wells\, BC\, V0K2R0\, Canada
CATEGORIES:Outdoor Recreation,Wells
END:VEVENT
BEGIN:VEVENT
DTSTART;TZID=America/Vancouver:20261115T160000
DTEND;TZID=America/Vancouver:20261115T180000
DTSTAMP:20260419T065434
CREATED:20251126T163004Z
LAST-MODIFIED:20251126T163006Z
UID:10003976-1794758400-1794765600@whatsupinwells.com
SUMMARY:Pickleball at the Hall
DESCRIPTION:8 pm and Sundays from 4-6 pm at the Community hall. No experience required\, all you need is a clean pair of shoes. The drop in fee is $3
URL:https://whatsupinwells.com/event/pickleball-at-the-hall-3-2/2026-11-15/
LOCATION:Wells Community Hall\, 4269 Sanders Ave\, Wells\, BC\, V0K2R0\, Canada
CATEGORIES:Outdoor Recreation,Wells
END:VEVENT
BEGIN:VEVENT
DTSTART;TZID=America/Vancouver:20261122T160000
DTEND;TZID=America/Vancouver:20261122T180000
DTSTAMP:20260419T065434
CREATED:20251126T163004Z
LAST-MODIFIED:20251126T163006Z
UID:10003977-1795363200-1795370400@whatsupinwells.com
SUMMARY:Pickleball at the Hall
DESCRIPTION:8 pm and Sundays from 4-6 pm at the Community hall. No experience required\, all you need is a clean pair of shoes. The drop in fee is $3
URL:https://whatsupinwells.com/event/pickleball-at-the-hall-3-2/2026-11-22/
LOCATION:Wells Community Hall\, 4269 Sanders Ave\, Wells\, BC\, V0K2R0\, Canada
CATEGORIES:Outdoor Recreation,Wells
END:VEVENT
BEGIN:VEVENT
DTSTART;TZID=America/Vancouver:20261129T160000
DTEND;TZID=America/Vancouver:20261129T180000
DTSTAMP:20260419T065434
CREATED:20251126T163004Z
LAST-MODIFIED:20251126T163006Z
UID:10003978-1795968000-1795975200@whatsupinwells.com
SUMMARY:Pickleball at the Hall
DESCRIPTION:8 pm and Sundays from 4-6 pm at the Community hall. No experience required\, all you need is a clean pair of shoes. The drop in fee is $3
URL:https://whatsupinwells.com/event/pickleball-at-the-hall-3-2/2026-11-29/
LOCATION:Wells Community Hall\, 4269 Sanders Ave\, Wells\, BC\, V0K2R0\, Canada
CATEGORIES:Outdoor Recreation,Wells
END:VEVENT
BEGIN:VEVENT
DTSTART;TZID=America/Vancouver:20261206T160000
DTEND;TZID=America/Vancouver:20261206T180000
DTSTAMP:20260419T065434
CREATED:20251126T163004Z
LAST-MODIFIED:20251126T163006Z
UID:10003979-1796572800-1796580000@whatsupinwells.com
SUMMARY:Pickleball at the Hall
DESCRIPTION:8 pm and Sundays from 4-6 pm at the Community hall. No experience required\, all you need is a clean pair of shoes. The drop in fee is $3
URL:https://whatsupinwells.com/event/pickleball-at-the-hall-3-2/2026-12-06/
LOCATION:Wells Community Hall\, 4269 Sanders Ave\, Wells\, BC\, V0K2R0\, Canada
CATEGORIES:Outdoor Recreation,Wells
END:VEVENT
BEGIN:VEVENT
DTSTART;TZID=America/Vancouver:20261213T160000
DTEND;TZID=America/Vancouver:20261213T180000
DTSTAMP:20260419T065434
CREATED:20251126T163004Z
LAST-MODIFIED:20251126T163006Z
UID:10003980-1797177600-1797184800@whatsupinwells.com
SUMMARY:Pickleball at the Hall
DESCRIPTION:8 pm and Sundays from 4-6 pm at the Community hall. No experience required\, all you need is a clean pair of shoes. The drop in fee is $3
URL:https://whatsupinwells.com/event/pickleball-at-the-hall-3-2/2026-12-13/
LOCATION:Wells Community Hall\, 4269 Sanders Ave\, Wells\, BC\, V0K2R0\, Canada
CATEGORIES:Outdoor Recreation,Wells
END:VEVENT
BEGIN:VEVENT
DTSTART;TZID=America/Vancouver:20261220T160000
DTEND;TZID=America/Vancouver:20261220T180000
DTSTAMP:20260419T065434
CREATED:20251126T163004Z
LAST-MODIFIED:20251126T163006Z
UID:10003981-1797782400-1797789600@whatsupinwells.com
SUMMARY:Pickleball at the Hall
DESCRIPTION:8 pm and Sundays from 4-6 pm at the Community hall. No experience required\, all you need is a clean pair of shoes. The drop in fee is $3
URL:https://whatsupinwells.com/event/pickleball-at-the-hall-3-2/2026-12-20/
LOCATION:Wells Community Hall\, 4269 Sanders Ave\, Wells\, BC\, V0K2R0\, Canada
CATEGORIES:Outdoor Recreation,Wells
END:VEVENT
BEGIN:VEVENT
DTSTART;TZID=America/Vancouver:20261227T160000
DTEND;TZID=America/Vancouver:20261227T180000
DTSTAMP:20260419T065434
CREATED:20251126T163004Z
LAST-MODIFIED:20251126T163006Z
UID:10003982-1798387200-1798394400@whatsupinwells.com
SUMMARY:Pickleball at the Hall
DESCRIPTION:8 pm and Sundays from 4-6 pm at the Community hall. No experience required\, all you need is a clean pair of shoes. The drop in fee is $3
URL:https://whatsupinwells.com/event/pickleball-at-the-hall-3-2/2026-12-27/
LOCATION:Wells Community Hall\, 4269 Sanders Ave\, Wells\, BC\, V0K2R0\, Canada
CATEGORIES:Outdoor Recreation,Wells
END:VEVENT
BEGIN:VEVENT
DTSTART;TZID=America/Vancouver:20270103T160000
DTEND;TZID=America/Vancouver:20270103T180000
DTSTAMP:20260419T065434
CREATED:20251126T163004Z
LAST-MODIFIED:20251126T163006Z
UID:10003983-1798992000-1798999200@whatsupinwells.com
SUMMARY:Pickleball at the Hall
DESCRIPTION:8 pm and Sundays from 4-6 pm at the Community hall. No experience required\, all you need is a clean pair of shoes. The drop in fee is $3
URL:https://whatsupinwells.com/event/pickleball-at-the-hall-3-2/2027-01-03/
LOCATION:Wells Community Hall\, 4269 Sanders Ave\, Wells\, BC\, V0K2R0\, Canada
CATEGORIES:Outdoor Recreation,Wells
END:VEVENT
BEGIN:VEVENT
DTSTART;TZID=America/Vancouver:20270110T160000
DTEND;TZID=America/Vancouver:20270110T180000
DTSTAMP:20260419T065434
CREATED:20251126T163004Z
LAST-MODIFIED:20251126T163006Z
UID:10003984-1799596800-1799604000@whatsupinwells.com
SUMMARY:Pickleball at the Hall
DESCRIPTION:8 pm and Sundays from 4-6 pm at the Community hall. No experience required\, all you need is a clean pair of shoes. The drop in fee is $3
URL:https://whatsupinwells.com/event/pickleball-at-the-hall-3-2/2027-01-10/
LOCATION:Wells Community Hall\, 4269 Sanders Ave\, Wells\, BC\, V0K2R0\, Canada
CATEGORIES:Outdoor Recreation,Wells
END:VEVENT
BEGIN:VEVENT
DTSTART;TZID=America/Vancouver:20270117T160000
DTEND;TZID=America/Vancouver:20270117T180000
DTSTAMP:20260419T065434
CREATED:20251126T163004Z
LAST-MODIFIED:20251126T163006Z
UID:10003985-1800201600-1800208800@whatsupinwells.com
SUMMARY:Pickleball at the Hall
DESCRIPTION:8 pm and Sundays from 4-6 pm at the Community hall. No experience required\, all you need is a clean pair of shoes. The drop in fee is $3
URL:https://whatsupinwells.com/event/pickleball-at-the-hall-3-2/2027-01-17/
LOCATION:Wells Community Hall\, 4269 Sanders Ave\, Wells\, BC\, V0K2R0\, Canada
CATEGORIES:Outdoor Recreation,Wells
END:VEVENT
BEGIN:VEVENT
DTSTART;TZID=America/Vancouver:20270124T160000
DTEND;TZID=America/Vancouver:20270124T180000
DTSTAMP:20260419T065434
CREATED:20251126T163004Z
LAST-MODIFIED:20251126T163006Z
UID:10003986-1800806400-1800813600@whatsupinwells.com
SUMMARY:Pickleball at the Hall
DESCRIPTION:8 pm and Sundays from 4-6 pm at the Community hall. No experience required\, all you need is a clean pair of shoes. The drop in fee is $3
URL:https://whatsupinwells.com/event/pickleball-at-the-hall-3-2/2027-01-24/
LOCATION:Wells Community Hall\, 4269 Sanders Ave\, Wells\, BC\, V0K2R0\, Canada
CATEGORIES:Outdoor Recreation,Wells
END:VEVENT
BEGIN:VEVENT
DTSTART;TZID=America/Vancouver:20270131T160000
DTEND;TZID=America/Vancouver:20270131T180000
DTSTAMP:20260419T065434
CREATED:20251126T163004Z
LAST-MODIFIED:20251126T163006Z
UID:10003987-1801411200-1801418400@whatsupinwells.com
SUMMARY:Pickleball at the Hall
DESCRIPTION:8 pm and Sundays from 4-6 pm at the Community hall. No experience required\, all you need is a clean pair of shoes. The drop in fee is $3
URL:https://whatsupinwells.com/event/pickleball-at-the-hall-3-2/2027-01-31/
LOCATION:Wells Community Hall\, 4269 Sanders Ave\, Wells\, BC\, V0K2R0\, Canada
CATEGORIES:Outdoor Recreation,Wells
END:VEVENT
BEGIN:VEVENT
DTSTART;TZID=America/Vancouver:20270207T160000
DTEND;TZID=America/Vancouver:20270207T180000
DTSTAMP:20260419T065434
CREATED:20251126T163004Z
LAST-MODIFIED:20251126T163006Z
UID:10003988-1802016000-1802023200@whatsupinwells.com
SUMMARY:Pickleball at the Hall
DESCRIPTION:8 pm and Sundays from 4-6 pm at the Community hall. No experience required\, all you need is a clean pair of shoes. The drop in fee is $3
URL:https://whatsupinwells.com/event/pickleball-at-the-hall-3-2/2027-02-07/
LOCATION:Wells Community Hall\, 4269 Sanders Ave\, Wells\, BC\, V0K2R0\, Canada
CATEGORIES:Outdoor Recreation,Wells
END:VEVENT
BEGIN:VEVENT
DTSTART;TZID=America/Vancouver:20270214T160000
DTEND;TZID=America/Vancouver:20270214T180000
DTSTAMP:20260419T065434
CREATED:20251126T163004Z
LAST-MODIFIED:20251126T163006Z
UID:10003989-1802620800-1802628000@whatsupinwells.com
SUMMARY:Pickleball at the Hall
DESCRIPTION:8 pm and Sundays from 4-6 pm at the Community hall. No experience required\, all you need is a clean pair of shoes. The drop in fee is $3
URL:https://whatsupinwells.com/event/pickleball-at-the-hall-3-2/2027-02-14/
LOCATION:Wells Community Hall\, 4269 Sanders Ave\, Wells\, BC\, V0K2R0\, Canada
CATEGORIES:Outdoor Recreation,Wells
END:VEVENT
BEGIN:VEVENT
DTSTART;TZID=America/Vancouver:20270221T160000
DTEND;TZID=America/Vancouver:20270221T180000
DTSTAMP:20260419T065434
CREATED:20251126T163004Z
LAST-MODIFIED:20251126T163006Z
UID:10003990-1803225600-1803232800@whatsupinwells.com
SUMMARY:Pickleball at the Hall
DESCRIPTION:8 pm and Sundays from 4-6 pm at the Community hall. No experience required\, all you need is a clean pair of shoes. The drop in fee is $3
URL:https://whatsupinwells.com/event/pickleball-at-the-hall-3-2/2027-02-21/
LOCATION:Wells Community Hall\, 4269 Sanders Ave\, Wells\, BC\, V0K2R0\, Canada
CATEGORIES:Outdoor Recreation,Wells
END:VEVENT
BEGIN:VEVENT
DTSTART;TZID=America/Vancouver:20270228T160000
DTEND;TZID=America/Vancouver:20270228T180000
DTSTAMP:20260419T065434
CREATED:20251126T163004Z
LAST-MODIFIED:20251126T163006Z
UID:10003991-1803830400-1803837600@whatsupinwells.com
SUMMARY:Pickleball at the Hall
DESCRIPTION:8 pm and Sundays from 4-6 pm at the Community hall. No experience required\, all you need is a clean pair of shoes. The drop in fee is $3
URL:https://whatsupinwells.com/event/pickleball-at-the-hall-3-2/2027-02-28/
LOCATION:Wells Community Hall\, 4269 Sanders Ave\, Wells\, BC\, V0K2R0\, Canada
CATEGORIES:Outdoor Recreation,Wells
END:VEVENT
BEGIN:VEVENT
DTSTART;TZID=America/Vancouver:20270307T160000
DTEND;TZID=America/Vancouver:20270307T180000
DTSTAMP:20260419T065434
CREATED:20251126T163004Z
LAST-MODIFIED:20251126T163006Z
UID:10003992-1804435200-1804442400@whatsupinwells.com
SUMMARY:Pickleball at the Hall
DESCRIPTION:8 pm and Sundays from 4-6 pm at the Community hall. No experience required\, all you need is a clean pair of shoes. The drop in fee is $3
URL:https://whatsupinwells.com/event/pickleball-at-the-hall-3-2/2027-03-07/
LOCATION:Wells Community Hall\, 4269 Sanders Ave\, Wells\, BC\, V0K2R0\, Canada
CATEGORIES:Outdoor Recreation,Wells
END:VEVENT
BEGIN:VEVENT
DTSTART;TZID=America/Vancouver:20270314T160000
DTEND;TZID=America/Vancouver:20270314T180000
DTSTAMP:20260419T065434
CREATED:20251126T163004Z
LAST-MODIFIED:20251126T163006Z
UID:10003993-1805040000-1805047200@whatsupinwells.com
SUMMARY:Pickleball at the Hall
DESCRIPTION:8 pm and Sundays from 4-6 pm at the Community hall. No experience required\, all you need is a clean pair of shoes. The drop in fee is $3
URL:https://whatsupinwells.com/event/pickleball-at-the-hall-3-2/2027-03-14/
LOCATION:Wells Community Hall\, 4269 Sanders Ave\, Wells\, BC\, V0K2R0\, Canada
CATEGORIES:Outdoor Recreation,Wells
END:VEVENT
BEGIN:VEVENT
DTSTART;TZID=America/Vancouver:20270321T160000
DTEND;TZID=America/Vancouver:20270321T180000
DTSTAMP:20260419T065434
CREATED:20251126T163004Z
LAST-MODIFIED:20251126T163006Z
UID:10003994-1805644800-1805652000@whatsupinwells.com
SUMMARY:Pickleball at the Hall
DESCRIPTION:8 pm and Sundays from 4-6 pm at the Community hall. No experience required\, all you need is a clean pair of shoes. The drop in fee is $3
URL:https://whatsupinwells.com/event/pickleball-at-the-hall-3-2/2027-03-21/
LOCATION:Wells Community Hall\, 4269 Sanders Ave\, Wells\, BC\, V0K2R0\, Canada
CATEGORIES:Outdoor Recreation,Wells
END:VEVENT
BEGIN:VEVENT
DTSTART;TZID=America/Vancouver:20270328T160000
DTEND;TZID=America/Vancouver:20270328T180000
DTSTAMP:20260419T065434
CREATED:20251126T163004Z
LAST-MODIFIED:20251126T163006Z
UID:10003995-1806249600-1806256800@whatsupinwells.com
SUMMARY:Pickleball at the Hall
DESCRIPTION:8 pm and Sundays from 4-6 pm at the Community hall. No experience required\, all you need is a clean pair of shoes. The drop in fee is $3
URL:https://whatsupinwells.com/event/pickleball-at-the-hall-3-2/2027-03-28/
LOCATION:Wells Community Hall\, 4269 Sanders Ave\, Wells\, BC\, V0K2R0\, Canada
CATEGORIES:Outdoor Recreation,Wells
END:VEVENT
END:VCALENDAR