BEGIN:VCALENDAR
VERSION:2.0
PRODID:-//What&#039;s Up in Wells - ECPv6.15.20//NONSGML v1.0//EN
CALSCALE:GREGORIAN
METHOD:PUBLISH
X-ORIGINAL-URL:https://whatsupinwells.com
X-WR-CALDESC:Events for What&#039;s Up in Wells
REFRESH-INTERVAL;VALUE=DURATION:PT1H
X-Robots-Tag:noindex
X-PUBLISHED-TTL:PT1H
BEGIN:VTIMEZONE
TZID:America/Vancouver
BEGIN:DAYLIGHT
TZOFFSETFROM:-0800
TZOFFSETTO:-0700
TZNAME:PDT
DTSTART:20250309T100000
END:DAYLIGHT
BEGIN:STANDARD
TZOFFSETFROM:-0700
TZOFFSETTO:-0800
TZNAME:PST
DTSTART:20251102T090000
END:STANDARD
BEGIN:DAYLIGHT
TZOFFSETFROM:-0800
TZOFFSETTO:-0700
TZNAME:PDT
DTSTART:20260308T100000
END:DAYLIGHT
BEGIN:STANDARD
TZOFFSETFROM:-0700
TZOFFSETTO:-0800
TZNAME:PST
DTSTART:20261101T090000
END:STANDARD
BEGIN:DAYLIGHT
TZOFFSETFROM:-0800
TZOFFSETTO:-0700
TZNAME:PDT
DTSTART:20270314T100000
END:DAYLIGHT
BEGIN:STANDARD
TZOFFSETFROM:-0700
TZOFFSETTO:-0800
TZNAME:PST
DTSTART:20271107T090000
END:STANDARD
END:VTIMEZONE
BEGIN:VEVENT
DTSTART;TZID=America/Vancouver:20260719T160000
DTEND;TZID=America/Vancouver:20260719T180000
DTSTAMP:20260425T041620
CREATED:20251126T163004Z
LAST-MODIFIED:20251126T163006Z
UID:10003959-1784476800-1784484000@whatsupinwells.com
SUMMARY:Pickleball at the Hall
DESCRIPTION:8 pm and Sundays from 4-6 pm at the Community hall. No experience required\, all you need is a clean pair of shoes. The drop in fee is $3
URL:https://whatsupinwells.com/event/pickleball-at-the-hall-3-2/2026-07-19/
LOCATION:Wells Community Hall\, 4269 Sanders Ave\, Wells\, BC\, V0K2R0\, Canada
CATEGORIES:Outdoor Recreation,Wells
END:VEVENT
BEGIN:VEVENT
DTSTART;TZID=America/Vancouver:20260725T210000
DTEND;TZID=America/Vancouver:20260725T233000
DTSTAMP:20260425T041620
CREATED:20251126T162905Z
LAST-MODIFIED:20251126T162911Z
UID:10003052-1785013200-1785022200@whatsupinwells.com
SUMMARY:Karaoke Night
DESCRIPTION:Every Saturday from 9 pm to late
URL:https://whatsupinwells.com/event/karaoke-night-4-2/2026-07-25/
LOCATION:Jack O’ Club Restaurant & Pub\, 12383 Hwy 27 E.\, Wells\, BC\, V0K2R0\, Canada
CATEGORIES:19+,Music,Wells
END:VEVENT
BEGIN:VEVENT
DTSTART;VALUE=DATE:20260726
DTEND;VALUE=DATE:20260801
DTSTAMP:20260425T041620
CREATED:20260424T183132Z
LAST-MODIFIED:20260424T183132Z
UID:10004142-1785038400-1785470399@whatsupinwells.com
SUMMARY:Jam Camp in the Mountains
DESCRIPTION:Sign up today to bring your family and friends to Jam Camp in the Mountains in beautiful Wells. Create music with us in the alpine meadows of our small community! Stay in your tent or RV\, or choose from many lodging options in Wells and Barkerville. \nCamp activities will be in the Wells School and outside during good weather. You can join us no matter your age or musical ability – beginner and experienced musicians are all welcome. There will be many workshop and lesson choices for you to enjoy. \nThis year\, Jam Camp in the Mountains is partnering with Island Mountain Arts\, an organization with almost 50 years of history. They are leaders in the arts community in BC who host the ArtsWells Festival\, arts workshops\, artist residencies\, and a public gallery\, and partner with organizations like the Jam Camp Society. Learn more about Island Mountain Arts here. \nJam Camp in the Mountains is \n1 hour from Quesnel\, \n2 hours from Prince George\, and \n10 minutes from Barkerville Historic Site. \nDates\nJam Camp will begin on Sunday\, July 26. Campers are invited to arrive in Wells late morning or early afternoon and be set up by 5 pm. Our first official camp activity is the Welcome Potluck that evening. \nOur final performance takes place on the evening of Thursday\, July 30\, and Jam Camp ends on Friday\, July 31. Friday is a free day for packing up camp\, saying goodbyes\, and taking your last stroll in the area before you go. \nThe full schedule of the week’s events will be sent out closer to the date\, and will be similarly structured to those of past camps. Morning activities will start around 9am. Activities include full group workshops\, small group lessons\, and songwriting/musical project groups. Days include a lunch & leisure break\, a dinner & leisure break\, and evening activities wrapping up around 9pm. \nRegistration Fees\nAll folks participating in Jam Camp aged 4 and up will pay a sliding scale registration fee of $200 to $500 CAD per person. \nJam Camp fees cover 4.5 days of workshops\, activities\, and instruction. \nFees do not cover food or accommodation. Groups must make their own arrangements for accommodation (see Accommodation section below) and are responsible for their own meals. Campers can make their own food or visit local restaurants. \nThe sliding scale allows campers to choose the payment that suits their family or group best. If you are able to pay more than the base fee per person\, that will help keep camp affordable for everyone. \nNotes: \nE-transfer is the simplest way to pay for your registration. \nIf you pay via PayPal\, PayPal will charge a fee of approximately 3% of your total registration & camping fees. \nYou may also choose to help subsidize registration for a low-income attendee\, or to support the non-profit Jam Camp Society.
URL:https://whatsupinwells.com/event/jam-camp-in-the-mountains/
LOCATION:Island Mountain Arts Studios\, Mildred Ave\, Wells\, V0K 2R0
CATEGORIES:Arts,Education,Music,Wells
ATTACH;FMTTYPE=image/jpeg:https://whatsupinwells.com/wp-content/uploads/2026/04/652549105_1370381335125761_4312183584583961969_n.jpg
END:VEVENT
BEGIN:VEVENT
DTSTART;TZID=America/Vancouver:20260726T160000
DTEND;TZID=America/Vancouver:20260726T180000
DTSTAMP:20260425T041620
CREATED:20251126T163004Z
LAST-MODIFIED:20251126T163006Z
UID:10003960-1785081600-1785088800@whatsupinwells.com
SUMMARY:Pickleball at the Hall
DESCRIPTION:8 pm and Sundays from 4-6 pm at the Community hall. No experience required\, all you need is a clean pair of shoes. The drop in fee is $3
URL:https://whatsupinwells.com/event/pickleball-at-the-hall-3-2/2026-07-26/
LOCATION:Wells Community Hall\, 4269 Sanders Ave\, Wells\, BC\, V0K2R0\, Canada
CATEGORIES:Outdoor Recreation,Wells
END:VEVENT
BEGIN:VEVENT
DTSTART;TZID=America/Vancouver:20260801T210000
DTEND;TZID=America/Vancouver:20260801T233000
DTSTAMP:20260425T041620
CREATED:20251126T162905Z
LAST-MODIFIED:20251126T162911Z
UID:10003053-1785618000-1785627000@whatsupinwells.com
SUMMARY:Karaoke Night
DESCRIPTION:Every Saturday from 9 pm to late
URL:https://whatsupinwells.com/event/karaoke-night-4-2/2026-08-01/
LOCATION:Jack O’ Club Restaurant & Pub\, 12383 Hwy 27 E.\, Wells\, BC\, V0K2R0\, Canada
CATEGORIES:19+,Music,Wells
END:VEVENT
BEGIN:VEVENT
DTSTART;TZID=America/Vancouver:20260802T160000
DTEND;TZID=America/Vancouver:20260802T180000
DTSTAMP:20260425T041620
CREATED:20251126T163004Z
LAST-MODIFIED:20251126T163006Z
UID:10003961-1785686400-1785693600@whatsupinwells.com
SUMMARY:Pickleball at the Hall
DESCRIPTION:8 pm and Sundays from 4-6 pm at the Community hall. No experience required\, all you need is a clean pair of shoes. The drop in fee is $3
URL:https://whatsupinwells.com/event/pickleball-at-the-hall-3-2/2026-08-02/
LOCATION:Wells Community Hall\, 4269 Sanders Ave\, Wells\, BC\, V0K2R0\, Canada
CATEGORIES:Outdoor Recreation,Wells
END:VEVENT
BEGIN:VEVENT
DTSTART;TZID=America/Vancouver:20260808T210000
DTEND;TZID=America/Vancouver:20260808T233000
DTSTAMP:20260425T041620
CREATED:20251126T162905Z
LAST-MODIFIED:20251126T162911Z
UID:10003054-1786222800-1786231800@whatsupinwells.com
SUMMARY:Karaoke Night
DESCRIPTION:Every Saturday from 9 pm to late
URL:https://whatsupinwells.com/event/karaoke-night-4-2/2026-08-08/
LOCATION:Jack O’ Club Restaurant & Pub\, 12383 Hwy 27 E.\, Wells\, BC\, V0K2R0\, Canada
CATEGORIES:19+,Music,Wells
END:VEVENT
BEGIN:VEVENT
DTSTART;TZID=America/Vancouver:20260809T160000
DTEND;TZID=America/Vancouver:20260809T180000
DTSTAMP:20260425T041620
CREATED:20251126T163004Z
LAST-MODIFIED:20251126T163006Z
UID:10003962-1786291200-1786298400@whatsupinwells.com
SUMMARY:Pickleball at the Hall
DESCRIPTION:8 pm and Sundays from 4-6 pm at the Community hall. No experience required\, all you need is a clean pair of shoes. The drop in fee is $3
URL:https://whatsupinwells.com/event/pickleball-at-the-hall-3-2/2026-08-09/
LOCATION:Wells Community Hall\, 4269 Sanders Ave\, Wells\, BC\, V0K2R0\, Canada
CATEGORIES:Outdoor Recreation,Wells
END:VEVENT
BEGIN:VEVENT
DTSTART;TZID=America/Vancouver:20260815T210000
DTEND;TZID=America/Vancouver:20260815T233000
DTSTAMP:20260425T041620
CREATED:20251126T162905Z
LAST-MODIFIED:20251126T162911Z
UID:10003055-1786827600-1786836600@whatsupinwells.com
SUMMARY:Karaoke Night
DESCRIPTION:Every Saturday from 9 pm to late
URL:https://whatsupinwells.com/event/karaoke-night-4-2/2026-08-15/
LOCATION:Jack O’ Club Restaurant & Pub\, 12383 Hwy 27 E.\, Wells\, BC\, V0K2R0\, Canada
CATEGORIES:19+,Music,Wells
END:VEVENT
BEGIN:VEVENT
DTSTART;TZID=America/Vancouver:20260816T160000
DTEND;TZID=America/Vancouver:20260816T180000
DTSTAMP:20260425T041620
CREATED:20251126T163004Z
LAST-MODIFIED:20251126T163006Z
UID:10003963-1786896000-1786903200@whatsupinwells.com
SUMMARY:Pickleball at the Hall
DESCRIPTION:8 pm and Sundays from 4-6 pm at the Community hall. No experience required\, all you need is a clean pair of shoes. The drop in fee is $3
URL:https://whatsupinwells.com/event/pickleball-at-the-hall-3-2/2026-08-16/
LOCATION:Wells Community Hall\, 4269 Sanders Ave\, Wells\, BC\, V0K2R0\, Canada
CATEGORIES:Outdoor Recreation,Wells
END:VEVENT
BEGIN:VEVENT
DTSTART;TZID=America/Vancouver:20260822T210000
DTEND;TZID=America/Vancouver:20260822T233000
DTSTAMP:20260425T041620
CREATED:20251126T162905Z
LAST-MODIFIED:20251126T162911Z
UID:10003056-1787432400-1787441400@whatsupinwells.com
SUMMARY:Karaoke Night
DESCRIPTION:Every Saturday from 9 pm to late
URL:https://whatsupinwells.com/event/karaoke-night-4-2/2026-08-22/
LOCATION:Jack O’ Club Restaurant & Pub\, 12383 Hwy 27 E.\, Wells\, BC\, V0K2R0\, Canada
CATEGORIES:19+,Music,Wells
END:VEVENT
BEGIN:VEVENT
DTSTART;TZID=America/Vancouver:20260823T160000
DTEND;TZID=America/Vancouver:20260823T180000
DTSTAMP:20260425T041620
CREATED:20251126T163004Z
LAST-MODIFIED:20251126T163006Z
UID:10003964-1787500800-1787508000@whatsupinwells.com
SUMMARY:Pickleball at the Hall
DESCRIPTION:8 pm and Sundays from 4-6 pm at the Community hall. No experience required\, all you need is a clean pair of shoes. The drop in fee is $3
URL:https://whatsupinwells.com/event/pickleball-at-the-hall-3-2/2026-08-23/
LOCATION:Wells Community Hall\, 4269 Sanders Ave\, Wells\, BC\, V0K2R0\, Canada
CATEGORIES:Outdoor Recreation,Wells
END:VEVENT
BEGIN:VEVENT
DTSTART;TZID=America/Vancouver:20260829T210000
DTEND;TZID=America/Vancouver:20260829T233000
DTSTAMP:20260425T041620
CREATED:20251126T162905Z
LAST-MODIFIED:20251126T162911Z
UID:10003057-1788037200-1788046200@whatsupinwells.com
SUMMARY:Karaoke Night
DESCRIPTION:Every Saturday from 9 pm to late
URL:https://whatsupinwells.com/event/karaoke-night-4-2/2026-08-29/
LOCATION:Jack O’ Club Restaurant & Pub\, 12383 Hwy 27 E.\, Wells\, BC\, V0K2R0\, Canada
CATEGORIES:19+,Music,Wells
END:VEVENT
BEGIN:VEVENT
DTSTART;TZID=America/Vancouver:20260830T160000
DTEND;TZID=America/Vancouver:20260830T180000
DTSTAMP:20260425T041620
CREATED:20251126T163004Z
LAST-MODIFIED:20251126T163006Z
UID:10003965-1788105600-1788112800@whatsupinwells.com
SUMMARY:Pickleball at the Hall
DESCRIPTION:8 pm and Sundays from 4-6 pm at the Community hall. No experience required\, all you need is a clean pair of shoes. The drop in fee is $3
URL:https://whatsupinwells.com/event/pickleball-at-the-hall-3-2/2026-08-30/
LOCATION:Wells Community Hall\, 4269 Sanders Ave\, Wells\, BC\, V0K2R0\, Canada
CATEGORIES:Outdoor Recreation,Wells
END:VEVENT
BEGIN:VEVENT
DTSTART;TZID=America/Vancouver:20260905T210000
DTEND;TZID=America/Vancouver:20260905T233000
DTSTAMP:20260425T041620
CREATED:20251126T162905Z
LAST-MODIFIED:20251126T162911Z
UID:10003058-1788642000-1788651000@whatsupinwells.com
SUMMARY:Karaoke Night
DESCRIPTION:Every Saturday from 9 pm to late
URL:https://whatsupinwells.com/event/karaoke-night-4-2/2026-09-05/
LOCATION:Jack O’ Club Restaurant & Pub\, 12383 Hwy 27 E.\, Wells\, BC\, V0K2R0\, Canada
CATEGORIES:19+,Music,Wells
END:VEVENT
BEGIN:VEVENT
DTSTART;TZID=America/Vancouver:20260906T160000
DTEND;TZID=America/Vancouver:20260906T180000
DTSTAMP:20260425T041620
CREATED:20251126T163004Z
LAST-MODIFIED:20251126T163006Z
UID:10003966-1788710400-1788717600@whatsupinwells.com
SUMMARY:Pickleball at the Hall
DESCRIPTION:8 pm and Sundays from 4-6 pm at the Community hall. No experience required\, all you need is a clean pair of shoes. The drop in fee is $3
URL:https://whatsupinwells.com/event/pickleball-at-the-hall-3-2/2026-09-06/
LOCATION:Wells Community Hall\, 4269 Sanders Ave\, Wells\, BC\, V0K2R0\, Canada
CATEGORIES:Outdoor Recreation,Wells
END:VEVENT
BEGIN:VEVENT
DTSTART;TZID=America/Vancouver:20260912T210000
DTEND;TZID=America/Vancouver:20260912T233000
DTSTAMP:20260425T041620
CREATED:20251126T162905Z
LAST-MODIFIED:20251126T162911Z
UID:10003059-1789246800-1789255800@whatsupinwells.com
SUMMARY:Karaoke Night
DESCRIPTION:Every Saturday from 9 pm to late
URL:https://whatsupinwells.com/event/karaoke-night-4-2/2026-09-12/
LOCATION:Jack O’ Club Restaurant & Pub\, 12383 Hwy 27 E.\, Wells\, BC\, V0K2R0\, Canada
CATEGORIES:19+,Music,Wells
END:VEVENT
BEGIN:VEVENT
DTSTART;TZID=America/Vancouver:20260913T160000
DTEND;TZID=America/Vancouver:20260913T180000
DTSTAMP:20260425T041620
CREATED:20251126T163004Z
LAST-MODIFIED:20251126T163006Z
UID:10003967-1789315200-1789322400@whatsupinwells.com
SUMMARY:Pickleball at the Hall
DESCRIPTION:8 pm and Sundays from 4-6 pm at the Community hall. No experience required\, all you need is a clean pair of shoes. The drop in fee is $3
URL:https://whatsupinwells.com/event/pickleball-at-the-hall-3-2/2026-09-13/
LOCATION:Wells Community Hall\, 4269 Sanders Ave\, Wells\, BC\, V0K2R0\, Canada
CATEGORIES:Outdoor Recreation,Wells
END:VEVENT
BEGIN:VEVENT
DTSTART;TZID=America/Vancouver:20260919T210000
DTEND;TZID=America/Vancouver:20260919T233000
DTSTAMP:20260425T041620
CREATED:20251126T162905Z
LAST-MODIFIED:20251126T162911Z
UID:10003060-1789851600-1789860600@whatsupinwells.com
SUMMARY:Karaoke Night
DESCRIPTION:Every Saturday from 9 pm to late
URL:https://whatsupinwells.com/event/karaoke-night-4-2/2026-09-19/
LOCATION:Jack O’ Club Restaurant & Pub\, 12383 Hwy 27 E.\, Wells\, BC\, V0K2R0\, Canada
CATEGORIES:19+,Music,Wells
END:VEVENT
BEGIN:VEVENT
DTSTART;TZID=America/Vancouver:20260920T160000
DTEND;TZID=America/Vancouver:20260920T180000
DTSTAMP:20260425T041620
CREATED:20251126T163004Z
LAST-MODIFIED:20251126T163006Z
UID:10003968-1789920000-1789927200@whatsupinwells.com
SUMMARY:Pickleball at the Hall
DESCRIPTION:8 pm and Sundays from 4-6 pm at the Community hall. No experience required\, all you need is a clean pair of shoes. The drop in fee is $3
URL:https://whatsupinwells.com/event/pickleball-at-the-hall-3-2/2026-09-20/
LOCATION:Wells Community Hall\, 4269 Sanders Ave\, Wells\, BC\, V0K2R0\, Canada
CATEGORIES:Outdoor Recreation,Wells
END:VEVENT
BEGIN:VEVENT
DTSTART;TZID=America/Vancouver:20260926T210000
DTEND;TZID=America/Vancouver:20260926T233000
DTSTAMP:20260425T041620
CREATED:20251126T162905Z
LAST-MODIFIED:20251126T162911Z
UID:10003061-1790456400-1790465400@whatsupinwells.com
SUMMARY:Karaoke Night
DESCRIPTION:Every Saturday from 9 pm to late
URL:https://whatsupinwells.com/event/karaoke-night-4-2/2026-09-26/
LOCATION:Jack O’ Club Restaurant & Pub\, 12383 Hwy 27 E.\, Wells\, BC\, V0K2R0\, Canada
CATEGORIES:19+,Music,Wells
END:VEVENT
BEGIN:VEVENT
DTSTART;TZID=America/Vancouver:20260927T160000
DTEND;TZID=America/Vancouver:20260927T180000
DTSTAMP:20260425T041620
CREATED:20251126T163004Z
LAST-MODIFIED:20251126T163006Z
UID:10003969-1790524800-1790532000@whatsupinwells.com
SUMMARY:Pickleball at the Hall
DESCRIPTION:8 pm and Sundays from 4-6 pm at the Community hall. No experience required\, all you need is a clean pair of shoes. The drop in fee is $3
URL:https://whatsupinwells.com/event/pickleball-at-the-hall-3-2/2026-09-27/
LOCATION:Wells Community Hall\, 4269 Sanders Ave\, Wells\, BC\, V0K2R0\, Canada
CATEGORIES:Outdoor Recreation,Wells
END:VEVENT
BEGIN:VEVENT
DTSTART;TZID=America/Vancouver:20261003T210000
DTEND;TZID=America/Vancouver:20261003T233000
DTSTAMP:20260425T041620
CREATED:20251126T162905Z
LAST-MODIFIED:20251126T162911Z
UID:10003062-1791061200-1791070200@whatsupinwells.com
SUMMARY:Karaoke Night
DESCRIPTION:Every Saturday from 9 pm to late
URL:https://whatsupinwells.com/event/karaoke-night-4-2/2026-10-03/
LOCATION:Jack O’ Club Restaurant & Pub\, 12383 Hwy 27 E.\, Wells\, BC\, V0K2R0\, Canada
CATEGORIES:19+,Music,Wells
END:VEVENT
BEGIN:VEVENT
DTSTART;TZID=America/Vancouver:20261004T160000
DTEND;TZID=America/Vancouver:20261004T180000
DTSTAMP:20260425T041620
CREATED:20251126T163004Z
LAST-MODIFIED:20251126T163006Z
UID:10003970-1791129600-1791136800@whatsupinwells.com
SUMMARY:Pickleball at the Hall
DESCRIPTION:8 pm and Sundays from 4-6 pm at the Community hall. No experience required\, all you need is a clean pair of shoes. The drop in fee is $3
URL:https://whatsupinwells.com/event/pickleball-at-the-hall-3-2/2026-10-04/
LOCATION:Wells Community Hall\, 4269 Sanders Ave\, Wells\, BC\, V0K2R0\, Canada
CATEGORIES:Outdoor Recreation,Wells
END:VEVENT
BEGIN:VEVENT
DTSTART;TZID=America/Vancouver:20261010T210000
DTEND;TZID=America/Vancouver:20261010T233000
DTSTAMP:20260425T041620
CREATED:20251126T162905Z
LAST-MODIFIED:20251126T162911Z
UID:10003063-1791666000-1791675000@whatsupinwells.com
SUMMARY:Karaoke Night
DESCRIPTION:Every Saturday from 9 pm to late
URL:https://whatsupinwells.com/event/karaoke-night-4-2/2026-10-10/
LOCATION:Jack O’ Club Restaurant & Pub\, 12383 Hwy 27 E.\, Wells\, BC\, V0K2R0\, Canada
CATEGORIES:19+,Music,Wells
END:VEVENT
BEGIN:VEVENT
DTSTART;TZID=America/Vancouver:20261011T160000
DTEND;TZID=America/Vancouver:20261011T180000
DTSTAMP:20260425T041620
CREATED:20251126T163004Z
LAST-MODIFIED:20251126T163006Z
UID:10003971-1791734400-1791741600@whatsupinwells.com
SUMMARY:Pickleball at the Hall
DESCRIPTION:8 pm and Sundays from 4-6 pm at the Community hall. No experience required\, all you need is a clean pair of shoes. The drop in fee is $3
URL:https://whatsupinwells.com/event/pickleball-at-the-hall-3-2/2026-10-11/
LOCATION:Wells Community Hall\, 4269 Sanders Ave\, Wells\, BC\, V0K2R0\, Canada
CATEGORIES:Outdoor Recreation,Wells
END:VEVENT
BEGIN:VEVENT
DTSTART;TZID=America/Vancouver:20261017T210000
DTEND;TZID=America/Vancouver:20261017T233000
DTSTAMP:20260425T041620
CREATED:20251126T162905Z
LAST-MODIFIED:20251126T162911Z
UID:10003064-1792270800-1792279800@whatsupinwells.com
SUMMARY:Karaoke Night
DESCRIPTION:Every Saturday from 9 pm to late
URL:https://whatsupinwells.com/event/karaoke-night-4-2/2026-10-17/
LOCATION:Jack O’ Club Restaurant & Pub\, 12383 Hwy 27 E.\, Wells\, BC\, V0K2R0\, Canada
CATEGORIES:19+,Music,Wells
END:VEVENT
BEGIN:VEVENT
DTSTART;TZID=America/Vancouver:20261018T160000
DTEND;TZID=America/Vancouver:20261018T180000
DTSTAMP:20260425T041620
CREATED:20251126T163004Z
LAST-MODIFIED:20251126T163006Z
UID:10003972-1792339200-1792346400@whatsupinwells.com
SUMMARY:Pickleball at the Hall
DESCRIPTION:8 pm and Sundays from 4-6 pm at the Community hall. No experience required\, all you need is a clean pair of shoes. The drop in fee is $3
URL:https://whatsupinwells.com/event/pickleball-at-the-hall-3-2/2026-10-18/
LOCATION:Wells Community Hall\, 4269 Sanders Ave\, Wells\, BC\, V0K2R0\, Canada
CATEGORIES:Outdoor Recreation,Wells
END:VEVENT
BEGIN:VEVENT
DTSTART;TZID=America/Vancouver:20261024T210000
DTEND;TZID=America/Vancouver:20261024T233000
DTSTAMP:20260425T041621
CREATED:20251126T162905Z
LAST-MODIFIED:20251126T162911Z
UID:10003065-1792875600-1792884600@whatsupinwells.com
SUMMARY:Karaoke Night
DESCRIPTION:Every Saturday from 9 pm to late
URL:https://whatsupinwells.com/event/karaoke-night-4-2/2026-10-24/
LOCATION:Jack O’ Club Restaurant & Pub\, 12383 Hwy 27 E.\, Wells\, BC\, V0K2R0\, Canada
CATEGORIES:19+,Music,Wells
END:VEVENT
BEGIN:VEVENT
DTSTART;TZID=America/Vancouver:20261025T160000
DTEND;TZID=America/Vancouver:20261025T180000
DTSTAMP:20260425T041621
CREATED:20251126T163004Z
LAST-MODIFIED:20251126T163006Z
UID:10003973-1792944000-1792951200@whatsupinwells.com
SUMMARY:Pickleball at the Hall
DESCRIPTION:8 pm and Sundays from 4-6 pm at the Community hall. No experience required\, all you need is a clean pair of shoes. The drop in fee is $3
URL:https://whatsupinwells.com/event/pickleball-at-the-hall-3-2/2026-10-25/
LOCATION:Wells Community Hall\, 4269 Sanders Ave\, Wells\, BC\, V0K2R0\, Canada
CATEGORIES:Outdoor Recreation,Wells
END:VEVENT
END:VCALENDAR