BEGIN:VCALENDAR
VERSION:2.0
PRODID:-//What&#039;s Up in Wells - ECPv6.15.20//NONSGML v1.0//EN
CALSCALE:GREGORIAN
METHOD:PUBLISH
X-ORIGINAL-URL:https://whatsupinwells.com
X-WR-CALDESC:Events for What&#039;s Up in Wells
REFRESH-INTERVAL;VALUE=DURATION:PT1H
X-Robots-Tag:noindex
X-PUBLISHED-TTL:PT1H
BEGIN:VTIMEZONE
TZID:America/Vancouver
BEGIN:DAYLIGHT
TZOFFSETFROM:-0800
TZOFFSETTO:-0700
TZNAME:PDT
DTSTART:20250309T100000
END:DAYLIGHT
BEGIN:STANDARD
TZOFFSETFROM:-0700
TZOFFSETTO:-0800
TZNAME:PST
DTSTART:20251102T090000
END:STANDARD
BEGIN:DAYLIGHT
TZOFFSETFROM:-0800
TZOFFSETTO:-0700
TZNAME:PDT
DTSTART:20260308T100000
END:DAYLIGHT
BEGIN:STANDARD
TZOFFSETFROM:-0700
TZOFFSETTO:-0800
TZNAME:PST
DTSTART:20261101T090000
END:STANDARD
BEGIN:DAYLIGHT
TZOFFSETFROM:-0800
TZOFFSETTO:-0700
TZNAME:PDT
DTSTART:20270314T100000
END:DAYLIGHT
BEGIN:STANDARD
TZOFFSETFROM:-0700
TZOFFSETTO:-0800
TZNAME:PST
DTSTART:20271107T090000
END:STANDARD
END:VTIMEZONE
BEGIN:VEVENT
DTSTART;VALUE=DATE:20260327
DTEND;VALUE=DATE:20260331
DTSTAMP:20260424T122627
CREATED:20260124T024851Z
LAST-MODIFIED:20260124T024851Z
UID:10004130-1774584000-1774843199@whatsupinwells.com
SUMMARY:Cariboo Women's Weekend
DESCRIPTION:Leave your responsibilities at home and join us for a weekend of discovery\, connection\, and relaxation in the beautiful mountain town of Wells\, BC. This Spring getaway weekend offers great food\, good company\, and a full weekend lineup of amazing activities for women – Cariboo style! \nFrom our home base at the historic Wells Hotel\, enjoy beautifully curated meals and a host of different activities for fun\, friendship\, and renewal of the body and spirit. During the day\, ticket holders can choose to attend yoga sessions\, art tours\, wellness workshops\, nature walks\, sauna sessions\, dips in the hot tub\, bonfires\, and more. In the evenings\, we’ll gather together in other beautiful historic Wells performance venues for movies\, live music\, cocktails\, and more.\nBoth weekend and day passes are available. Book by December 1st\, 2025 to access early bird pricing. \nFull weekend with private accommodation\n* Early bird: $505\n* After December 1: $535 \nFull weekend with shared accommodation (2-3 people per room)\n* Early bird: $465\n* After December 1: $495 \nNo accommodation:\n* Early bird: $305\n* After December 1: $325 \nTickets include meals and all activities and amenities offered as part of the Cariboo Women’s Weekend. Full weekend ticket holders will also receive a commemorative t-shirt and an optional free Sunday-night extension of their accommodations. \nThe Food\nWe’re excited to put together a beautiful menu that is healthy\, fresh\, fun\, and delicious. All meals will include vegan\, vegetarian\, and gluten free choices\, and accommodations for all registered dietary restrictions. \nThe Activities\nActivities are scheduled to take place throughout the event. A sign up board will be located in the lobby of the Wells Hotel where you can reserve you spot in your preferred activities. You can choose as many or as few activities as your like – this is your weekend to unwind! Several of the activities will have repeating sessions\, so there will be plenty of opportunity for participation. \nCancellation Policy:\n* Tickets are fully refundable minus payment transaction fees up until February 28\, 2026.\n* Cancellations March 1-13\, 2026 would be eligible for a 50% refund\n* Cancellations after March 13\, 2026 would not be eligible for a refund.\n* Organizers have the ability to waive cancellation fees if they are ability to re-sell cancelled tickets to a wait list. \nMinors policy: Minors 14 years or older can attend with an adult guardian. Please note that our licensing in the hotel only allows minors in the Pub and Dining Room up until the end of meal service (around 8 pm). After dinner\, minors will have to enjoy other spaces in the retreat venues. \nCapacity: We are offering 30 full weekend tickets with accommodation\, plus another 15 tickets without accommodation. Accommodations include the Wells Hotel and the Nest by IMA.
URL:https://whatsupinwells.com/event/cariboo-womens-weekend-2/
LOCATION:The Wells Hotel\, 2341 Pooley St.\, Wells\, BC\, V0k2R0\, Canada
CATEGORIES:Arts,Education,Food,Music,Outdoor Recreation,Theatre,Wells
ATTACH;FMTTYPE=image/jpeg:https://whatsupinwells.com/wp-content/uploads/2026/01/558780901_1427032662757870_3723148470290435711_n.jpg
END:VEVENT
BEGIN:VEVENT
DTSTART;TZID=America/Vancouver:20260328T210000
DTEND;TZID=America/Vancouver:20260328T233000
DTSTAMP:20260424T122627
CREATED:20251126T162905Z
LAST-MODIFIED:20251126T162911Z
UID:10003035-1774731600-1774740600@whatsupinwells.com
SUMMARY:Karaoke Night
DESCRIPTION:Every Saturday from 9 pm to late
URL:https://whatsupinwells.com/event/karaoke-night-4-2/2026-03-28/
LOCATION:Jack O’ Club Restaurant & Pub\, 12383 Hwy 27 E.\, Wells\, BC\, V0K2R0\, Canada
CATEGORIES:19+,Music,Wells
END:VEVENT
BEGIN:VEVENT
DTSTART;TZID=America/Vancouver:20260329T160000
DTEND;TZID=America/Vancouver:20260329T180000
DTSTAMP:20260424T122627
CREATED:20251126T163004Z
LAST-MODIFIED:20251126T163006Z
UID:10003943-1774800000-1774807200@whatsupinwells.com
SUMMARY:Pickleball at the Hall
DESCRIPTION:8 pm and Sundays from 4-6 pm at the Community hall. No experience required\, all you need is a clean pair of shoes. The drop in fee is $3
URL:https://whatsupinwells.com/event/pickleball-at-the-hall-3-2/2026-03-29/
LOCATION:Wells Community Hall\, 4269 Sanders Ave\, Wells\, BC\, V0K2R0\, Canada
CATEGORIES:Outdoor Recreation,Wells
END:VEVENT
BEGIN:VEVENT
DTSTART;TZID=America/Vancouver:20260404T210000
DTEND;TZID=America/Vancouver:20260404T233000
DTSTAMP:20260424T122627
CREATED:20251126T162905Z
LAST-MODIFIED:20251126T162911Z
UID:10003036-1775336400-1775345400@whatsupinwells.com
SUMMARY:Karaoke Night
DESCRIPTION:Every Saturday from 9 pm to late
URL:https://whatsupinwells.com/event/karaoke-night-4-2/2026-04-04/
LOCATION:Jack O’ Club Restaurant & Pub\, 12383 Hwy 27 E.\, Wells\, BC\, V0K2R0\, Canada
CATEGORIES:19+,Music,Wells
END:VEVENT
BEGIN:VEVENT
DTSTART;TZID=America/Vancouver:20260405T160000
DTEND;TZID=America/Vancouver:20260405T180000
DTSTAMP:20260424T122627
CREATED:20251126T163004Z
LAST-MODIFIED:20251126T163006Z
UID:10003944-1775404800-1775412000@whatsupinwells.com
SUMMARY:Pickleball at the Hall
DESCRIPTION:8 pm and Sundays from 4-6 pm at the Community hall. No experience required\, all you need is a clean pair of shoes. The drop in fee is $3
URL:https://whatsupinwells.com/event/pickleball-at-the-hall-3-2/2026-04-05/
LOCATION:Wells Community Hall\, 4269 Sanders Ave\, Wells\, BC\, V0K2R0\, Canada
CATEGORIES:Outdoor Recreation,Wells
END:VEVENT
BEGIN:VEVENT
DTSTART;TZID=America/Vancouver:20260411T210000
DTEND;TZID=America/Vancouver:20260411T233000
DTSTAMP:20260424T122627
CREATED:20251126T162905Z
LAST-MODIFIED:20251126T162911Z
UID:10003037-1775941200-1775950200@whatsupinwells.com
SUMMARY:Karaoke Night
DESCRIPTION:Every Saturday from 9 pm to late
URL:https://whatsupinwells.com/event/karaoke-night-4-2/2026-04-11/
LOCATION:Jack O’ Club Restaurant & Pub\, 12383 Hwy 27 E.\, Wells\, BC\, V0K2R0\, Canada
CATEGORIES:19+,Music,Wells
END:VEVENT
BEGIN:VEVENT
DTSTART;TZID=America/Vancouver:20260412T160000
DTEND;TZID=America/Vancouver:20260412T180000
DTSTAMP:20260424T122627
CREATED:20251126T163004Z
LAST-MODIFIED:20251126T163006Z
UID:10003945-1776009600-1776016800@whatsupinwells.com
SUMMARY:Pickleball at the Hall
DESCRIPTION:8 pm and Sundays from 4-6 pm at the Community hall. No experience required\, all you need is a clean pair of shoes. The drop in fee is $3
URL:https://whatsupinwells.com/event/pickleball-at-the-hall-3-2/2026-04-12/
LOCATION:Wells Community Hall\, 4269 Sanders Ave\, Wells\, BC\, V0K2R0\, Canada
CATEGORIES:Outdoor Recreation,Wells
END:VEVENT
BEGIN:VEVENT
DTSTART;TZID=America/Vancouver:20260418T210000
DTEND;TZID=America/Vancouver:20260418T233000
DTSTAMP:20260424T122627
CREATED:20251126T162905Z
LAST-MODIFIED:20251126T162911Z
UID:10003038-1776546000-1776555000@whatsupinwells.com
SUMMARY:Karaoke Night
DESCRIPTION:Every Saturday from 9 pm to late
URL:https://whatsupinwells.com/event/karaoke-night-4-2/2026-04-18/
LOCATION:Jack O’ Club Restaurant & Pub\, 12383 Hwy 27 E.\, Wells\, BC\, V0K2R0\, Canada
CATEGORIES:19+,Music,Wells
END:VEVENT
BEGIN:VEVENT
DTSTART;TZID=America/Vancouver:20260419T160000
DTEND;TZID=America/Vancouver:20260419T180000
DTSTAMP:20260424T122627
CREATED:20251126T163004Z
LAST-MODIFIED:20251126T163006Z
UID:10003946-1776614400-1776621600@whatsupinwells.com
SUMMARY:Pickleball at the Hall
DESCRIPTION:8 pm and Sundays from 4-6 pm at the Community hall. No experience required\, all you need is a clean pair of shoes. The drop in fee is $3
URL:https://whatsupinwells.com/event/pickleball-at-the-hall-3-2/2026-04-19/
LOCATION:Wells Community Hall\, 4269 Sanders Ave\, Wells\, BC\, V0K2R0\, Canada
CATEGORIES:Outdoor Recreation,Wells
END:VEVENT
BEGIN:VEVENT
DTSTART;TZID=America/Vancouver:20260421T200000
DTEND;TZID=America/Vancouver:20260421T220000
DTSTAMP:20260424T122627
CREATED:20260314T202746Z
LAST-MODIFIED:20260314T203027Z
UID:10004136-1776801600-1776808800@whatsupinwells.com
SUMMARY:Amy Nelson and Carter Felker live at the Wells Hotel
DESCRIPTION:Calgary’s Amy Nelson is a conduit of voices from the past\, reverentially channeling the sounds of depression-era blues\, psychedelic drone and mountain music. Amy Nelson is one of Canada’s best best performers\, and has opened for artists such as Corb Lund\, Tim Hus\, Whitney Rose\, and Frazey Ford. See you at the Wells Hotel on April 21st\, when Amy Nelson and fellow Calgarian Carter Felker will be performing with their band. \nCarter Felker’s songwriting is the embodiment of simplicity. Like the hammer and the nail\, the tongue and groove or the wheel and its roll – the stringent and punchy use of words alongside outstanding fingerpicking are as effective as they are memorable. Stories of hometown lore\, love lost and bitter relationships steeped with a deep sense of humor are Felker’s modus operandi. The ability to tell a story we all know\, inside parameters we forget exist. \nCover by donation. First-come\, first-seated. Pub open for dinner 4pm – 8pm\, music starts at 8pm. Sorry\, no minors after the end of meal service.
URL:https://whatsupinwells.com/event/amy-nelson-and-carter-felker-live-at-the-wells-hotel/
LOCATION:The Wells Hotel\, 2341 Pooley St.\, Wells\, BC\, V0k2R0\, Canada
CATEGORIES:Music,Wells
ATTACH;FMTTYPE=image/png:https://whatsupinwells.com/wp-content/uploads/2026/03/Amy-and-Carter_Wells-Square-02.png
END:VEVENT
BEGIN:VEVENT
DTSTART;TZID=America/Vancouver:20260425T190000
DTEND;TZID=America/Vancouver:20260425T203000
DTSTAMP:20260424T122627
CREATED:20260424T183608Z
LAST-MODIFIED:20260424T183608Z
UID:10004144-1777143600-1777149000@whatsupinwells.com
SUMMARY:Nirvana the band the show the movie
DESCRIPTION:While our main focus is always live performance\, we love sharing Canadian Films too. \nJoin us at the Sunset Theatre in Wells this Saturday\, April 25th @ 7PM for the hit Canadian Film\, Nirvanna: The Band – The Show – The Movie. \nTickets are $10 at the Door.\nFull Licensed Concession and Box Office Open at 6:30PM \nWhen their plan to book a show at the Rivoli goes horribly wrong\, Matt and Jay accidentally travel back to the year 2008.\nRating: R\nRuntime: 1h 39m\nGenres: Comedy\nDirected by: Matt Johnson
URL:https://whatsupinwells.com/event/nirvana-the-band-the-show-the-movie/
LOCATION:Sunset Theatre\, 2357 Pooley St.\, Wells\, BC\, v0k2r0\, Canada
CATEGORIES:Arts,Theatre,Wells
ATTACH;FMTTYPE=image/jpeg:https://whatsupinwells.com/wp-content/uploads/2026/04/673122641_1374690488028175_3450982045833846897_n.jpg
END:VEVENT
BEGIN:VEVENT
DTSTART;TZID=America/Vancouver:20260425T210000
DTEND;TZID=America/Vancouver:20260425T233000
DTSTAMP:20260424T122627
CREATED:20251126T162905Z
LAST-MODIFIED:20251126T162911Z
UID:10003039-1777150800-1777159800@whatsupinwells.com
SUMMARY:Karaoke Night
DESCRIPTION:Every Saturday from 9 pm to late
URL:https://whatsupinwells.com/event/karaoke-night-4-2/2026-04-25/
LOCATION:Jack O’ Club Restaurant & Pub\, 12383 Hwy 27 E.\, Wells\, BC\, V0K2R0\, Canada
CATEGORIES:19+,Music,Wells
END:VEVENT
BEGIN:VEVENT
DTSTART;TZID=America/Vancouver:20260426T160000
DTEND;TZID=America/Vancouver:20260426T180000
DTSTAMP:20260424T122627
CREATED:20251126T163004Z
LAST-MODIFIED:20251126T163006Z
UID:10003947-1777219200-1777226400@whatsupinwells.com
SUMMARY:Pickleball at the Hall
DESCRIPTION:8 pm and Sundays from 4-6 pm at the Community hall. No experience required\, all you need is a clean pair of shoes. The drop in fee is $3
URL:https://whatsupinwells.com/event/pickleball-at-the-hall-3-2/2026-04-26/
LOCATION:Wells Community Hall\, 4269 Sanders Ave\, Wells\, BC\, V0K2R0\, Canada
CATEGORIES:Outdoor Recreation,Wells
END:VEVENT
BEGIN:VEVENT
DTSTART;TZID=America/Vancouver:20260427T190000
DTEND;TZID=America/Vancouver:20260427T203000
DTSTAMP:20260424T122627
CREATED:20260424T185153Z
LAST-MODIFIED:20260424T185153Z
UID:10004148-1777316400-1777321800@whatsupinwells.com
SUMMARY:Wells Historical Society AGM
DESCRIPTION:We’d sure like to see you at the Wells Historical Society’s AGM on April 27. You can learn more about the exciting project we’re working on.
URL:https://whatsupinwells.com/event/wells-historical-society-agm-3/
LOCATION:BC
CATEGORIES:Arts,Education,Free,Wells
ATTACH;FMTTYPE=image/jpeg:https://whatsupinwells.com/wp-content/uploads/2026/04/674504096_10164428676427138_6123752494498067364_n.jpg
ORGANIZER;CN="Wells Historical Society":MAILTO:thewellsmuseum@gmail.com
END:VEVENT
BEGIN:VEVENT
DTSTART;TZID=America/Vancouver:20260502T210000
DTEND;TZID=America/Vancouver:20260502T233000
DTSTAMP:20260424T122627
CREATED:20251126T162905Z
LAST-MODIFIED:20251126T162911Z
UID:10003040-1777755600-1777764600@whatsupinwells.com
SUMMARY:Karaoke Night
DESCRIPTION:Every Saturday from 9 pm to late
URL:https://whatsupinwells.com/event/karaoke-night-4-2/2026-05-02/
LOCATION:Jack O’ Club Restaurant & Pub\, 12383 Hwy 27 E.\, Wells\, BC\, V0K2R0\, Canada
CATEGORIES:19+,Music,Wells
END:VEVENT
BEGIN:VEVENT
DTSTART;TZID=America/Vancouver:20260503T160000
DTEND;TZID=America/Vancouver:20260503T180000
DTSTAMP:20260424T122627
CREATED:20251126T163004Z
LAST-MODIFIED:20251126T163006Z
UID:10003948-1777824000-1777831200@whatsupinwells.com
SUMMARY:Pickleball at the Hall
DESCRIPTION:8 pm and Sundays from 4-6 pm at the Community hall. No experience required\, all you need is a clean pair of shoes. The drop in fee is $3
URL:https://whatsupinwells.com/event/pickleball-at-the-hall-3-2/2026-05-03/
LOCATION:Wells Community Hall\, 4269 Sanders Ave\, Wells\, BC\, V0K2R0\, Canada
CATEGORIES:Outdoor Recreation,Wells
END:VEVENT
BEGIN:VEVENT
DTSTART;TZID=America/Vancouver:20260503T160000
DTEND;TZID=America/Vancouver:20260503T180000
DTSTAMP:20260424T122627
CREATED:20260424T181943Z
LAST-MODIFIED:20260424T181943Z
UID:10004138-1777824000-1777831200@whatsupinwells.com
SUMMARY:Island Mountain Arts Annual General Meeting
DESCRIPTION:It is time for our annual AGM\, which will be held on Sunday May 3rd\, 2026 at 4:00 PM. \nWe plan to meet in person in Wells in the IMA Gallery\, but there is also an option to join us virtually. We ask that you please register in advance for the AGM so we can plan our spaces accordingly. \nYou can also renew your membership for 2026 now! Feel free to email us back here if you need to check in on your membership status!\nWe are looking for a few folks to join the board! An exciting year\, as we plan for our 50th Anniversary! \nIf you or if someone you know would be a good fit for this\, please get in touch with our board president Donna at donna.williams777@gmail.com!
URL:https://whatsupinwells.com/event/island-mountain-arts-annual-general-meeting/
LOCATION:Island Mountain Arts\, 2323 Pooley St.\, Wells\, BC\, V0k2R0\, Canada
CATEGORIES:Arts,Wells
ATTACH;FMTTYPE=image/jpeg:https://whatsupinwells.com/wp-content/uploads/2026/04/672682890_1845248243515008_2550902796445524245_n.jpg
END:VEVENT
BEGIN:VEVENT
DTSTART;TZID=America/Vancouver:20260509T210000
DTEND;TZID=America/Vancouver:20260509T233000
DTSTAMP:20260424T122627
CREATED:20251126T162905Z
LAST-MODIFIED:20251126T162911Z
UID:10003041-1778360400-1778369400@whatsupinwells.com
SUMMARY:Karaoke Night
DESCRIPTION:Every Saturday from 9 pm to late
URL:https://whatsupinwells.com/event/karaoke-night-4-2/2026-05-09/
LOCATION:Jack O’ Club Restaurant & Pub\, 12383 Hwy 27 E.\, Wells\, BC\, V0K2R0\, Canada
CATEGORIES:19+,Music,Wells
END:VEVENT
BEGIN:VEVENT
DTSTART;TZID=America/Vancouver:20260510T160000
DTEND;TZID=America/Vancouver:20260510T180000
DTSTAMP:20260424T122627
CREATED:20251126T163004Z
LAST-MODIFIED:20251126T163006Z
UID:10003949-1778428800-1778436000@whatsupinwells.com
SUMMARY:Pickleball at the Hall
DESCRIPTION:8 pm and Sundays from 4-6 pm at the Community hall. No experience required\, all you need is a clean pair of shoes. The drop in fee is $3
URL:https://whatsupinwells.com/event/pickleball-at-the-hall-3-2/2026-05-10/
LOCATION:Wells Community Hall\, 4269 Sanders Ave\, Wells\, BC\, V0K2R0\, Canada
CATEGORIES:Outdoor Recreation,Wells
END:VEVENT
BEGIN:VEVENT
DTSTART;TZID=America/Vancouver:20260516T210000
DTEND;TZID=America/Vancouver:20260516T233000
DTSTAMP:20260424T122627
CREATED:20251126T162905Z
LAST-MODIFIED:20251126T162911Z
UID:10003042-1778965200-1778974200@whatsupinwells.com
SUMMARY:Karaoke Night
DESCRIPTION:Every Saturday from 9 pm to late
URL:https://whatsupinwells.com/event/karaoke-night-4-2/2026-05-16/
LOCATION:Jack O’ Club Restaurant & Pub\, 12383 Hwy 27 E.\, Wells\, BC\, V0K2R0\, Canada
CATEGORIES:19+,Music,Wells
END:VEVENT
BEGIN:VEVENT
DTSTART;TZID=America/Vancouver:20260517T140000
DTEND;TZID=America/Vancouver:20260517T163000
DTSTAMP:20260424T122627
CREATED:20260424T184041Z
LAST-MODIFIED:20260424T184041Z
UID:10004145-1779026400-1779035400@whatsupinwells.com
SUMMARY:Taste of Norway: a Long Table Feast on Norway's National Day
DESCRIPTION:What do you get when two local\, independent businesses team up to present an afternoon of food and drink together? A culinary collaboration that is sure to rock your Sunday! This match-up of Hildur and Jillian’s creativity & passion is not to be missed! \nTake a journey to Norway with a six-course food and drink menu inspired by Hildur’s heritage and prepared by the Wells Hotel. Gather around the long tables of Troll Resort and celebrate Norway’s National Day with a feast! Alcoholic and non-alcoholic options available. Scandinavian sweaters are encouraged! \nTaste of Norway is the 9th edition of the Cariboo Culinary Collaboration series\, where the Wells Hotel hits the road to travel the Cariboo and team up with other small businesses to offer unique food and drink experiences in new venues. The eight previous events in the series have all sold out\, so don’t miss the opportunity to join us this Spring! \nThe Menu:\n* Hors d’ouevre: Gravad lax med hovmästarsås – cured salmon with dijon dill sauce\n* Soup: Fiskesuppe med Knekkebrød – fish soup with crisp breads\n* Appetizer: Lefse med marinert edamerost og agurt – potato pancake with marinated edam and cucumber\n* Salad: Rekesalt med grovbrod – shrimp salad with whole grain bread\n* Main: Fårikål – peppered lamb in cabbage with potatoes and lingonberries\n* Dessert: Kvæfjordkak: Norway’s ‘best cake’ \nIMPORTANT this is a set menu event. Substitutions and alternatives to the set menu will not be available. \nWhen: Sunday\, May 17th starting at 2:00 pm (Norway’s National Day!)\nWhere: Troll Resort\, 7271 Barkerville Hwy (between Quesnel and Wells\, BC)\nWhat’s Included: Six food courses with drink pairings\nThe Price: $75 + GST per person \nTickets are limited and available for purchase online from the Wells Hotel. Head to the link in the Facebook event\, or look for “online orders” at wellshotel.com \nDue to the advanced planning required to prepare for the event\, tickets may not be available at the door
URL:https://whatsupinwells.com/event/taste-of-norway-a-long-table-feast-on-norways-national-day/
LOCATION:Troll Ski Resort\, Barkerville Hwy 27 E.\, BC\, Canada
CATEGORIES:Arts,Food,Troll,Wells
ATTACH;FMTTYPE=image/jpeg:https://whatsupinwells.com/wp-content/uploads/2026/04/661553095_1584154147045720_7876592849590870961_n.jpg
END:VEVENT
BEGIN:VEVENT
DTSTART;TZID=America/Vancouver:20260517T160000
DTEND;TZID=America/Vancouver:20260517T180000
DTSTAMP:20260424T122627
CREATED:20251126T163004Z
LAST-MODIFIED:20251126T163006Z
UID:10003950-1779033600-1779040800@whatsupinwells.com
SUMMARY:Pickleball at the Hall
DESCRIPTION:8 pm and Sundays from 4-6 pm at the Community hall. No experience required\, all you need is a clean pair of shoes. The drop in fee is $3
URL:https://whatsupinwells.com/event/pickleball-at-the-hall-3-2/2026-05-17/
LOCATION:Wells Community Hall\, 4269 Sanders Ave\, Wells\, BC\, V0K2R0\, Canada
CATEGORIES:Outdoor Recreation,Wells
END:VEVENT
BEGIN:VEVENT
DTSTART;TZID=America/Vancouver:20260522T180000
DTEND;TZID=America/Vancouver:20260522T193000
DTSTAMP:20260424T122627
CREATED:20260424T182814Z
LAST-MODIFIED:20260424T182814Z
UID:10004141-1779472800-1779478200@whatsupinwells.com
SUMMARY:Gallery Opening: Ava and Ama
DESCRIPTION:Ava and Ama are two ladies living in Balne\, a fictional town inspired by the English town of Calne. Xinleh spent a formative year living and working in the UK; a period that still holds a particular tension for her. Charming\, yet the experience is weighted by her first time living alone and by her awareness of how\, as a Singaporean from a former British colony\, she relates to Britain’s colonial history. She is interested in the questions of movement and transformation\, in the shapeshifting nature of the immigrant experience\, where the absurd lurks in the everyday. Through surrealistic devices she seeks to combine inconceivable ideas in unexpected ways– a symbol of establishing one’s unique identity in unfamiliar places. \nAva and Ama live at the edge of distortion\, which reflects the artist’s personal experiences of the visible and unseen. \nIMA acknowledges the support of the Province of British Columbia for keeping our gallery free to attend. \nIMA operates on the territory of the Lhtako Dene Nation\, a traditional land-use area of the Dakelh and Secwépemc peoples\, recognizing their historical and ongoing connection to the land.
URL:https://whatsupinwells.com/event/gallery-opening-ava-and-ama/
LOCATION:Island Mountain Arts\, 2323 Pooley St.\, Wells\, BC\, V0k2R0\, Canada
CATEGORIES:Arts,Free,Wells
ATTACH;FMTTYPE=image/jpeg:https://whatsupinwells.com/wp-content/uploads/2026/04/662645565_1832646391441860_377626326629980786_n.jpg
END:VEVENT
BEGIN:VEVENT
DTSTART;TZID=America/Vancouver:20260523T110000
DTEND;TZID=America/Vancouver:20260523T143000
DTSTAMP:20260424T122627
CREATED:20260424T182227Z
LAST-MODIFIED:20260424T182227Z
UID:10004139-1779534000-1779546600@whatsupinwells.com
SUMMARY:Constructing Worlds I: Whimsical Watercolour Landscapes w/ Xinleh
DESCRIPTION:Craft a whimsical Landscape in this Watercolour workshop with Xinleh. \nIn this three hour workshop\, take on the art of painting watercolour landscapes with a whimsical twist. IMA Public Gallery Artist Xinleh takes you through techniques for watercolour painting. Create personal atmospheric landscapes that balance the line between self-expression\, imagination and technique. Explore the basics of composition\, value and the versatility of watercolour as a medium in worldbuilding. \nNo experience required – this workshop is designed for beginners and those looking to build confidence with their watercolour technique.
URL:https://whatsupinwells.com/event/constructing-worlds-i-whimsical-watercolour-landscapes-w-xinleh/
LOCATION:Island Mountain Arts Studios\, Mildred Ave\, Wells\, V0K 2R0
CATEGORIES:Arts,Wells
ATTACH;FMTTYPE=image/jpeg:https://whatsupinwells.com/wp-content/uploads/2026/04/662733628_1832655934774239_470239771684459886_n.jpg
END:VEVENT
BEGIN:VEVENT
DTSTART;TZID=America/Vancouver:20260523T210000
DTEND;TZID=America/Vancouver:20260523T233000
DTSTAMP:20260424T122627
CREATED:20251126T162905Z
LAST-MODIFIED:20251126T162911Z
UID:10003043-1779570000-1779579000@whatsupinwells.com
SUMMARY:Karaoke Night
DESCRIPTION:Every Saturday from 9 pm to late
URL:https://whatsupinwells.com/event/karaoke-night-4-2/2026-05-23/
LOCATION:Jack O’ Club Restaurant & Pub\, 12383 Hwy 27 E.\, Wells\, BC\, V0K2R0\, Canada
CATEGORIES:19+,Music,Wells
END:VEVENT
BEGIN:VEVENT
DTSTART;TZID=America/Vancouver:20260524T110000
DTEND;TZID=America/Vancouver:20260524T143000
DTSTAMP:20260424T122627
CREATED:20260424T182425Z
LAST-MODIFIED:20260424T182425Z
UID:10004140-1779620400-1779633000@whatsupinwells.com
SUMMARY:Constructing Worlds II: Character Design w/ Xinleh
DESCRIPTION:Participation in Constructing Worlds I not required. \nCreate original characters with a fun backstory and setting. \nOver the course of this three-hour workshop\, Xinleh unravels the process of creating appealing characters\, encouraging participants to develop their own unique visual language. Study popular character design from famous artists\, famous cartoons like Snoopy and Garfield\, and learn about story\, shapes\, exaggeration\, costuming. We will also look at how unique traits and setting can make a well-rounded character\, and how to develop story and setting for the characters we create. \nMaterials Provided:  \nIMA will provide Pencils\, Paper and a variety of mediums to experiment with from our art supply. \nParticipants may bring a notebook and any other materials or mediums of choice that they wish to create with.
URL:https://whatsupinwells.com/event/constructing-worlds-ii-character-design-w-xinleh/
LOCATION:Island Mountain Arts\, 2323 Pooley St.\, Wells\, BC\, V0k2R0\, Canada
CATEGORIES:Arts,Wells
ATTACH;FMTTYPE=image/jpeg:https://whatsupinwells.com/wp-content/uploads/2026/04/662733628_1832655934774239_470239771684459886_n.jpg
END:VEVENT
BEGIN:VEVENT
DTSTART;TZID=America/Vancouver:20260524T160000
DTEND;TZID=America/Vancouver:20260524T180000
DTSTAMP:20260424T122627
CREATED:20251126T163004Z
LAST-MODIFIED:20251126T163006Z
UID:10003951-1779638400-1779645600@whatsupinwells.com
SUMMARY:Pickleball at the Hall
DESCRIPTION:8 pm and Sundays from 4-6 pm at the Community hall. No experience required\, all you need is a clean pair of shoes. The drop in fee is $3
URL:https://whatsupinwells.com/event/pickleball-at-the-hall-3-2/2026-05-24/
LOCATION:Wells Community Hall\, 4269 Sanders Ave\, Wells\, BC\, V0K2R0\, Canada
CATEGORIES:Outdoor Recreation,Wells
END:VEVENT
BEGIN:VEVENT
DTSTART;TZID=America/Vancouver:20260530T210000
DTEND;TZID=America/Vancouver:20260530T233000
DTSTAMP:20260424T122627
CREATED:20251126T162905Z
LAST-MODIFIED:20251126T162911Z
UID:10003044-1780174800-1780183800@whatsupinwells.com
SUMMARY:Karaoke Night
DESCRIPTION:Every Saturday from 9 pm to late
URL:https://whatsupinwells.com/event/karaoke-night-4-2/2026-05-30/
LOCATION:Jack O’ Club Restaurant & Pub\, 12383 Hwy 27 E.\, Wells\, BC\, V0K2R0\, Canada
CATEGORIES:19+,Music,Wells
END:VEVENT
BEGIN:VEVENT
DTSTART;TZID=America/Vancouver:20260531T160000
DTEND;TZID=America/Vancouver:20260531T180000
DTSTAMP:20260424T122627
CREATED:20251126T163004Z
LAST-MODIFIED:20251126T163006Z
UID:10003952-1780243200-1780250400@whatsupinwells.com
SUMMARY:Pickleball at the Hall
DESCRIPTION:8 pm and Sundays from 4-6 pm at the Community hall. No experience required\, all you need is a clean pair of shoes. The drop in fee is $3
URL:https://whatsupinwells.com/event/pickleball-at-the-hall-3-2/2026-05-31/
LOCATION:Wells Community Hall\, 4269 Sanders Ave\, Wells\, BC\, V0K2R0\, Canada
CATEGORIES:Outdoor Recreation,Wells
END:VEVENT
BEGIN:VEVENT
DTSTART;TZID=America/Vancouver:20260605T130000
DTEND;TZID=America/Vancouver:20260605T160000
DTSTAMP:20260424T122627
CREATED:20260424T184842Z
LAST-MODIFIED:20260424T184842Z
UID:10004147-1780664400-1780675200@whatsupinwells.com
SUMMARY:Chrissy Brooks Celebration of Life
DESCRIPTION:Chrissy Brooks Celebration of Life Will be Friday\, June 5 in the Banquet Room of the Wells Community Hall 1:00-4:00pm.\nThe rest of the details are being worked out\, but the date has been confirmed.\nIf anyone would like to contribute photos or anything else to the service\, please message Trish Smooks and she will be happy to include you.
URL:https://whatsupinwells.com/event/chrissy-brooks-celebration-of-life/
LOCATION:Banquet Room\, Wells Community Hall\, 4269 Sanders Ave\, Wells\, BC\, V0K2R0\, Canada
CATEGORIES:Wells
END:VEVENT
END:VCALENDAR