BEGIN:VCALENDAR
VERSION:2.0
PRODID:-//What&#039;s Up in Wells - ECPv6.15.20//NONSGML v1.0//EN
CALSCALE:GREGORIAN
METHOD:PUBLISH
X-ORIGINAL-URL:https://whatsupinwells.com
X-WR-CALDESC:Events for What&#039;s Up in Wells
REFRESH-INTERVAL;VALUE=DURATION:PT1H
X-Robots-Tag:noindex
X-PUBLISHED-TTL:PT1H
BEGIN:VTIMEZONE
TZID:America/Vancouver
BEGIN:DAYLIGHT
TZOFFSETFROM:-0800
TZOFFSETTO:-0700
TZNAME:PDT
DTSTART:20250309T100000
END:DAYLIGHT
BEGIN:STANDARD
TZOFFSETFROM:-0700
TZOFFSETTO:-0800
TZNAME:PST
DTSTART:20251102T090000
END:STANDARD
BEGIN:DAYLIGHT
TZOFFSETFROM:-0800
TZOFFSETTO:-0700
TZNAME:PDT
DTSTART:20260308T100000
END:DAYLIGHT
BEGIN:STANDARD
TZOFFSETFROM:-0700
TZOFFSETTO:-0800
TZNAME:PST
DTSTART:20261101T090000
END:STANDARD
BEGIN:DAYLIGHT
TZOFFSETFROM:-0800
TZOFFSETTO:-0700
TZNAME:PDT
DTSTART:20270314T100000
END:DAYLIGHT
BEGIN:STANDARD
TZOFFSETFROM:-0700
TZOFFSETTO:-0800
TZNAME:PST
DTSTART:20271107T090000
END:STANDARD
END:VTIMEZONE
BEGIN:VEVENT
DTSTART;TZID=America/Vancouver:20260517T140000
DTEND;TZID=America/Vancouver:20260517T163000
DTSTAMP:20260424T161410
CREATED:20260424T184041Z
LAST-MODIFIED:20260424T184041Z
UID:10004145-1779026400-1779035400@whatsupinwells.com
SUMMARY:Taste of Norway: a Long Table Feast on Norway's National Day
DESCRIPTION:What do you get when two local\, independent businesses team up to present an afternoon of food and drink together? A culinary collaboration that is sure to rock your Sunday! This match-up of Hildur and Jillian’s creativity & passion is not to be missed! \nTake a journey to Norway with a six-course food and drink menu inspired by Hildur’s heritage and prepared by the Wells Hotel. Gather around the long tables of Troll Resort and celebrate Norway’s National Day with a feast! Alcoholic and non-alcoholic options available. Scandinavian sweaters are encouraged! \nTaste of Norway is the 9th edition of the Cariboo Culinary Collaboration series\, where the Wells Hotel hits the road to travel the Cariboo and team up with other small businesses to offer unique food and drink experiences in new venues. The eight previous events in the series have all sold out\, so don’t miss the opportunity to join us this Spring! \nThe Menu:\n* Hors d’ouevre: Gravad lax med hovmästarsås – cured salmon with dijon dill sauce\n* Soup: Fiskesuppe med Knekkebrød – fish soup with crisp breads\n* Appetizer: Lefse med marinert edamerost og agurt – potato pancake with marinated edam and cucumber\n* Salad: Rekesalt med grovbrod – shrimp salad with whole grain bread\n* Main: Fårikål – peppered lamb in cabbage with potatoes and lingonberries\n* Dessert: Kvæfjordkak: Norway’s ‘best cake’ \nIMPORTANT this is a set menu event. Substitutions and alternatives to the set menu will not be available. \nWhen: Sunday\, May 17th starting at 2:00 pm (Norway’s National Day!)\nWhere: Troll Resort\, 7271 Barkerville Hwy (between Quesnel and Wells\, BC)\nWhat’s Included: Six food courses with drink pairings\nThe Price: $75 + GST per person \nTickets are limited and available for purchase online from the Wells Hotel. Head to the link in the Facebook event\, or look for “online orders” at wellshotel.com \nDue to the advanced planning required to prepare for the event\, tickets may not be available at the door
URL:https://whatsupinwells.com/event/taste-of-norway-a-long-table-feast-on-norways-national-day/
LOCATION:Troll Ski Resort\, Barkerville Hwy 27 E.\, BC\, Canada
CATEGORIES:Arts,Food,Troll,Wells
ATTACH;FMTTYPE=image/jpeg:https://whatsupinwells.com/wp-content/uploads/2026/04/661553095_1584154147045720_7876592849590870961_n.jpg
END:VEVENT
BEGIN:VEVENT
DTSTART;TZID=America/Vancouver:20260517T160000
DTEND;TZID=America/Vancouver:20260517T180000
DTSTAMP:20260424T161410
CREATED:20251126T163004Z
LAST-MODIFIED:20251126T163006Z
UID:10003950-1779033600-1779040800@whatsupinwells.com
SUMMARY:Pickleball at the Hall
DESCRIPTION:8 pm and Sundays from 4-6 pm at the Community hall. No experience required\, all you need is a clean pair of shoes. The drop in fee is $3
URL:https://whatsupinwells.com/event/pickleball-at-the-hall-3-2/2026-05-17/
LOCATION:Wells Community Hall\, 4269 Sanders Ave\, Wells\, BC\, V0K2R0\, Canada
CATEGORIES:Outdoor Recreation,Wells
END:VEVENT
BEGIN:VEVENT
DTSTART;TZID=America/Vancouver:20260522T180000
DTEND;TZID=America/Vancouver:20260522T193000
DTSTAMP:20260424T161410
CREATED:20260424T182814Z
LAST-MODIFIED:20260424T182814Z
UID:10004141-1779472800-1779478200@whatsupinwells.com
SUMMARY:Gallery Opening: Ava and Ama
DESCRIPTION:Ava and Ama are two ladies living in Balne\, a fictional town inspired by the English town of Calne. Xinleh spent a formative year living and working in the UK; a period that still holds a particular tension for her. Charming\, yet the experience is weighted by her first time living alone and by her awareness of how\, as a Singaporean from a former British colony\, she relates to Britain’s colonial history. She is interested in the questions of movement and transformation\, in the shapeshifting nature of the immigrant experience\, where the absurd lurks in the everyday. Through surrealistic devices she seeks to combine inconceivable ideas in unexpected ways– a symbol of establishing one’s unique identity in unfamiliar places. \nAva and Ama live at the edge of distortion\, which reflects the artist’s personal experiences of the visible and unseen. \nIMA acknowledges the support of the Province of British Columbia for keeping our gallery free to attend. \nIMA operates on the territory of the Lhtako Dene Nation\, a traditional land-use area of the Dakelh and Secwépemc peoples\, recognizing their historical and ongoing connection to the land.
URL:https://whatsupinwells.com/event/gallery-opening-ava-and-ama/
LOCATION:Island Mountain Arts\, 2323 Pooley St.\, Wells\, BC\, V0k2R0\, Canada
CATEGORIES:Arts,Free,Wells
ATTACH;FMTTYPE=image/jpeg:https://whatsupinwells.com/wp-content/uploads/2026/04/662645565_1832646391441860_377626326629980786_n.jpg
END:VEVENT
BEGIN:VEVENT
DTSTART;TZID=America/Vancouver:20260523T110000
DTEND;TZID=America/Vancouver:20260523T143000
DTSTAMP:20260424T161410
CREATED:20260424T182227Z
LAST-MODIFIED:20260424T182227Z
UID:10004139-1779534000-1779546600@whatsupinwells.com
SUMMARY:Constructing Worlds I: Whimsical Watercolour Landscapes w/ Xinleh
DESCRIPTION:Craft a whimsical Landscape in this Watercolour workshop with Xinleh. \nIn this three hour workshop\, take on the art of painting watercolour landscapes with a whimsical twist. IMA Public Gallery Artist Xinleh takes you through techniques for watercolour painting. Create personal atmospheric landscapes that balance the line between self-expression\, imagination and technique. Explore the basics of composition\, value and the versatility of watercolour as a medium in worldbuilding. \nNo experience required – this workshop is designed for beginners and those looking to build confidence with their watercolour technique.
URL:https://whatsupinwells.com/event/constructing-worlds-i-whimsical-watercolour-landscapes-w-xinleh/
LOCATION:Island Mountain Arts Studios\, Mildred Ave\, Wells\, V0K 2R0
CATEGORIES:Arts,Wells
ATTACH;FMTTYPE=image/jpeg:https://whatsupinwells.com/wp-content/uploads/2026/04/662733628_1832655934774239_470239771684459886_n.jpg
END:VEVENT
BEGIN:VEVENT
DTSTART;TZID=America/Vancouver:20260523T210000
DTEND;TZID=America/Vancouver:20260523T233000
DTSTAMP:20260424T161410
CREATED:20251126T162905Z
LAST-MODIFIED:20251126T162911Z
UID:10003043-1779570000-1779579000@whatsupinwells.com
SUMMARY:Karaoke Night
DESCRIPTION:Every Saturday from 9 pm to late
URL:https://whatsupinwells.com/event/karaoke-night-4-2/2026-05-23/
LOCATION:Jack O’ Club Restaurant & Pub\, 12383 Hwy 27 E.\, Wells\, BC\, V0K2R0\, Canada
CATEGORIES:19+,Music,Wells
END:VEVENT
BEGIN:VEVENT
DTSTART;TZID=America/Vancouver:20260524T110000
DTEND;TZID=America/Vancouver:20260524T143000
DTSTAMP:20260424T161410
CREATED:20260424T182425Z
LAST-MODIFIED:20260424T182425Z
UID:10004140-1779620400-1779633000@whatsupinwells.com
SUMMARY:Constructing Worlds II: Character Design w/ Xinleh
DESCRIPTION:Participation in Constructing Worlds I not required. \nCreate original characters with a fun backstory and setting. \nOver the course of this three-hour workshop\, Xinleh unravels the process of creating appealing characters\, encouraging participants to develop their own unique visual language. Study popular character design from famous artists\, famous cartoons like Snoopy and Garfield\, and learn about story\, shapes\, exaggeration\, costuming. We will also look at how unique traits and setting can make a well-rounded character\, and how to develop story and setting for the characters we create. \nMaterials Provided:  \nIMA will provide Pencils\, Paper and a variety of mediums to experiment with from our art supply. \nParticipants may bring a notebook and any other materials or mediums of choice that they wish to create with.
URL:https://whatsupinwells.com/event/constructing-worlds-ii-character-design-w-xinleh/
LOCATION:Island Mountain Arts\, 2323 Pooley St.\, Wells\, BC\, V0k2R0\, Canada
CATEGORIES:Arts,Wells
ATTACH;FMTTYPE=image/jpeg:https://whatsupinwells.com/wp-content/uploads/2026/04/662733628_1832655934774239_470239771684459886_n.jpg
END:VEVENT
BEGIN:VEVENT
DTSTART;TZID=America/Vancouver:20260524T160000
DTEND;TZID=America/Vancouver:20260524T180000
DTSTAMP:20260424T161410
CREATED:20251126T163004Z
LAST-MODIFIED:20251126T163006Z
UID:10003951-1779638400-1779645600@whatsupinwells.com
SUMMARY:Pickleball at the Hall
DESCRIPTION:8 pm and Sundays from 4-6 pm at the Community hall. No experience required\, all you need is a clean pair of shoes. The drop in fee is $3
URL:https://whatsupinwells.com/event/pickleball-at-the-hall-3-2/2026-05-24/
LOCATION:Wells Community Hall\, 4269 Sanders Ave\, Wells\, BC\, V0K2R0\, Canada
CATEGORIES:Outdoor Recreation,Wells
END:VEVENT
BEGIN:VEVENT
DTSTART;TZID=America/Vancouver:20260530T210000
DTEND;TZID=America/Vancouver:20260530T233000
DTSTAMP:20260424T161410
CREATED:20251126T162905Z
LAST-MODIFIED:20251126T162911Z
UID:10003044-1780174800-1780183800@whatsupinwells.com
SUMMARY:Karaoke Night
DESCRIPTION:Every Saturday from 9 pm to late
URL:https://whatsupinwells.com/event/karaoke-night-4-2/2026-05-30/
LOCATION:Jack O’ Club Restaurant & Pub\, 12383 Hwy 27 E.\, Wells\, BC\, V0K2R0\, Canada
CATEGORIES:19+,Music,Wells
END:VEVENT
BEGIN:VEVENT
DTSTART;TZID=America/Vancouver:20260531T160000
DTEND;TZID=America/Vancouver:20260531T180000
DTSTAMP:20260424T161410
CREATED:20251126T163004Z
LAST-MODIFIED:20251126T163006Z
UID:10003952-1780243200-1780250400@whatsupinwells.com
SUMMARY:Pickleball at the Hall
DESCRIPTION:8 pm and Sundays from 4-6 pm at the Community hall. No experience required\, all you need is a clean pair of shoes. The drop in fee is $3
URL:https://whatsupinwells.com/event/pickleball-at-the-hall-3-2/2026-05-31/
LOCATION:Wells Community Hall\, 4269 Sanders Ave\, Wells\, BC\, V0K2R0\, Canada
CATEGORIES:Outdoor Recreation,Wells
END:VEVENT
BEGIN:VEVENT
DTSTART;TZID=America/Vancouver:20260605T130000
DTEND;TZID=America/Vancouver:20260605T160000
DTSTAMP:20260424T161410
CREATED:20260424T184842Z
LAST-MODIFIED:20260424T184842Z
UID:10004147-1780664400-1780675200@whatsupinwells.com
SUMMARY:Chrissy Brooks Celebration of Life
DESCRIPTION:Chrissy Brooks Celebration of Life Will be Friday\, June 5 in the Banquet Room of the Wells Community Hall 1:00-4:00pm.\nThe rest of the details are being worked out\, but the date has been confirmed.\nIf anyone would like to contribute photos or anything else to the service\, please message Trish Smooks and she will be happy to include you.
URL:https://whatsupinwells.com/event/chrissy-brooks-celebration-of-life/
LOCATION:Banquet Room\, Wells Community Hall\, 4269 Sanders Ave\, Wells\, BC\, V0K2R0\, Canada
CATEGORIES:Wells
END:VEVENT
BEGIN:VEVENT
DTSTART;TZID=America/Vancouver:20260606T210000
DTEND;TZID=America/Vancouver:20260606T233000
DTSTAMP:20260424T161410
CREATED:20251126T162905Z
LAST-MODIFIED:20251126T162911Z
UID:10003045-1780779600-1780788600@whatsupinwells.com
SUMMARY:Karaoke Night
DESCRIPTION:Every Saturday from 9 pm to late
URL:https://whatsupinwells.com/event/karaoke-night-4-2/2026-06-06/
LOCATION:Jack O’ Club Restaurant & Pub\, 12383 Hwy 27 E.\, Wells\, BC\, V0K2R0\, Canada
CATEGORIES:19+,Music,Wells
END:VEVENT
BEGIN:VEVENT
DTSTART;TZID=America/Vancouver:20260607T160000
DTEND;TZID=America/Vancouver:20260607T180000
DTSTAMP:20260424T161410
CREATED:20251126T163004Z
LAST-MODIFIED:20251126T163006Z
UID:10003953-1780848000-1780855200@whatsupinwells.com
SUMMARY:Pickleball at the Hall
DESCRIPTION:8 pm and Sundays from 4-6 pm at the Community hall. No experience required\, all you need is a clean pair of shoes. The drop in fee is $3
URL:https://whatsupinwells.com/event/pickleball-at-the-hall-3-2/2026-06-07/
LOCATION:Wells Community Hall\, 4269 Sanders Ave\, Wells\, BC\, V0K2R0\, Canada
CATEGORIES:Outdoor Recreation,Wells
END:VEVENT
BEGIN:VEVENT
DTSTART;TZID=America/Vancouver:20260613T210000
DTEND;TZID=America/Vancouver:20260613T233000
DTSTAMP:20260424T161410
CREATED:20251126T162905Z
LAST-MODIFIED:20251126T162911Z
UID:10003046-1781384400-1781393400@whatsupinwells.com
SUMMARY:Karaoke Night
DESCRIPTION:Every Saturday from 9 pm to late
URL:https://whatsupinwells.com/event/karaoke-night-4-2/2026-06-13/
LOCATION:Jack O’ Club Restaurant & Pub\, 12383 Hwy 27 E.\, Wells\, BC\, V0K2R0\, Canada
CATEGORIES:19+,Music,Wells
END:VEVENT
BEGIN:VEVENT
DTSTART;TZID=America/Vancouver:20260614T160000
DTEND;TZID=America/Vancouver:20260614T180000
DTSTAMP:20260424T161410
CREATED:20251126T163004Z
LAST-MODIFIED:20251126T163006Z
UID:10003954-1781452800-1781460000@whatsupinwells.com
SUMMARY:Pickleball at the Hall
DESCRIPTION:8 pm and Sundays from 4-6 pm at the Community hall. No experience required\, all you need is a clean pair of shoes. The drop in fee is $3
URL:https://whatsupinwells.com/event/pickleball-at-the-hall-3-2/2026-06-14/
LOCATION:Wells Community Hall\, 4269 Sanders Ave\, Wells\, BC\, V0K2R0\, Canada
CATEGORIES:Outdoor Recreation,Wells
END:VEVENT
BEGIN:VEVENT
DTSTART;TZID=America/Vancouver:20260620T210000
DTEND;TZID=America/Vancouver:20260620T233000
DTSTAMP:20260424T161410
CREATED:20251126T162905Z
LAST-MODIFIED:20251126T162911Z
UID:10003047-1781989200-1781998200@whatsupinwells.com
SUMMARY:Karaoke Night
DESCRIPTION:Every Saturday from 9 pm to late
URL:https://whatsupinwells.com/event/karaoke-night-4-2/2026-06-20/
LOCATION:Jack O’ Club Restaurant & Pub\, 12383 Hwy 27 E.\, Wells\, BC\, V0K2R0\, Canada
CATEGORIES:19+,Music,Wells
END:VEVENT
BEGIN:VEVENT
DTSTART;TZID=America/Vancouver:20260621T160000
DTEND;TZID=America/Vancouver:20260621T180000
DTSTAMP:20260424T161410
CREATED:20251126T163004Z
LAST-MODIFIED:20251126T163006Z
UID:10003955-1782057600-1782064800@whatsupinwells.com
SUMMARY:Pickleball at the Hall
DESCRIPTION:8 pm and Sundays from 4-6 pm at the Community hall. No experience required\, all you need is a clean pair of shoes. The drop in fee is $3
URL:https://whatsupinwells.com/event/pickleball-at-the-hall-3-2/2026-06-21/
LOCATION:Wells Community Hall\, 4269 Sanders Ave\, Wells\, BC\, V0K2R0\, Canada
CATEGORIES:Outdoor Recreation,Wells
END:VEVENT
BEGIN:VEVENT
DTSTART;TZID=America/Vancouver:20260627T210000
DTEND;TZID=America/Vancouver:20260627T233000
DTSTAMP:20260424T161410
CREATED:20251126T162905Z
LAST-MODIFIED:20251126T162911Z
UID:10003048-1782594000-1782603000@whatsupinwells.com
SUMMARY:Karaoke Night
DESCRIPTION:Every Saturday from 9 pm to late
URL:https://whatsupinwells.com/event/karaoke-night-4-2/2026-06-27/
LOCATION:Jack O’ Club Restaurant & Pub\, 12383 Hwy 27 E.\, Wells\, BC\, V0K2R0\, Canada
CATEGORIES:19+,Music,Wells
END:VEVENT
BEGIN:VEVENT
DTSTART;TZID=America/Vancouver:20260628T160000
DTEND;TZID=America/Vancouver:20260628T180000
DTSTAMP:20260424T161410
CREATED:20251126T163004Z
LAST-MODIFIED:20251126T163006Z
UID:10003956-1782662400-1782669600@whatsupinwells.com
SUMMARY:Pickleball at the Hall
DESCRIPTION:8 pm and Sundays from 4-6 pm at the Community hall. No experience required\, all you need is a clean pair of shoes. The drop in fee is $3
URL:https://whatsupinwells.com/event/pickleball-at-the-hall-3-2/2026-06-28/
LOCATION:Wells Community Hall\, 4269 Sanders Ave\, Wells\, BC\, V0K2R0\, Canada
CATEGORIES:Outdoor Recreation,Wells
END:VEVENT
BEGIN:VEVENT
DTSTART;TZID=America/Vancouver:20260704T210000
DTEND;TZID=America/Vancouver:20260704T233000
DTSTAMP:20260424T161410
CREATED:20251126T162905Z
LAST-MODIFIED:20251126T162911Z
UID:10003049-1783198800-1783207800@whatsupinwells.com
SUMMARY:Karaoke Night
DESCRIPTION:Every Saturday from 9 pm to late
URL:https://whatsupinwells.com/event/karaoke-night-4-2/2026-07-04/
LOCATION:Jack O’ Club Restaurant & Pub\, 12383 Hwy 27 E.\, Wells\, BC\, V0K2R0\, Canada
CATEGORIES:19+,Music,Wells
END:VEVENT
BEGIN:VEVENT
DTSTART;TZID=America/Vancouver:20260705T160000
DTEND;TZID=America/Vancouver:20260705T180000
DTSTAMP:20260424T161410
CREATED:20251126T163004Z
LAST-MODIFIED:20251126T163006Z
UID:10003957-1783267200-1783274400@whatsupinwells.com
SUMMARY:Pickleball at the Hall
DESCRIPTION:8 pm and Sundays from 4-6 pm at the Community hall. No experience required\, all you need is a clean pair of shoes. The drop in fee is $3
URL:https://whatsupinwells.com/event/pickleball-at-the-hall-3-2/2026-07-05/
LOCATION:Wells Community Hall\, 4269 Sanders Ave\, Wells\, BC\, V0K2R0\, Canada
CATEGORIES:Outdoor Recreation,Wells
END:VEVENT
BEGIN:VEVENT
DTSTART;TZID=America/Vancouver:20260711T210000
DTEND;TZID=America/Vancouver:20260711T233000
DTSTAMP:20260424T161410
CREATED:20251126T162905Z
LAST-MODIFIED:20251126T162911Z
UID:10003050-1783803600-1783812600@whatsupinwells.com
SUMMARY:Karaoke Night
DESCRIPTION:Every Saturday from 9 pm to late
URL:https://whatsupinwells.com/event/karaoke-night-4-2/2026-07-11/
LOCATION:Jack O’ Club Restaurant & Pub\, 12383 Hwy 27 E.\, Wells\, BC\, V0K2R0\, Canada
CATEGORIES:19+,Music,Wells
END:VEVENT
BEGIN:VEVENT
DTSTART;TZID=America/Vancouver:20260712T160000
DTEND;TZID=America/Vancouver:20260712T180000
DTSTAMP:20260424T161410
CREATED:20251126T163004Z
LAST-MODIFIED:20251126T163006Z
UID:10003958-1783872000-1783879200@whatsupinwells.com
SUMMARY:Pickleball at the Hall
DESCRIPTION:8 pm and Sundays from 4-6 pm at the Community hall. No experience required\, all you need is a clean pair of shoes. The drop in fee is $3
URL:https://whatsupinwells.com/event/pickleball-at-the-hall-3-2/2026-07-12/
LOCATION:Wells Community Hall\, 4269 Sanders Ave\, Wells\, BC\, V0K2R0\, Canada
CATEGORIES:Outdoor Recreation,Wells
END:VEVENT
BEGIN:VEVENT
DTSTART;VALUE=DATE:20260714
DTEND;VALUE=DATE:20260724
DTSTAMP:20260424T161410
CREATED:20260424T184434Z
LAST-MODIFIED:20260424T184434Z
UID:10004146-1784001600-1784779199@whatsupinwells.com
SUMMARY:Wells Wheels ATV Club Campout
DESCRIPTION:Exciting News!\nThe Club’s July Campout at the Forest Rose Campground in Barkerville is from Tuesday\, July 14 to Wednesday\, July 22nd inclusive.\nClub members: Make sure to reserve your favourite site by booking early! Members have received additional information regarding early booking. Please check your inbox! \nYou must be a member of ATVBC and Wells Wheels ATV Club to participate in any events or activities organized by the Club. This way\, all members are covered under ATVBC’s insurance.\nVisit https://atvbc.ca/join-atvbc/ to join us\, make sure to choose Wells Wheels ATV Club as one of your local clubs.\nHope you will join us! \nA few club members will be exploring the trails beforehand\, and will have a good idea where maintenance will be required.\nAlthough not all of you can make it for the whole week\, you are welcome to join us whenever possible. You can connect with our club from our Facebook page\, website or Instagram for updated news and upcoming events. \nTentative Schedule…\nTuesday\, July 14 – Arriving\, Set-up & Welcome Members\nWednesday\, July 15 & Thursday\, July 16 – Trail maintenance\nFriday\, July 17 – Club Ride to Stony Lake to meet the PG Groups\nSaturday\, July 18 – Host the PG Club Group Rides\nSunday\, July 19 – Relax Day/short ride\nMonday\, July 20 – Trail Maintenance/Ride\nTuesday\, July 21 – Group ride – Destination TBD\nWednesday\, July 22 – Safe Travels
URL:https://whatsupinwells.com/event/wells-wheels-atv-club-campout/
LOCATION:BC
CATEGORIES:Outdoor Recreation,Wells
ATTACH;FMTTYPE=image/jpeg:https://whatsupinwells.com/wp-content/uploads/2026/04/590379157_122197971794551322_4081654288793937295_n.jpg
END:VEVENT
BEGIN:VEVENT
DTSTART;TZID=America/Vancouver:20260718T210000
DTEND;TZID=America/Vancouver:20260718T233000
DTSTAMP:20260424T161410
CREATED:20251126T162905Z
LAST-MODIFIED:20251126T162911Z
UID:10003051-1784408400-1784417400@whatsupinwells.com
SUMMARY:Karaoke Night
DESCRIPTION:Every Saturday from 9 pm to late
URL:https://whatsupinwells.com/event/karaoke-night-4-2/2026-07-18/
LOCATION:Jack O’ Club Restaurant & Pub\, 12383 Hwy 27 E.\, Wells\, BC\, V0K2R0\, Canada
CATEGORIES:19+,Music,Wells
END:VEVENT
BEGIN:VEVENT
DTSTART;TZID=America/Vancouver:20260719T160000
DTEND;TZID=America/Vancouver:20260719T180000
DTSTAMP:20260424T161410
CREATED:20251126T163004Z
LAST-MODIFIED:20251126T163006Z
UID:10003959-1784476800-1784484000@whatsupinwells.com
SUMMARY:Pickleball at the Hall
DESCRIPTION:8 pm and Sundays from 4-6 pm at the Community hall. No experience required\, all you need is a clean pair of shoes. The drop in fee is $3
URL:https://whatsupinwells.com/event/pickleball-at-the-hall-3-2/2026-07-19/
LOCATION:Wells Community Hall\, 4269 Sanders Ave\, Wells\, BC\, V0K2R0\, Canada
CATEGORIES:Outdoor Recreation,Wells
END:VEVENT
BEGIN:VEVENT
DTSTART;TZID=America/Vancouver:20260725T210000
DTEND;TZID=America/Vancouver:20260725T233000
DTSTAMP:20260424T161410
CREATED:20251126T162905Z
LAST-MODIFIED:20251126T162911Z
UID:10003052-1785013200-1785022200@whatsupinwells.com
SUMMARY:Karaoke Night
DESCRIPTION:Every Saturday from 9 pm to late
URL:https://whatsupinwells.com/event/karaoke-night-4-2/2026-07-25/
LOCATION:Jack O’ Club Restaurant & Pub\, 12383 Hwy 27 E.\, Wells\, BC\, V0K2R0\, Canada
CATEGORIES:19+,Music,Wells
END:VEVENT
BEGIN:VEVENT
DTSTART;VALUE=DATE:20260726
DTEND;VALUE=DATE:20260801
DTSTAMP:20260424T161410
CREATED:20260424T183132Z
LAST-MODIFIED:20260424T183132Z
UID:10004142-1785038400-1785470399@whatsupinwells.com
SUMMARY:Jam Camp in the Mountains
DESCRIPTION:Sign up today to bring your family and friends to Jam Camp in the Mountains in beautiful Wells. Create music with us in the alpine meadows of our small community! Stay in your tent or RV\, or choose from many lodging options in Wells and Barkerville. \nCamp activities will be in the Wells School and outside during good weather. You can join us no matter your age or musical ability – beginner and experienced musicians are all welcome. There will be many workshop and lesson choices for you to enjoy. \nThis year\, Jam Camp in the Mountains is partnering with Island Mountain Arts\, an organization with almost 50 years of history. They are leaders in the arts community in BC who host the ArtsWells Festival\, arts workshops\, artist residencies\, and a public gallery\, and partner with organizations like the Jam Camp Society. Learn more about Island Mountain Arts here. \nJam Camp in the Mountains is \n1 hour from Quesnel\, \n2 hours from Prince George\, and \n10 minutes from Barkerville Historic Site. \nDates\nJam Camp will begin on Sunday\, July 26. Campers are invited to arrive in Wells late morning or early afternoon and be set up by 5 pm. Our first official camp activity is the Welcome Potluck that evening. \nOur final performance takes place on the evening of Thursday\, July 30\, and Jam Camp ends on Friday\, July 31. Friday is a free day for packing up camp\, saying goodbyes\, and taking your last stroll in the area before you go. \nThe full schedule of the week’s events will be sent out closer to the date\, and will be similarly structured to those of past camps. Morning activities will start around 9am. Activities include full group workshops\, small group lessons\, and songwriting/musical project groups. Days include a lunch & leisure break\, a dinner & leisure break\, and evening activities wrapping up around 9pm. \nRegistration Fees\nAll folks participating in Jam Camp aged 4 and up will pay a sliding scale registration fee of $200 to $500 CAD per person. \nJam Camp fees cover 4.5 days of workshops\, activities\, and instruction. \nFees do not cover food or accommodation. Groups must make their own arrangements for accommodation (see Accommodation section below) and are responsible for their own meals. Campers can make their own food or visit local restaurants. \nThe sliding scale allows campers to choose the payment that suits their family or group best. If you are able to pay more than the base fee per person\, that will help keep camp affordable for everyone. \nNotes: \nE-transfer is the simplest way to pay for your registration. \nIf you pay via PayPal\, PayPal will charge a fee of approximately 3% of your total registration & camping fees. \nYou may also choose to help subsidize registration for a low-income attendee\, or to support the non-profit Jam Camp Society.
URL:https://whatsupinwells.com/event/jam-camp-in-the-mountains/
LOCATION:Island Mountain Arts Studios\, Mildred Ave\, Wells\, V0K 2R0
CATEGORIES:Arts,Education,Music,Wells
ATTACH;FMTTYPE=image/jpeg:https://whatsupinwells.com/wp-content/uploads/2026/04/652549105_1370381335125761_4312183584583961969_n.jpg
END:VEVENT
BEGIN:VEVENT
DTSTART;TZID=America/Vancouver:20260726T160000
DTEND;TZID=America/Vancouver:20260726T180000
DTSTAMP:20260424T161410
CREATED:20251126T163004Z
LAST-MODIFIED:20251126T163006Z
UID:10003960-1785081600-1785088800@whatsupinwells.com
SUMMARY:Pickleball at the Hall
DESCRIPTION:8 pm and Sundays from 4-6 pm at the Community hall. No experience required\, all you need is a clean pair of shoes. The drop in fee is $3
URL:https://whatsupinwells.com/event/pickleball-at-the-hall-3-2/2026-07-26/
LOCATION:Wells Community Hall\, 4269 Sanders Ave\, Wells\, BC\, V0K2R0\, Canada
CATEGORIES:Outdoor Recreation,Wells
END:VEVENT
BEGIN:VEVENT
DTSTART;TZID=America/Vancouver:20260801T210000
DTEND;TZID=America/Vancouver:20260801T233000
DTSTAMP:20260424T161410
CREATED:20251126T162905Z
LAST-MODIFIED:20251126T162911Z
UID:10003053-1785618000-1785627000@whatsupinwells.com
SUMMARY:Karaoke Night
DESCRIPTION:Every Saturday from 9 pm to late
URL:https://whatsupinwells.com/event/karaoke-night-4-2/2026-08-01/
LOCATION:Jack O’ Club Restaurant & Pub\, 12383 Hwy 27 E.\, Wells\, BC\, V0K2R0\, Canada
CATEGORIES:19+,Music,Wells
END:VEVENT
BEGIN:VEVENT
DTSTART;TZID=America/Vancouver:20260802T160000
DTEND;TZID=America/Vancouver:20260802T180000
DTSTAMP:20260424T161410
CREATED:20251126T163004Z
LAST-MODIFIED:20251126T163006Z
UID:10003961-1785686400-1785693600@whatsupinwells.com
SUMMARY:Pickleball at the Hall
DESCRIPTION:8 pm and Sundays from 4-6 pm at the Community hall. No experience required\, all you need is a clean pair of shoes. The drop in fee is $3
URL:https://whatsupinwells.com/event/pickleball-at-the-hall-3-2/2026-08-02/
LOCATION:Wells Community Hall\, 4269 Sanders Ave\, Wells\, BC\, V0K2R0\, Canada
CATEGORIES:Outdoor Recreation,Wells
END:VEVENT
END:VCALENDAR