BEGIN:VCALENDAR
VERSION:2.0
PRODID:-//What&#039;s Up in Wells - ECPv6.15.20//NONSGML v1.0//EN
CALSCALE:GREGORIAN
METHOD:PUBLISH
X-WR-CALNAME:What&#039;s Up in Wells
X-ORIGINAL-URL:https://whatsupinwells.com
X-WR-CALDESC:Events for What&#039;s Up in Wells
REFRESH-INTERVAL;VALUE=DURATION:PT1H
X-Robots-Tag:noindex
X-PUBLISHED-TTL:PT1H
BEGIN:VTIMEZONE
TZID:America/Vancouver
BEGIN:DAYLIGHT
TZOFFSETFROM:-0800
TZOFFSETTO:-0700
TZNAME:PDT
DTSTART:20220313T100000
END:DAYLIGHT
BEGIN:STANDARD
TZOFFSETFROM:-0700
TZOFFSETTO:-0800
TZNAME:PST
DTSTART:20221106T090000
END:STANDARD
BEGIN:DAYLIGHT
TZOFFSETFROM:-0800
TZOFFSETTO:-0700
TZNAME:PDT
DTSTART:20230312T100000
END:DAYLIGHT
BEGIN:STANDARD
TZOFFSETFROM:-0700
TZOFFSETTO:-0800
TZNAME:PST
DTSTART:20231105T090000
END:STANDARD
BEGIN:DAYLIGHT
TZOFFSETFROM:-0800
TZOFFSETTO:-0700
TZNAME:PDT
DTSTART:20240310T100000
END:DAYLIGHT
BEGIN:STANDARD
TZOFFSETFROM:-0700
TZOFFSETTO:-0800
TZNAME:PST
DTSTART:20241103T090000
END:STANDARD
END:VTIMEZONE
BEGIN:VEVENT
DTSTART;VALUE=DATE:20230419
DTEND;VALUE=DATE:20230421
DTSTAMP:20260425T200815
CREATED:20230413T014202Z
LAST-MODIFIED:20230413T014202Z
UID:10000824-1681876800-1681963199@whatsupinwells.com
SUMMARY:National Canadian Film Day at the Sunset Theatre
DESCRIPTION:To celebrate Canadian Films we will be hosting a day of all Canadian Film Screenings at the Sunset Theatre in Wells along with hundreds of Theatres across Canada for the All You Can Watch Buffet.\nBox Office will open at 11:30AM on April 19th. \nTickets: Pay What You Can\nHere’s our Line Up of Canadian Films for #CanFilmDay \n12PM – Long Time Running (2017)\nA chronicle of The Tragically Hip’s Final 2016 tour.\n \n2PM – Viking (2022)\nThe Viking Society is recruiting volunteers for the first manned mission to Mars. The goal is to form a B-team that will mirror the mission here on Earth in order to find solutions to the interpersonal problems that the Mars-bound crew is experiencing. The film tells the story of David\, a high school gym teacher\, who seizes this opportunity to revive his dream of becoming an astronaut and making a difference. Viking is a little absurd\, falling somewhere between a high-concept comedy and a straight up allegorical tale. It’s a story about the gap between our dreams and reality.\nhttps://www.rottentomatoes.com/m/viking_2022 \n4PM – Scarborough (2022)\nThree children become friends while living in a low-income neighbourhood.\n \n7PM – First We Eat (2020) • Hot Docs\nLiving just south of the Arctic Circle\, filmmaker Suzanne Crocker and her skeptical family attempt to ban all grocery store food for one year.\n \n9PM – I Like Movies (2022)\nSocially inept 17-year-old cinephile\, Lawrence Kweller (Isaiah Lehtinen) gets a job at a video store\, where he forms a complicated friendship with his older female manager.\n \n#CanFilmDay 2023!\nHelp us celebrate Canadian Films on National Canadian Film Day!
URL:https://whatsupinwells.com/event/national-canadian-film-day-at-the-sunset-theatre/
LOCATION:Sunset Theatre\, 2357 Pooley St.\, Wells\, BC\, v0k2r0\, Canada
CATEGORIES:Theatre,Wells
ATTACH;FMTTYPE=image/jpeg:https://whatsupinwells.com/wp-content/uploads/2023/04/canadian-national-film-day.jpg
END:VEVENT
END:VCALENDAR