BEGIN:VCALENDAR
VERSION:2.0
PRODID:-//What&#039;s Up in Wells - ECPv6.15.20//NONSGML v1.0//EN
CALSCALE:GREGORIAN
METHOD:PUBLISH
X-ORIGINAL-URL:https://whatsupinwells.com
X-WR-CALDESC:Events for What&#039;s Up in Wells
REFRESH-INTERVAL;VALUE=DURATION:PT1H
X-Robots-Tag:noindex
X-PUBLISHED-TTL:PT1H
BEGIN:VTIMEZONE
TZID:America/Vancouver
BEGIN:DAYLIGHT
TZOFFSETFROM:-0800
TZOFFSETTO:-0700
TZNAME:PDT
DTSTART:20220313T100000
END:DAYLIGHT
BEGIN:STANDARD
TZOFFSETFROM:-0700
TZOFFSETTO:-0800
TZNAME:PST
DTSTART:20221106T090000
END:STANDARD
BEGIN:DAYLIGHT
TZOFFSETFROM:-0800
TZOFFSETTO:-0700
TZNAME:PDT
DTSTART:20230312T100000
END:DAYLIGHT
BEGIN:STANDARD
TZOFFSETFROM:-0700
TZOFFSETTO:-0800
TZNAME:PST
DTSTART:20231105T090000
END:STANDARD
BEGIN:DAYLIGHT
TZOFFSETFROM:-0800
TZOFFSETTO:-0700
TZNAME:PDT
DTSTART:20240310T100000
END:DAYLIGHT
BEGIN:STANDARD
TZOFFSETFROM:-0700
TZOFFSETTO:-0800
TZNAME:PST
DTSTART:20241103T090000
END:STANDARD
END:VTIMEZONE
BEGIN:VEVENT
DTSTART;VALUE=DATE:20230701
DTEND;VALUE=DATE:20230703
DTSTAMP:20260425T150557
CREATED:20230628T150432Z
LAST-MODIFIED:20230628T150504Z
UID:10001011-1688184000-1688270399@whatsupinwells.com
SUMMARY:Barkerville's Dominion Day Games and Theatre Royal Opening
DESCRIPTION:THEATRE ROYAL\n2:00pm Daily \nAn hour of music\, comedy\, and fun for the entire family! Box office is open 10am-2pm daily. \nTHEATRE ADMISSION PRICES\nGeneral: $20.00\nSeniors: $17.00\nYouth (3-12): $10.00\nChildren 3 and under: FREE \nDominion Day 2023 Schedule\nAll-day when the door is open:\nBlacksmith Shop #20\nCariboo Sentinel #54\nChinese cultural sessions #64\nIndigenous cultural sessions #44 \nTours & Programs:\n9:00 Drum Circle (15 min) #4B\n9:15 Amazing Tales (30 min) #88b\n10:00 Guided Town Tour (75 min) #4b\n11:30 Chinese School Lesson (30 min) #91\n11:50 Parade – Church to Brewery #12\n12:00 Dominion Day Games (2 hours) #91\n1:00 Mining Law in the Cariboo (30 min) #7\n1:15 Victorian School Lesson (30 min) #13\n2:00 Archaeology in Barkerville (2 hrs) #48 (Sat./Sun./Thurs.)\n2:00 Waterwheel Show (30 min) #83\n2:45 Chinatown Tour (60 min) #63\n4:00 Grand Opening of the Theatre Royal (60 min) #50\n5:30 End of Day Drum Circle (15 min) #45\n7:00 Evening Festivities at House Hotel #39
URL:https://whatsupinwells.com/event/barkervilles-dominion-day-games-and-theatre-royal-opening/
LOCATION:Barkerville Historic Town & Park\, 14301 Hwy 26 E.\, Barkerville\, BC\, V0K2R0\, Canada
CATEGORIES:Barkerville,Outdoor Recreation,Theatre
ATTACH;FMTTYPE=image/jpeg:https://whatsupinwells.com/wp-content/uploads/2023/06/dominion-day.jpg
END:VEVENT
BEGIN:VEVENT
DTSTART;TZID=America/Vancouver:20230706T200000
DTEND;TZID=America/Vancouver:20230706T210000
DTSTAMP:20260425T150557
CREATED:20230520T161247Z
LAST-MODIFIED:20230520T161424Z
UID:10000896-1688673600-1688677200@whatsupinwells.com
SUMMARY:Tomatoes Tried to Kill Me But Banjos Saved My Life
DESCRIPTION:Tomatoes Tried to Kill Me But Banjos Saved My Life is a heartfelt passion project that began in 2018 as a nudge after Keith Alessi’s life took a major turn. He shares his exceptional true story of leaving the corporate world behind to follow his true passion—playing the banjo!\nWhen faced with a cancer battle\, his lifelong dream becomes the key to saving his life. Told through authentic storytelling\, heartfelt humour and music\, this highly awarded\, internationally toured show is an uplifting story of challenge\, triumph\, and the power of positivity. \nThis intimate experience is one sure to leave you feeling empowered\, inspired\, and ready to dust off your own long forgotten dreams. \nIt has been Keith’s mission to raise money for causes close to his heart including various cancer charities. He has performed the show over 250 times and has donated 100% of his artist fees and as of December 2022 has raised over $600\,000.
URL:https://whatsupinwells.com/event/tomatoes-tried-to-kill-me-but-banjos-saved-my-life/2023-07-06/
LOCATION:Sunset Theatre\, 2357 Pooley St.\, Wells\, BC\, v0k2r0\, Canada
CATEGORIES:Music,Theatre,Wells
ATTACH;FMTTYPE=image/jpeg:https://whatsupinwells.com/wp-content/uploads/2023/05/TomatoesTriedToKillMeButBanjosSavedMyLifeJuly6-7-82023final.jpg
END:VEVENT
BEGIN:VEVENT
DTSTART;TZID=America/Vancouver:20230707T200000
DTEND;TZID=America/Vancouver:20230707T210000
DTSTAMP:20260425T150557
CREATED:20230520T161247Z
LAST-MODIFIED:20230520T161424Z
UID:10000897-1688760000-1688763600@whatsupinwells.com
SUMMARY:Tomatoes Tried to Kill Me But Banjos Saved My Life
DESCRIPTION:Tomatoes Tried to Kill Me But Banjos Saved My Life is a heartfelt passion project that began in 2018 as a nudge after Keith Alessi’s life took a major turn. He shares his exceptional true story of leaving the corporate world behind to follow his true passion—playing the banjo!\nWhen faced with a cancer battle\, his lifelong dream becomes the key to saving his life. Told through authentic storytelling\, heartfelt humour and music\, this highly awarded\, internationally toured show is an uplifting story of challenge\, triumph\, and the power of positivity. \nThis intimate experience is one sure to leave you feeling empowered\, inspired\, and ready to dust off your own long forgotten dreams. \nIt has been Keith’s mission to raise money for causes close to his heart including various cancer charities. He has performed the show over 250 times and has donated 100% of his artist fees and as of December 2022 has raised over $600\,000.
URL:https://whatsupinwells.com/event/tomatoes-tried-to-kill-me-but-banjos-saved-my-life/2023-07-07/
LOCATION:Sunset Theatre\, 2357 Pooley St.\, Wells\, BC\, v0k2r0\, Canada
CATEGORIES:Music,Theatre,Wells
ATTACH;FMTTYPE=image/jpeg:https://whatsupinwells.com/wp-content/uploads/2023/05/TomatoesTriedToKillMeButBanjosSavedMyLifeJuly6-7-82023final.jpg
END:VEVENT
BEGIN:VEVENT
DTSTART;TZID=America/Vancouver:20230708T200000
DTEND;TZID=America/Vancouver:20230708T210000
DTSTAMP:20260425T150557
CREATED:20230520T161247Z
LAST-MODIFIED:20230520T161424Z
UID:10000898-1688846400-1688850000@whatsupinwells.com
SUMMARY:Tomatoes Tried to Kill Me But Banjos Saved My Life
DESCRIPTION:Tomatoes Tried to Kill Me But Banjos Saved My Life is a heartfelt passion project that began in 2018 as a nudge after Keith Alessi’s life took a major turn. He shares his exceptional true story of leaving the corporate world behind to follow his true passion—playing the banjo!\nWhen faced with a cancer battle\, his lifelong dream becomes the key to saving his life. Told through authentic storytelling\, heartfelt humour and music\, this highly awarded\, internationally toured show is an uplifting story of challenge\, triumph\, and the power of positivity. \nThis intimate experience is one sure to leave you feeling empowered\, inspired\, and ready to dust off your own long forgotten dreams. \nIt has been Keith’s mission to raise money for causes close to his heart including various cancer charities. He has performed the show over 250 times and has donated 100% of his artist fees and as of December 2022 has raised over $600\,000.
URL:https://whatsupinwells.com/event/tomatoes-tried-to-kill-me-but-banjos-saved-my-life/2023-07-08/
LOCATION:Sunset Theatre\, 2357 Pooley St.\, Wells\, BC\, v0k2r0\, Canada
CATEGORIES:Music,Theatre,Wells
ATTACH;FMTTYPE=image/jpeg:https://whatsupinwells.com/wp-content/uploads/2023/05/TomatoesTriedToKillMeButBanjosSavedMyLifeJuly6-7-82023final.jpg
END:VEVENT
BEGIN:VEVENT
DTSTART;TZID=America/Vancouver:20230709T180000
DTEND;TZID=America/Vancouver:20230709T200000
DTSTAMP:20260425T150557
CREATED:20230604T165626Z
LAST-MODIFIED:20230604T165930Z
UID:10000968-1688925600-1688932800@whatsupinwells.com
SUMMARY:Trivia Night: the Wells of Knowledge
DESCRIPTION:Join us for weekly trivia hosted by local writer\, actor\, and generally entertaining guy\, Ryan Schmitt.
URL:https://whatsupinwells.com/event/trivia-night-the-wells-of-knowledge/2023-07-09/
LOCATION:The Wells Hotel\, 2341 Pooley St.\, Wells\, BC\, V0k2R0\, Canada
CATEGORIES:Education,Free,Theatre,Wells
ATTACH;FMTTYPE=image/jpeg:https://whatsupinwells.com/wp-content/uploads/2023/05/trivia-night.jpg
END:VEVENT
BEGIN:VEVENT
DTSTART;TZID=America/Vancouver:20230714T200000
DTEND;TZID=America/Vancouver:20230714T210000
DTSTAMP:20260425T150557
CREATED:20230628T145044Z
LAST-MODIFIED:20230628T145044Z
UID:10001007-1689364800-1689368400@whatsupinwells.com
SUMMARY:Sawney's Legacy
DESCRIPTION:Sawney’s Legacy tells the story of James Anderson\, the first published poet of note in British Columbia. \nThis play is written and performed by Brendan Bailey with Direction by Dirk Van Stralen. It was developed in part through The Sunset Theatre’s annual Exploration Series\, and will be presented once a month this summer on June 30th\, July 14th and August 25th. \nAbout the Poet: James Anderson was the first published poet of note in British Columbia. His Sawney’s Letters and Cariboo Rhymes has been of tremendous historical relevance and is quoted regularly in publications regarding the Cariboo Gold Rush. Born in 1835\, raised and educated in Scotland at the prestigious Dollar Academy\, and one of fifteen children\, he became lord for the Anderson family estate. While resident along Williams Creek during the Cariboo Gold Rush\, he was involved as an owner\, investor\, and labourer in a number of mining pursuits\, but was also heavily involved in many community and social endeavours and was notably respected and well-liked\, particularly for his legal aptitude\, commentative verse\, and singing voice. \nCONTENT WARNING: Sawney’s Legacy is a period piece and explores privileged views of the nineteenth century Caucasian society\, as well as addressing adult themes around family trauma and bias. \nSawney’s Legacy runs approximately 60 minutes in length. \nPlaywright/Researcher/Performer: Brendan Bailey \nProduction Manager/Stage Manager/Lighting Design: Emily Lindstrom \nDirector and Poster Design: Dirk Van Stralen \nResearch and Historical Consultant: Richard Thomas Wright \nIndigenous Consultants: Cheryl Chapman and Mike Retasket \nChinese Consultant: Dr. Ying-Ying Chen \nTheology Consultants: David and Michelle Lieffertz \nCariboo Lodge #4 Consultant: Neil Vant \nNoble Players Logo (design\, image\, and intellectual property): Caitlin Bailey \nCover and Poster Image: Emily Lindstrom \nCostume Advisors and Wardrobe Support: Michelle Lieffertz and Patti Bailey \nHISTORICAL NOTES: The historic dates and events are (or are as close of an educated assumption to) documented\, sourced\, and cited fact. In writing this play\, the playwright has worked within the given historical circumstances and drawn from historic publications to breathe life to fact. \nNoble Players Theatrics is a Canadian production company focused on sharing stories connected to our historic gold rushes. Noble refers to the properties of gold which we feel serve as an effective metaphor for artistic integrity and entertainment value. \nContact: nobleplayerstheatrics@gmail.com
URL:https://whatsupinwells.com/event/sawneys-legacy/2023-07-14/
LOCATION:Sunset Theatre\, 2357 Pooley St.\, Wells\, BC\, v0k2r0\, Canada
CATEGORIES:Arts,Theatre,Wells
ATTACH;FMTTYPE=image/jpeg:https://whatsupinwells.com/wp-content/uploads/2023/06/sawneys.jpg
END:VEVENT
BEGIN:VEVENT
DTSTART;TZID=America/Vancouver:20230715T200000
DTEND;TZID=America/Vancouver:20230715T213000
DTSTAMP:20260425T150557
CREATED:20230628T145329Z
LAST-MODIFIED:20230628T145329Z
UID:10001009-1689451200-1689456600@whatsupinwells.com
SUMMARY:Jake's Gift
DESCRIPTION:Jake’s Gift returns to the Sunset Theatre stage this summer on Saturday\, July 15th and Friday\, September 8th. This multi-award winning play is written and performed by Julia Mackey and Directed by Dirk Van Stralen. It was one of three plays to come out of our inaugural Exploration Series in 2006. \nSynopsis: \nJake’s Gift is a surprisingly funny drama about a Canadian WW2 veteran’s reluctant return to Normandy for the 60th Anniversary of D-Day. \nWhile revisiting the shores of Juno beach\, Jake encounters Isabelle\, a precocious 10-year-old from the local village. Isabelle’s inquisitive nature and charm challenge the old soldier to confront some long-ignored ghosts – most notably the war-time death of his eldest brother\, Chester\, a once promising young musician. \nAt its heart\, Jake’s Gift is about the legacy of remembrance and makes personal the story behind one soldier’s grave. \nWritten & Performed by Julia Mackey \nDirected by Dirk Van Stralen \nwww.jakesgift.com \nThe show is 1 Act and runs 65 minutes with no intermission. \nTickets are $20 for Adults\, $18 for Sunset Theatre Members and $10 for Teens and Kids. The play is recommended for Ages 10 +
URL:https://whatsupinwells.com/event/jakes-gift-2/2023-07-15/
LOCATION:Sunset Theatre\, 2357 Pooley St.\, Wells\, BC\, v0k2r0\, Canada
CATEGORIES:Theatre,Wells
ATTACH;FMTTYPE=image/jpeg:https://whatsupinwells.com/wp-content/uploads/2023/06/jakes-gitf.jpg
END:VEVENT
BEGIN:VEVENT
DTSTART;TZID=America/Vancouver:20230721T200000
DTEND;TZID=America/Vancouver:20230721T210000
DTSTAMP:20260425T150557
CREATED:20230520T161613Z
LAST-MODIFIED:20230711T182237Z
UID:10000899-1689969600-1689973200@whatsupinwells.com
SUMMARY:LittleFox • An Evening of Music with Alison Jenkins
DESCRIPTION:LittleFox features the original songs of singer/multi-instrumentalist Alison Jenkins. Her first EP\, Desire Lines\, was released in Spring 2022\, and her second EP\, Ghost In This House\, produced and recorded by World Peach Records\, will be released in May 2023. With vocals that can leap from high and ethereal to a whiskey-soaked gutpunch- often in a single song- LittleFox explores genres from folk/pop to bluegrass to blues\, featuring thoughtful original songs about love\, longing\, belonging\, women\, urban history\, and finding your way in strange times. \nABOUT THE ARTIST\nLittleFox features the original songs of singer/multi-instrumentalist Alison Jenkins. Her first EP\, Desire Lines\, was released in Spring 2022\, and her second EP\, Ghost In This House\, produced and recorded by World Peach Records\, will be released in 2023. With vocals that can leap from high and ethereal to a whiskey-soaked gutpunch- often in a single song- LittleFox explores genres from folk/pop to bluegrass to blues. Guided by the textures of violin\, pedal steel\, accordion\, ukulele\, and banjo\, and locked in by a rock-solid rhythm section\, Jenkins’ thoughtful original songs are about love\, longing\, belonging\, missing and murdered women\, urban history\, and finding your way in strange times. \nAlison has played and sung with many groups\, including Something about Reptiles\, Flying Folk Army\, Zeellia\, and Lone Crow Jubilee. She is also a professional sound designer\, composer\, actor\, and music director for live theatre\, performing in shows as varied asOnce (Arts Club Theatre\, Vancouver)\, Bad Hat Theatre’s Peter Pan (Carousel Theatre\, Vancouver)\, and Fiddler on the Roof (Persephone Theatre\, Saskatchewan). \nLittleFox was born during the pandemic of 2020 when Jenkins focused first on songwriting\, then began turning her songs and demo recordings into EPs and a live band. A singer and multi-instrumentalist\, she plays clawhammer banjo\, accordion and ukulele live\, and also plays bass and percussion on recordings. LittleFox performs live in several configurations\, from solo to trio to a five-piece. \nThe current band lineup consists of: Alison Jenkins (lead vocals\, ukulele\, banjo\, accordion)\, Allan Haley (pedal steel\, mandolin)\, Masae Day (violin\, vocals)\, Alex Marr (drums)\, and David Marr (electric bass\, vocals). \nContact: littlefox604@gmail.com
URL:https://whatsupinwells.com/event/littlefox-an-evening-of-music-with-alison-jenkins/2023-07-21/
LOCATION:Sunset Theatre\, 2357 Pooley St.\, Wells\, BC\, v0k2r0\, Canada
CATEGORIES:Music,Theatre
ATTACH;FMTTYPE=image/jpeg:https://whatsupinwells.com/wp-content/uploads/2023/05/LittleFoxConcert-July20-212023final.jpg
END:VEVENT
BEGIN:VEVENT
DTSTART;TZID=America/Vancouver:20230722T200000
DTEND;TZID=America/Vancouver:20230722T210000
DTSTAMP:20260425T150557
CREATED:20230520T161613Z
LAST-MODIFIED:20230711T182237Z
UID:10000900-1690056000-1690059600@whatsupinwells.com
SUMMARY:LittleFox • An Evening of Music with Alison Jenkins
DESCRIPTION:LittleFox features the original songs of singer/multi-instrumentalist Alison Jenkins. Her first EP\, Desire Lines\, was released in Spring 2022\, and her second EP\, Ghost In This House\, produced and recorded by World Peach Records\, will be released in May 2023. With vocals that can leap from high and ethereal to a whiskey-soaked gutpunch- often in a single song- LittleFox explores genres from folk/pop to bluegrass to blues\, featuring thoughtful original songs about love\, longing\, belonging\, women\, urban history\, and finding your way in strange times. \nABOUT THE ARTIST\nLittleFox features the original songs of singer/multi-instrumentalist Alison Jenkins. Her first EP\, Desire Lines\, was released in Spring 2022\, and her second EP\, Ghost In This House\, produced and recorded by World Peach Records\, will be released in 2023. With vocals that can leap from high and ethereal to a whiskey-soaked gutpunch- often in a single song- LittleFox explores genres from folk/pop to bluegrass to blues. Guided by the textures of violin\, pedal steel\, accordion\, ukulele\, and banjo\, and locked in by a rock-solid rhythm section\, Jenkins’ thoughtful original songs are about love\, longing\, belonging\, missing and murdered women\, urban history\, and finding your way in strange times. \nAlison has played and sung with many groups\, including Something about Reptiles\, Flying Folk Army\, Zeellia\, and Lone Crow Jubilee. She is also a professional sound designer\, composer\, actor\, and music director for live theatre\, performing in shows as varied asOnce (Arts Club Theatre\, Vancouver)\, Bad Hat Theatre’s Peter Pan (Carousel Theatre\, Vancouver)\, and Fiddler on the Roof (Persephone Theatre\, Saskatchewan). \nLittleFox was born during the pandemic of 2020 when Jenkins focused first on songwriting\, then began turning her songs and demo recordings into EPs and a live band. A singer and multi-instrumentalist\, she plays clawhammer banjo\, accordion and ukulele live\, and also plays bass and percussion on recordings. LittleFox performs live in several configurations\, from solo to trio to a five-piece. \nThe current band lineup consists of: Alison Jenkins (lead vocals\, ukulele\, banjo\, accordion)\, Allan Haley (pedal steel\, mandolin)\, Masae Day (violin\, vocals)\, Alex Marr (drums)\, and David Marr (electric bass\, vocals). \nContact: littlefox604@gmail.com
URL:https://whatsupinwells.com/event/littlefox-an-evening-of-music-with-alison-jenkins/2023-07-22/
LOCATION:Sunset Theatre\, 2357 Pooley St.\, Wells\, BC\, v0k2r0\, Canada
CATEGORIES:Music,Theatre
ATTACH;FMTTYPE=image/jpeg:https://whatsupinwells.com/wp-content/uploads/2023/05/LittleFoxConcert-July20-212023final.jpg
END:VEVENT
BEGIN:VEVENT
DTSTART;TZID=America/Vancouver:20230723T180000
DTEND;TZID=America/Vancouver:20230723T200000
DTSTAMP:20260425T150557
CREATED:20230604T165626Z
LAST-MODIFIED:20230604T165930Z
UID:10000969-1690135200-1690142400@whatsupinwells.com
SUMMARY:Trivia Night: the Wells of Knowledge
DESCRIPTION:Join us for weekly trivia hosted by local writer\, actor\, and generally entertaining guy\, Ryan Schmitt.
URL:https://whatsupinwells.com/event/trivia-night-the-wells-of-knowledge/2023-07-23/
LOCATION:The Wells Hotel\, 2341 Pooley St.\, Wells\, BC\, V0k2R0\, Canada
CATEGORIES:Education,Free,Theatre,Wells
ATTACH;FMTTYPE=image/jpeg:https://whatsupinwells.com/wp-content/uploads/2023/05/trivia-night.jpg
END:VEVENT
END:VCALENDAR