BEGIN:VCALENDAR
VERSION:2.0
PRODID:-//What&#039;s Up in Wells - ECPv6.15.20//NONSGML v1.0//EN
CALSCALE:GREGORIAN
METHOD:PUBLISH
X-WR-CALNAME:What&#039;s Up in Wells
X-ORIGINAL-URL:https://whatsupinwells.com
X-WR-CALDESC:Events for What&#039;s Up in Wells
REFRESH-INTERVAL;VALUE=DURATION:PT1H
X-Robots-Tag:noindex
X-PUBLISHED-TTL:PT1H
BEGIN:VTIMEZONE
TZID:America/Vancouver
BEGIN:DAYLIGHT
TZOFFSETFROM:-0800
TZOFFSETTO:-0700
TZNAME:PDT
DTSTART:20220313T100000
END:DAYLIGHT
BEGIN:STANDARD
TZOFFSETFROM:-0700
TZOFFSETTO:-0800
TZNAME:PST
DTSTART:20221106T090000
END:STANDARD
BEGIN:DAYLIGHT
TZOFFSETFROM:-0800
TZOFFSETTO:-0700
TZNAME:PDT
DTSTART:20230312T100000
END:DAYLIGHT
BEGIN:STANDARD
TZOFFSETFROM:-0700
TZOFFSETTO:-0800
TZNAME:PST
DTSTART:20231105T090000
END:STANDARD
BEGIN:DAYLIGHT
TZOFFSETFROM:-0800
TZOFFSETTO:-0700
TZNAME:PDT
DTSTART:20240310T100000
END:DAYLIGHT
BEGIN:STANDARD
TZOFFSETFROM:-0700
TZOFFSETTO:-0800
TZNAME:PST
DTSTART:20241103T090000
END:STANDARD
END:VTIMEZONE
BEGIN:VEVENT
DTSTART;TZID=America/Vancouver:20230803T200000
DTEND;TZID=America/Vancouver:20230803T220000
DTSTAMP:20260425T132012
CREATED:20230823T202509Z
LAST-MODIFIED:20230823T202509Z
UID:10001353-1691092800-1691100000@whatsupinwells.com
SUMMARY:Sunset Cabaret
DESCRIPTION:We mark the Labour Day Weekend with our always popular Sunset Cabaret; an evening of music\, song and sketch comedy\, all written and performed by local actors and musicians\, and poets. \nShowtime starts at 8PM – 2 acts @ 45 minutes each. \nPlease note that the Content is usually adult in nature\, especially in the 2nd act. PG for sure. \n 
URL:https://whatsupinwells.com/event/sunset-cabaret-2/
LOCATION:Sunset Theatre\, 2357 Pooley St.\, Wells\, BC\, v0k2r0\, Canada
CATEGORIES:Arts,Music,Theatre,Wells
ATTACH;FMTTYPE=image/png:https://whatsupinwells.com/wp-content/uploads/2023/07/cabaretseasonposter2023.png
END:VEVENT
BEGIN:VEVENT
DTSTART;TZID=America/Vancouver:20230803T200000
DTEND;TZID=America/Vancouver:20230803T233000
DTSTAMP:20260425T132012
CREATED:20230728T164021Z
LAST-MODIFIED:20230728T164021Z
UID:10001343-1691092800-1691105400@whatsupinwells.com
SUMMARY:SpeakEasy Sunset Cabaret!
DESCRIPTION:We kick off our 2nd Annual SpeakEasy Festival with our always popular Sunset Cabaret. An evening of song and sketch comedy\, all written and performed by local actors and musicians\, and visiting artists for the SpeakEasy Festival. \nShowtime starts at 8PM – 2 acts @ 45 minutes each then we end the evening with a late night SpeakEasy Party….but don’t tell anyone…..shhhhh Speak….easy…… \n 
URL:https://whatsupinwells.com/event/speakeasy-sunset-cabaret/
LOCATION:Sunset Theatre\, 2357 Pooley St.\, Wells\, BC\, v0k2r0\, Canada
CATEGORIES:Arts,Music,Theatre,Wells
ATTACH;FMTTYPE=image/png:https://whatsupinwells.com/wp-content/uploads/2023/07/cabaretseasonposter2023.png
END:VEVENT
BEGIN:VEVENT
DTSTART;TZID=America/Vancouver:20230804T193000
DTEND;TZID=America/Vancouver:20230804T203000
DTSTAMP:20260425T132012
CREATED:20230724T152002Z
LAST-MODIFIED:20230724T152002Z
UID:10001302-1691177400-1691181000@whatsupinwells.com
SUMMARY:Field Zoology 101
DESCRIPTION:RETURNING HIT! “HILARIOUS!” – Georgia Straight. “RAUCOUSLY FUNNY!” – Showbill Magazine. From Producer Mike Delamont comes award winning comedian Shawn O’Hara’s Field Zoology 101! In this introductory course Field Zoologist Brad Gooseberry shares a lifetime of “knowledge” and “experience\,” teaching you to thrive and survive in the harrowing and hilarious world of field zoology. Winner of Best Comedy at Victoria Fringe 2016. \nAbout the artist/company\nShawn O’Hara started stand-up comedy in Victoria in 2012\, and has performed at JFL NorthWest and the Rifflandia Music Festival. Since 2016 he has performed in award-winning Fringe shows Field Zoology 101 and Fake Ghost Tours. \nCredits\nShawn O’Hara – Writer/performer\nJessica Tai – Production Manager\nMike Delamont – Producer
URL:https://whatsupinwells.com/event/field-zoology-101/2023-08-04/
LOCATION:Sunset Theatre\, 2357 Pooley St.\, Wells\, BC\, v0k2r0\, Canada
CATEGORIES:Theatre,Wells
ATTACH;FMTTYPE=image/jpeg:https://whatsupinwells.com/wp-content/uploads/2023/07/field-zoology.jpg
END:VEVENT
BEGIN:VEVENT
DTSTART;TZID=America/Vancouver:20230805T193000
DTEND;TZID=America/Vancouver:20230805T203000
DTSTAMP:20260425T132012
CREATED:20230724T152002Z
LAST-MODIFIED:20230724T152002Z
UID:10001303-1691263800-1691267400@whatsupinwells.com
SUMMARY:Field Zoology 101
DESCRIPTION:RETURNING HIT! “HILARIOUS!” – Georgia Straight. “RAUCOUSLY FUNNY!” – Showbill Magazine. From Producer Mike Delamont comes award winning comedian Shawn O’Hara’s Field Zoology 101! In this introductory course Field Zoologist Brad Gooseberry shares a lifetime of “knowledge” and “experience\,” teaching you to thrive and survive in the harrowing and hilarious world of field zoology. Winner of Best Comedy at Victoria Fringe 2016. \nAbout the artist/company\nShawn O’Hara started stand-up comedy in Victoria in 2012\, and has performed at JFL NorthWest and the Rifflandia Music Festival. Since 2016 he has performed in award-winning Fringe shows Field Zoology 101 and Fake Ghost Tours. \nCredits\nShawn O’Hara – Writer/performer\nJessica Tai – Production Manager\nMike Delamont – Producer
URL:https://whatsupinwells.com/event/field-zoology-101/2023-08-05/
LOCATION:Sunset Theatre\, 2357 Pooley St.\, Wells\, BC\, v0k2r0\, Canada
CATEGORIES:Theatre,Wells
ATTACH;FMTTYPE=image/jpeg:https://whatsupinwells.com/wp-content/uploads/2023/07/field-zoology.jpg
END:VEVENT
BEGIN:VEVENT
DTSTART;TZID=America/Vancouver:20230813T190000
DTEND;TZID=America/Vancouver:20230813T210000
DTSTAMP:20260425T132012
CREATED:20230728T163647Z
LAST-MODIFIED:20230728T163719Z
UID:10000970-1691953200-1691960400@whatsupinwells.com
SUMMARY:Trivia Night: the Wells of Knowledge
DESCRIPTION:Join us for weekly trivia hosted by local writer\, actor\, and generally entertaining guy\, Ryan Schmitt.
URL:https://whatsupinwells.com/event/trivia-night-the-wells-of-knowledge-5/2023-08-13/
LOCATION:The Wells Hotel\, 2341 Pooley St.\, Wells\, BC\, V0k2R0\, Canada
CATEGORIES:Education,Free,Theatre,Wells
ATTACH;FMTTYPE=image/jpeg:https://whatsupinwells.com/wp-content/uploads/2023/05/trivia-night.jpg
END:VEVENT
BEGIN:VEVENT
DTSTART;TZID=America/Vancouver:20230826T200000
DTEND;TZID=America/Vancouver:20230826T213000
DTSTAMP:20260425T132012
CREATED:20230823T201604Z
LAST-MODIFIED:20230823T201604Z
UID:10001351-1693080000-1693085400@whatsupinwells.com
SUMMARY:Courtin vs. Keaton
DESCRIPTION:Patrick Courtin performs original piano accompaniment live to three Buster Keaton short films (The Scarecrow\, Cops and One Week).\nInterspersed between the films\, Patrick delivers a brief but captivating history about this 100-year-old art form and about the man himself\, Buster Keaton!\nThis is a wonderful film/concert hybrid that the whole family will enjoy.\nTickets:\n$20 Adults\n$18 Sunset Members\n$10 Teens/Kids\nBox Office and fully licensed concession Opens at 7:30PM. Showtime is at 8PM.\nFirst Act (@ 50 min.)\nThe Scarecrow (1920) & Cops (1922)\nIntermission (15 min.)\n2nd Act: (@35 minutes)\nOne Week (1920)
URL:https://whatsupinwells.com/event/courtin-vs-keaton-3/2023-08-26/
LOCATION:Sunset Theatre\, 2357 Pooley St.\, Wells\, BC\, v0k2r0\, Canada
CATEGORIES:Arts,Music,Theatre,Wells
ATTACH;FMTTYPE=image/jpeg:https://whatsupinwells.com/wp-content/uploads/2023/08/courtin-vs-keaton.jpg
END:VEVENT
BEGIN:VEVENT
DTSTART;TZID=America/Vancouver:20230827T190000
DTEND;TZID=America/Vancouver:20230827T210000
DTSTAMP:20260425T132012
CREATED:20230728T163647Z
LAST-MODIFIED:20230728T163719Z
UID:10001316-1693162800-1693170000@whatsupinwells.com
SUMMARY:Trivia Night: the Wells of Knowledge
DESCRIPTION:Join us for weekly trivia hosted by local writer\, actor\, and generally entertaining guy\, Ryan Schmitt.
URL:https://whatsupinwells.com/event/trivia-night-the-wells-of-knowledge-5/2023-08-27/
LOCATION:The Wells Hotel\, 2341 Pooley St.\, Wells\, BC\, V0k2R0\, Canada
CATEGORIES:Education,Free,Theatre,Wells
ATTACH;FMTTYPE=image/jpeg:https://whatsupinwells.com/wp-content/uploads/2023/05/trivia-night.jpg
END:VEVENT
BEGIN:VEVENT
DTSTART;TZID=America/Vancouver:20230827T200000
DTEND;TZID=America/Vancouver:20230827T213000
DTSTAMP:20260425T132012
CREATED:20230823T201604Z
LAST-MODIFIED:20230823T201604Z
UID:10001352-1693166400-1693171800@whatsupinwells.com
SUMMARY:Courtin vs. Keaton
DESCRIPTION:Patrick Courtin performs original piano accompaniment live to three Buster Keaton short films (The Scarecrow\, Cops and One Week).\nInterspersed between the films\, Patrick delivers a brief but captivating history about this 100-year-old art form and about the man himself\, Buster Keaton!\nThis is a wonderful film/concert hybrid that the whole family will enjoy.\nTickets:\n$20 Adults\n$18 Sunset Members\n$10 Teens/Kids\nBox Office and fully licensed concession Opens at 7:30PM. Showtime is at 8PM.\nFirst Act (@ 50 min.)\nThe Scarecrow (1920) & Cops (1922)\nIntermission (15 min.)\n2nd Act: (@35 minutes)\nOne Week (1920)
URL:https://whatsupinwells.com/event/courtin-vs-keaton-3/2023-08-27/
LOCATION:Sunset Theatre\, 2357 Pooley St.\, Wells\, BC\, v0k2r0\, Canada
CATEGORIES:Arts,Music,Theatre,Wells
ATTACH;FMTTYPE=image/jpeg:https://whatsupinwells.com/wp-content/uploads/2023/08/courtin-vs-keaton.jpg
END:VEVENT
END:VCALENDAR