BEGIN:VCALENDAR
VERSION:2.0
PRODID:-//What&#039;s Up in Wells - ECPv6.15.20//NONSGML v1.0//EN
CALSCALE:GREGORIAN
METHOD:PUBLISH
X-ORIGINAL-URL:https://whatsupinwells.com
X-WR-CALDESC:Events for What&#039;s Up in Wells
REFRESH-INTERVAL;VALUE=DURATION:PT1H
X-Robots-Tag:noindex
X-PUBLISHED-TTL:PT1H
BEGIN:VTIMEZONE
TZID:America/Vancouver
BEGIN:DAYLIGHT
TZOFFSETFROM:-0800
TZOFFSETTO:-0700
TZNAME:PDT
DTSTART:20220313T100000
END:DAYLIGHT
BEGIN:STANDARD
TZOFFSETFROM:-0700
TZOFFSETTO:-0800
TZNAME:PST
DTSTART:20221106T090000
END:STANDARD
BEGIN:DAYLIGHT
TZOFFSETFROM:-0800
TZOFFSETTO:-0700
TZNAME:PDT
DTSTART:20230312T100000
END:DAYLIGHT
BEGIN:STANDARD
TZOFFSETFROM:-0700
TZOFFSETTO:-0800
TZNAME:PST
DTSTART:20231105T090000
END:STANDARD
BEGIN:DAYLIGHT
TZOFFSETFROM:-0800
TZOFFSETTO:-0700
TZNAME:PDT
DTSTART:20240310T100000
END:DAYLIGHT
BEGIN:STANDARD
TZOFFSETFROM:-0700
TZOFFSETTO:-0800
TZNAME:PST
DTSTART:20241103T090000
END:STANDARD
END:VTIMEZONE
BEGIN:VEVENT
DTSTART;TZID=America/Vancouver:20231012T200000
DTEND;TZID=America/Vancouver:20231012T213000
DTSTAMP:20260425T094257
CREATED:20230823T203537Z
LAST-MODIFIED:20230823T203715Z
UID:10001356-1697140800-1697146200@whatsupinwells.com
SUMMARY:Pier 21
DESCRIPTION:Pier 21 is a moving musical\, written and directed by Allen Desnoyer\, and uses a blend of Celtic and swing music to tell the stories of those who fled from Europe and arrived at Pier 21\, the gateway to Canada. \nDesnoyers said the concept for the show was something he had been thinking about for the better part of a decade. \n“When Syrian refugees began arriving in my hometown of Ladner\, B.C. in late 2016\, the tenant at my home was from Libya and became a translator to local refugees and it seemed crucial to find a way to tell a story of people fleeing a war zone\, but also make it an entertaining show\,” he said in an email interview. \nA visit to Pier 21 in Halifax in 2017 inspired him to begin writing a Celtic flavoured show that could incorporate immigrants and Second World War brides as well as swing music. \n“Finding out that Pier 21 was where the troops departed from clinched the need to focus on the (Second World War) era itself and provided the show with a clear beginning\, middle and end\,” he said. \nThe production has been embraced and has been performed close to 250 times across Canada including a visit to Pier 21 in 2019. The pandemic cancelled the show that was planned for Ottawa on the 75th anniversary of VE Day and one planned for Steinbach in spring of 2020.
URL:https://whatsupinwells.com/event/pier-21/
LOCATION:Sunset Theatre\, 2357 Pooley St.\, Wells\, BC\, v0k2r0\, Canada
CATEGORIES:Arts,Theatre,Wells
ATTACH;FMTTYPE=image/jpeg:https://whatsupinwells.com/wp-content/uploads/2023/08/pier21oct122023-scaled.jpg
END:VEVENT
END:VCALENDAR