BEGIN:VCALENDAR
VERSION:2.0
PRODID:-//What&#039;s Up in Wells - ECPv6.15.20//NONSGML v1.0//EN
CALSCALE:GREGORIAN
METHOD:PUBLISH
X-ORIGINAL-URL:https://whatsupinwells.com
X-WR-CALDESC:Events for What&#039;s Up in Wells
REFRESH-INTERVAL;VALUE=DURATION:PT1H
X-Robots-Tag:noindex
X-PUBLISHED-TTL:PT1H
BEGIN:VTIMEZONE
TZID:America/Vancouver
BEGIN:DAYLIGHT
TZOFFSETFROM:-0800
TZOFFSETTO:-0700
TZNAME:PDT
DTSTART:20220313T100000
END:DAYLIGHT
BEGIN:STANDARD
TZOFFSETFROM:-0700
TZOFFSETTO:-0800
TZNAME:PST
DTSTART:20221106T090000
END:STANDARD
BEGIN:DAYLIGHT
TZOFFSETFROM:-0800
TZOFFSETTO:-0700
TZNAME:PDT
DTSTART:20230312T100000
END:DAYLIGHT
BEGIN:STANDARD
TZOFFSETFROM:-0700
TZOFFSETTO:-0800
TZNAME:PST
DTSTART:20231105T090000
END:STANDARD
BEGIN:DAYLIGHT
TZOFFSETFROM:-0800
TZOFFSETTO:-0700
TZNAME:PDT
DTSTART:20240310T100000
END:DAYLIGHT
BEGIN:STANDARD
TZOFFSETFROM:-0700
TZOFFSETTO:-0800
TZNAME:PST
DTSTART:20241103T090000
END:STANDARD
END:VTIMEZONE
BEGIN:VEVENT
DTSTART;TZID=America/Vancouver:20231208T190000
DTEND;TZID=America/Vancouver:20231208T203000
DTSTAMP:20260425T061847
CREATED:20231208T030320Z
LAST-MODIFIED:20231208T030320Z
UID:10001663-1702062000-1702067400@whatsupinwells.com
SUMMARY:The Muppet Christmas Carol
DESCRIPTION:Help us kick off the Christmas season at the Sunset with a screening of The Muppet Christmas Carol!\nWhen: Friday December 8th @ 7PM\nTickets: $5.00\nRunning Time: 1 hour and 25 minutes\nRating: G\nGenre: Kids & family\, Holiday\, Fantasy\nDirector: Brian Henson\nThe Muppets perform the classic Dickens holiday tale\, with Kermit the Frog playing Bob Cratchit\, the put-upon clerk of stingy Ebenezer Scrooge (Michael Caine). Other Muppets — Miss Piggy\, Gonzo\, Fozzie Bear and Sam the Eagle — weave in and out of the story\, while Scrooge receives visits from spirits of three Christmases — past\, present and future. They show him the error of his self-serving ways\, but the miserable old man seems to be past any hope of redemption and happiness.\nReal Butter w/ Popcorn\nYuletide Christmas Drinks for kids and Adult Christmas Drinks for the big kids!
URL:https://whatsupinwells.com/event/the-muppet-christmas-carol/
LOCATION:Sunset Theatre\, 2357 Pooley St.\, Wells\, BC\, v0k2r0\, Canada
CATEGORIES:Theatre,Wells
ATTACH;FMTTYPE=image/jpeg:https://whatsupinwells.com/wp-content/uploads/2023/12/muppet-xmas.jpg
END:VEVENT
BEGIN:VEVENT
DTSTART;TZID=America/Vancouver:20231216T200000
DTEND;TZID=America/Vancouver:20231216T220000
DTSTAMP:20260425T061847
CREATED:20231127T043103Z
LAST-MODIFIED:20231127T043103Z
UID:10001660-1702756800-1702764000@whatsupinwells.com
SUMMARY:Christmas Cabaret
DESCRIPTION:Save the date! Our 1st Christmas Cabaret since 2018! \nJoin us for some yuletide comedy\, music and more – all created and performed by local Theatre Artists and Musicians. \nCabaret has been our main Fundraiser event for the Sunset Theatre Society since 2007! \nTickets available here $20/$18/$10
URL:https://whatsupinwells.com/event/christmas-cabaret-2/
LOCATION:Sunset Theatre\, 2357 Pooley St.\, Wells\, BC\, v0k2r0\, Canada
CATEGORIES:Theatre,Wells
ATTACH;FMTTYPE=image/jpeg:https://whatsupinwells.com/wp-content/uploads/2023/11/cabaret-christma.jpg
END:VEVENT
END:VCALENDAR