BEGIN:VCALENDAR
VERSION:2.0
PRODID:-//What&#039;s Up in Wells - ECPv6.15.20//NONSGML v1.0//EN
CALSCALE:GREGORIAN
METHOD:PUBLISH
X-WR-CALNAME:What&#039;s Up in Wells
X-ORIGINAL-URL:https://whatsupinwells.com
X-WR-CALDESC:Events for What&#039;s Up in Wells
REFRESH-INTERVAL;VALUE=DURATION:PT1H
X-Robots-Tag:noindex
X-PUBLISHED-TTL:PT1H
BEGIN:VTIMEZONE
TZID:America/Vancouver
BEGIN:DAYLIGHT
TZOFFSETFROM:-0800
TZOFFSETTO:-0700
TZNAME:PDT
DTSTART:20230312T100000
END:DAYLIGHT
BEGIN:STANDARD
TZOFFSETFROM:-0700
TZOFFSETTO:-0800
TZNAME:PST
DTSTART:20231105T090000
END:STANDARD
BEGIN:DAYLIGHT
TZOFFSETFROM:-0800
TZOFFSETTO:-0700
TZNAME:PDT
DTSTART:20240310T100000
END:DAYLIGHT
BEGIN:STANDARD
TZOFFSETFROM:-0700
TZOFFSETTO:-0800
TZNAME:PST
DTSTART:20241103T090000
END:STANDARD
BEGIN:DAYLIGHT
TZOFFSETFROM:-0800
TZOFFSETTO:-0700
TZNAME:PDT
DTSTART:20250309T100000
END:DAYLIGHT
BEGIN:STANDARD
TZOFFSETFROM:-0700
TZOFFSETTO:-0800
TZNAME:PST
DTSTART:20251102T090000
END:STANDARD
END:VTIMEZONE
BEGIN:VEVENT
DTSTART;TZID=America/Vancouver:20240613T200000
DTEND;TZID=America/Vancouver:20240613T213000
DTSTAMP:20260424T191643
CREATED:20240530T154612Z
LAST-MODIFIED:20240530T162643Z
UID:10002001-1718308800-1718314200@whatsupinwells.com
SUMMARY:Meadows of Stone
DESCRIPTION:It’s time to get ready for the first show of our 2024 Season\, Meadows of Stone!\n(Poster Design by Dirk Van Stralen) \nSAVE THE DATES! June 13\, 14\, 15\, 16 2024 \nThe cast & crew are arriving in Wells this weekend. Rehearsal starts at The Sunset Theatre on May 28th\, and the show will open June 13th @ 8PM and run until June 16th @ 2PM. \nMeadows of Stone\, created by Amy Lee Newman and Jim Hodgkinson\, was developed through the Sunset Theatre’s Exploration Series. We are thrilled to get this Workshop Production up on its feet. \nSet in the summer of 1918 this brand new musical explores themes of resilience\, love and friendship for two people who experience the most exciting chapter in their lives when they least expect it. Inspired by true events. \nCast & Crew:\nVallance Maguire – Amy Lee Newman\nCaptain Gabriel Arnott – Jim Hodgkinson\nDirector – Dirk Van Stralen\nStage Manager – Lou Marshall
URL:https://whatsupinwells.com/event/meadows-of-stone/2024-06-13/
LOCATION:Sunset Theatre\, 2357 Pooley St.\, Wells\, BC\, v0k2r0\, Canada
CATEGORIES:Music,Theatre,Wells
ATTACH;FMTTYPE=image/jpeg:https://whatsupinwells.com/wp-content/uploads/2024/05/meadows-of-stone.jpg
END:VEVENT
BEGIN:VEVENT
DTSTART;TZID=America/Vancouver:20240614T200000
DTEND;TZID=America/Vancouver:20240614T213000
DTSTAMP:20260424T191643
CREATED:20240530T154612Z
LAST-MODIFIED:20240530T162643Z
UID:10002002-1718395200-1718400600@whatsupinwells.com
SUMMARY:Meadows of Stone
DESCRIPTION:It’s time to get ready for the first show of our 2024 Season\, Meadows of Stone!\n(Poster Design by Dirk Van Stralen) \nSAVE THE DATES! June 13\, 14\, 15\, 16 2024 \nThe cast & crew are arriving in Wells this weekend. Rehearsal starts at The Sunset Theatre on May 28th\, and the show will open June 13th @ 8PM and run until June 16th @ 2PM. \nMeadows of Stone\, created by Amy Lee Newman and Jim Hodgkinson\, was developed through the Sunset Theatre’s Exploration Series. We are thrilled to get this Workshop Production up on its feet. \nSet in the summer of 1918 this brand new musical explores themes of resilience\, love and friendship for two people who experience the most exciting chapter in their lives when they least expect it. Inspired by true events. \nCast & Crew:\nVallance Maguire – Amy Lee Newman\nCaptain Gabriel Arnott – Jim Hodgkinson\nDirector – Dirk Van Stralen\nStage Manager – Lou Marshall
URL:https://whatsupinwells.com/event/meadows-of-stone/2024-06-14/
LOCATION:Sunset Theatre\, 2357 Pooley St.\, Wells\, BC\, v0k2r0\, Canada
CATEGORIES:Music,Theatre,Wells
ATTACH;FMTTYPE=image/jpeg:https://whatsupinwells.com/wp-content/uploads/2024/05/meadows-of-stone.jpg
END:VEVENT
BEGIN:VEVENT
DTSTART;TZID=America/Vancouver:20240615T200000
DTEND;TZID=America/Vancouver:20240615T213000
DTSTAMP:20260424T191643
CREATED:20240530T154612Z
LAST-MODIFIED:20240530T162643Z
UID:10002003-1718481600-1718487000@whatsupinwells.com
SUMMARY:Meadows of Stone
DESCRIPTION:It’s time to get ready for the first show of our 2024 Season\, Meadows of Stone!\n(Poster Design by Dirk Van Stralen) \nSAVE THE DATES! June 13\, 14\, 15\, 16 2024 \nThe cast & crew are arriving in Wells this weekend. Rehearsal starts at The Sunset Theatre on May 28th\, and the show will open June 13th @ 8PM and run until June 16th @ 2PM. \nMeadows of Stone\, created by Amy Lee Newman and Jim Hodgkinson\, was developed through the Sunset Theatre’s Exploration Series. We are thrilled to get this Workshop Production up on its feet. \nSet in the summer of 1918 this brand new musical explores themes of resilience\, love and friendship for two people who experience the most exciting chapter in their lives when they least expect it. Inspired by true events. \nCast & Crew:\nVallance Maguire – Amy Lee Newman\nCaptain Gabriel Arnott – Jim Hodgkinson\nDirector – Dirk Van Stralen\nStage Manager – Lou Marshall
URL:https://whatsupinwells.com/event/meadows-of-stone/2024-06-15/
LOCATION:Sunset Theatre\, 2357 Pooley St.\, Wells\, BC\, v0k2r0\, Canada
CATEGORIES:Music,Theatre,Wells
ATTACH;FMTTYPE=image/jpeg:https://whatsupinwells.com/wp-content/uploads/2024/05/meadows-of-stone.jpg
END:VEVENT
BEGIN:VEVENT
DTSTART;TZID=America/Vancouver:20240616T140000
DTEND;TZID=America/Vancouver:20240616T153000
DTSTAMP:20260424T191643
CREATED:20240530T154612Z
LAST-MODIFIED:20240530T162643Z
UID:10002004-1718546400-1718551800@whatsupinwells.com
SUMMARY:Meadows of Stone
DESCRIPTION:It’s time to get ready for the first show of our 2024 Season\, Meadows of Stone!\n(Poster Design by Dirk Van Stralen) \nSAVE THE DATES! June 13\, 14\, 15\, 16 2024 \nThe cast & crew are arriving in Wells this weekend. Rehearsal starts at The Sunset Theatre on May 28th\, and the show will open June 13th @ 8PM and run until June 16th @ 2PM. \nMeadows of Stone\, created by Amy Lee Newman and Jim Hodgkinson\, was developed through the Sunset Theatre’s Exploration Series. We are thrilled to get this Workshop Production up on its feet. \nSet in the summer of 1918 this brand new musical explores themes of resilience\, love and friendship for two people who experience the most exciting chapter in their lives when they least expect it. Inspired by true events. \nCast & Crew:\nVallance Maguire – Amy Lee Newman\nCaptain Gabriel Arnott – Jim Hodgkinson\nDirector – Dirk Van Stralen\nStage Manager – Lou Marshall
URL:https://whatsupinwells.com/event/meadows-of-stone/2024-06-16/
LOCATION:Sunset Theatre\, 2357 Pooley St.\, Wells\, BC\, v0k2r0\, Canada
CATEGORIES:Music,Theatre,Wells
ATTACH;FMTTYPE=image/jpeg:https://whatsupinwells.com/wp-content/uploads/2024/05/meadows-of-stone.jpg
END:VEVENT
BEGIN:VEVENT
DTSTART;TZID=America/Vancouver:20240622T200000
DTEND;TZID=America/Vancouver:20240622T213000
DTSTAMP:20260424T191643
CREATED:20240530T154842Z
LAST-MODIFIED:20240530T154842Z
UID:10002370-1719086400-1719091800@whatsupinwells.com
SUMMARY:FOR SCIENCE!
DESCRIPTION:This is such a delightful show. Come experience a rare wordless performance (with non-coercive audience participation) of real science\, delivered by real scientists (who also happen to be actors).
URL:https://whatsupinwells.com/event/for-science-2/2024-06-22/
LOCATION:Sunset Theatre\, 2357 Pooley St.\, Wells\, BC\, v0k2r0\, Canada
CATEGORIES:Education,Theatre,Wells
ATTACH;FMTTYPE=image/jpeg:https://whatsupinwells.com/wp-content/uploads/2024/05/ForScience2024v2.jpg
END:VEVENT
BEGIN:VEVENT
DTSTART;TZID=America/Vancouver:20240623T200000
DTEND;TZID=America/Vancouver:20240623T213000
DTSTAMP:20260424T191643
CREATED:20240530T154842Z
LAST-MODIFIED:20240530T154842Z
UID:10002371-1719172800-1719178200@whatsupinwells.com
SUMMARY:FOR SCIENCE!
DESCRIPTION:This is such a delightful show. Come experience a rare wordless performance (with non-coercive audience participation) of real science\, delivered by real scientists (who also happen to be actors).
URL:https://whatsupinwells.com/event/for-science-2/2024-06-23/
LOCATION:Sunset Theatre\, 2357 Pooley St.\, Wells\, BC\, v0k2r0\, Canada
CATEGORIES:Education,Theatre,Wells
ATTACH;FMTTYPE=image/jpeg:https://whatsupinwells.com/wp-content/uploads/2024/05/ForScience2024v2.jpg
END:VEVENT
END:VCALENDAR