BEGIN:VCALENDAR
VERSION:2.0
PRODID:-//What&#039;s Up in Wells - ECPv6.15.20//NONSGML v1.0//EN
CALSCALE:GREGORIAN
METHOD:PUBLISH
X-WR-CALNAME:What&#039;s Up in Wells
X-ORIGINAL-URL:https://whatsupinwells.com
X-WR-CALDESC:Events for What&#039;s Up in Wells
REFRESH-INTERVAL;VALUE=DURATION:PT1H
X-Robots-Tag:noindex
X-PUBLISHED-TTL:PT1H
BEGIN:VTIMEZONE
TZID:America/Vancouver
BEGIN:DAYLIGHT
TZOFFSETFROM:-0800
TZOFFSETTO:-0700
TZNAME:PDT
DTSTART:20240310T100000
END:DAYLIGHT
BEGIN:STANDARD
TZOFFSETFROM:-0700
TZOFFSETTO:-0800
TZNAME:PST
DTSTART:20241103T090000
END:STANDARD
BEGIN:DAYLIGHT
TZOFFSETFROM:-0800
TZOFFSETTO:-0700
TZNAME:PDT
DTSTART:20250309T100000
END:DAYLIGHT
BEGIN:STANDARD
TZOFFSETFROM:-0700
TZOFFSETTO:-0800
TZNAME:PST
DTSTART:20251102T090000
END:STANDARD
BEGIN:DAYLIGHT
TZOFFSETFROM:-0800
TZOFFSETTO:-0700
TZNAME:PDT
DTSTART:20260308T100000
END:DAYLIGHT
BEGIN:STANDARD
TZOFFSETFROM:-0700
TZOFFSETTO:-0800
TZNAME:PST
DTSTART:20261101T090000
END:STANDARD
END:VTIMEZONE
BEGIN:VEVENT
DTSTART;TZID=America/Vancouver:20250215T190000
DTEND;TZID=America/Vancouver:20250215T210000
DTSTAMP:20260424T050824
CREATED:20250201T222843Z
LAST-MODIFIED:20250201T222843Z
UID:10003508-1739646000-1739653200@whatsupinwells.com
SUMMARY:2025 Mountain Film Festival
DESCRIPTION:The WELLS and AREA TRAILS SOCIETY Presents the\n2025 MOUNTAIN FILM FESTIVAL.\nJoin us at the Sunset Theatre on Saturday\, February 15th @ 7PM for another wonderful showing of outdoor films curated and presented by Dave Jorgenson.\nTickets are $22.00 and can be purchased at WATS Website or Sunset Theatre Website. Follow the link below to either site.\nSee you at the Sunset!
URL:https://whatsupinwells.com/event/2025-mountain-film-festival/
LOCATION:Sunset Theatre\, 2357 Pooley St.\, Wells\, BC\, v0k2r0\, Canada
CATEGORIES:Outdoor Recreation,Theatre,Wells
ATTACH;FMTTYPE=image/jpeg:https://whatsupinwells.com/wp-content/uploads/2025/02/mountain-film-fest-2025.jpg
ORGANIZER;CN="Wells and Area Trails Society":MAILTO:wellstrails@gmail.com
END:VEVENT
END:VCALENDAR