BEGIN:VCALENDAR
VERSION:2.0
PRODID:-//What&#039;s Up in Wells - ECPv6.15.20//NONSGML v1.0//EN
CALSCALE:GREGORIAN
METHOD:PUBLISH
X-WR-CALNAME:What&#039;s Up in Wells
X-ORIGINAL-URL:https://whatsupinwells.com
X-WR-CALDESC:Events for What&#039;s Up in Wells
REFRESH-INTERVAL;VALUE=DURATION:PT1H
X-Robots-Tag:noindex
X-PUBLISHED-TTL:PT1H
BEGIN:VTIMEZONE
TZID:America/Vancouver
BEGIN:DAYLIGHT
TZOFFSETFROM:-0800
TZOFFSETTO:-0700
TZNAME:PDT
DTSTART:20240310T100000
END:DAYLIGHT
BEGIN:STANDARD
TZOFFSETFROM:-0700
TZOFFSETTO:-0800
TZNAME:PST
DTSTART:20241103T090000
END:STANDARD
BEGIN:DAYLIGHT
TZOFFSETFROM:-0800
TZOFFSETTO:-0700
TZNAME:PDT
DTSTART:20250309T100000
END:DAYLIGHT
BEGIN:STANDARD
TZOFFSETFROM:-0700
TZOFFSETTO:-0800
TZNAME:PST
DTSTART:20251102T090000
END:STANDARD
BEGIN:DAYLIGHT
TZOFFSETFROM:-0800
TZOFFSETTO:-0700
TZNAME:PDT
DTSTART:20260308T100000
END:DAYLIGHT
BEGIN:STANDARD
TZOFFSETFROM:-0700
TZOFFSETTO:-0800
TZNAME:PST
DTSTART:20261101T090000
END:STANDARD
END:VTIMEZONE
BEGIN:VEVENT
DTSTART;TZID=America/Vancouver:20250613T200000
DTEND;TZID=America/Vancouver:20250613T220000
DTSTAMP:20260423T200152
CREATED:20250613T180114Z
LAST-MODIFIED:20250613T180114Z
UID:10003530-1749844800-1749852000@whatsupinwells.com
SUMMARY:2025 Sunset Season Launch Party
DESCRIPTION:It has become a tradition over the last few years for us to have a Season Launch at the Sunset\, and we hope you can join us on Friday\, June 13th @ 8PM for our 2025 Season Launch. \nWe look forward to sharing a sneak peek at everything we have to offer this season! \nYou’ll have the chance to buy your 2025 Sunset Theatre Membership\, which gives you 10% off Sunset Live Performances. \nStick around after the Key Note for some drinks and dancing and help us celebrate the Sunset’s 20th year of programming and 25th year since the Sunset Theatre Society was formed! \nThis is a free event for everyone!
URL:https://whatsupinwells.com/event/2025-sunset-season-launch-party/
LOCATION:Sunset Theatre\, 2357 Pooley St.\, Wells\, BC\, v0k2r0\, Canada
CATEGORIES:Arts,Free,Theatre,Wells
ATTACH;FMTTYPE=image/jpeg:https://whatsupinwells.com/wp-content/uploads/2025/06/sunset-launch.jpg
END:VEVENT
BEGIN:VEVENT
DTSTART;VALUE=DATE:20250627
DTEND;VALUE=DATE:20250701
DTSTAMP:20260423T200152
CREATED:20250222T184652Z
LAST-MODIFIED:20250222T184652Z
UID:10003516-1750996800-1751255999@whatsupinwells.com
SUMMARY:ArtsWells 2025
DESCRIPTION:📣🎉We are very excited to announce that we are going ahead with ArtsWells 2025! \nThis year\, the festival will take place on June 27 – 29.\nWe had worked hard to “bring back” the festival last year\, presenting a new iteration that we had carefully built and curated. \nHowever\, the postponement of ArtsWells 2024 due to fire strengthened our resolve to continue. We believe this community and this region deserve an event like ArtsWells\, something that celebrates the unique local spirit while inviting artists and listeners to our little town. We’re getting back on the horse and making it happen! \nWe believe these new dates will allow the festival to take place at time when the weather is comfortable in Wells. We would like to extend our gratitude to all the businesses and fellow NFPs in Wells and Barkerville that have helped us make this switch a reality.
URL:https://whatsupinwells.com/event/artswells-2025/
CATEGORIES:Arts,Music,Theatre,Wells
ATTACH;FMTTYPE=image/jpeg:https://whatsupinwells.com/wp-content/uploads/2025/02/Artswells-2025.jpg
END:VEVENT
END:VCALENDAR