BEGIN:VCALENDAR
VERSION:2.0
PRODID:-//What&#039;s Up in Wells - ECPv6.15.20//NONSGML v1.0//EN
CALSCALE:GREGORIAN
METHOD:PUBLISH
X-WR-CALNAME:What&#039;s Up in Wells
X-ORIGINAL-URL:https://whatsupinwells.com
X-WR-CALDESC:Events for What&#039;s Up in Wells
REFRESH-INTERVAL;VALUE=DURATION:PT1H
X-Robots-Tag:noindex
X-PUBLISHED-TTL:PT1H
BEGIN:VTIMEZONE
TZID:America/Vancouver
BEGIN:DAYLIGHT
TZOFFSETFROM:-0800
TZOFFSETTO:-0700
TZNAME:PDT
DTSTART:20240310T100000
END:DAYLIGHT
BEGIN:STANDARD
TZOFFSETFROM:-0700
TZOFFSETTO:-0800
TZNAME:PST
DTSTART:20241103T090000
END:STANDARD
BEGIN:DAYLIGHT
TZOFFSETFROM:-0800
TZOFFSETTO:-0700
TZNAME:PDT
DTSTART:20250309T100000
END:DAYLIGHT
BEGIN:STANDARD
TZOFFSETFROM:-0700
TZOFFSETTO:-0800
TZNAME:PST
DTSTART:20251102T090000
END:STANDARD
BEGIN:DAYLIGHT
TZOFFSETFROM:-0800
TZOFFSETTO:-0700
TZNAME:PDT
DTSTART:20260308T100000
END:DAYLIGHT
BEGIN:STANDARD
TZOFFSETFROM:-0700
TZOFFSETTO:-0800
TZNAME:PST
DTSTART:20261101T090000
END:STANDARD
END:VTIMEZONE
BEGIN:VEVENT
DTSTART;TZID=America/Vancouver:20250710T200000
DTEND;TZID=America/Vancouver:20250710T213000
DTSTAMP:20260423T180258
CREATED:20250706T003514Z
LAST-MODIFIED:20250706T003514Z
UID:10003611-1752177600-1752183000@whatsupinwells.com
SUMMARY:'Till Death: The Six Wives of Henry the 8th
DESCRIPTION:Thursday\, July 10\, 2025\n8:00 PM 9:00 PM\nSunset Theatre Society (map)\nWritten and Directed by Ryan Gladstone \nStarring Tara Travis \nOriginal Score by Drew Jurecka and Robbie Grunwald \nThe Betrayed Wife. The Scheming Wife. The Peacemaker. The Ugly German. The Tarty One. The One in Love with Someone Else. \nSix Queens. Six Love stories. Six Deaths. One Actress! \nIt all starts in the afterlife\, in a bizarre waiting room of sorts. One by one\, the wives of Henry VIII arrive\, much to the shock and dismay of each previous wife. What culminates is the heated frenzy of an ex-wives club where these women swap stories\, toss Anne Boleyn’s head around\, pick on the ugly German one\, and\, most importantly\, fight for the right to be acknowledged as Henry’s true bride and eternal partner. \nBut when Henry arrives…everything changes. \nWINNER: Pick of the Fringe Vancouver\, Outstanding Individual Performance AND Producer’s Pick (London Fringe) \n“…one of the most impressive acting feats in the festival!” ★★★★★-Kevin Prokosh\, Winnipeg Free Press \n“A standing ovation followed Travis’ tour-de-force performance.”- ★★★★★ London Free Press \n“What more can I add? WOW!” ★★★★(out of 4)- The Beat\, London \n“Tara Travis is an immense talent. Go see this show and find yourself in Heaven. Comedy Heaven\, that is.” –umfm.com \n“It’s tough to say which is the better part of this show: the acting\, the direction or the script…compelling!”-CVV Magazine \n“Sharply directed and performed with consummate skill and vivacity\, Til Death is a must-see!” ★★★★1/2-Victoria Times Colonist \n“Hilarious\, touching\, thought provoking and educational\, Til Death has “best in the fest” written all over it!” –Theatre in London
URL:https://whatsupinwells.com/event/till-death-the-six-wives-of-henry-the-8th/2025-07-10/
LOCATION:Sunset Theatre\, 2357 Pooley St.\, Wells\, BC\, v0k2r0\, Canada
CATEGORIES:Arts,Theatre,Wells
ATTACH;FMTTYPE=image/jpeg:https://whatsupinwells.com/wp-content/uploads/2025/07/TilDeath_TaraTravis.jpg
END:VEVENT
BEGIN:VEVENT
DTSTART;TZID=America/Vancouver:20250711T200000
DTEND;TZID=America/Vancouver:20250711T213000
DTSTAMP:20260423T180258
CREATED:20250706T003514Z
LAST-MODIFIED:20250706T003514Z
UID:10003612-1752264000-1752269400@whatsupinwells.com
SUMMARY:'Till Death: The Six Wives of Henry the 8th
DESCRIPTION:Thursday\, July 10\, 2025\n8:00 PM 9:00 PM\nSunset Theatre Society (map)\nWritten and Directed by Ryan Gladstone \nStarring Tara Travis \nOriginal Score by Drew Jurecka and Robbie Grunwald \nThe Betrayed Wife. The Scheming Wife. The Peacemaker. The Ugly German. The Tarty One. The One in Love with Someone Else. \nSix Queens. Six Love stories. Six Deaths. One Actress! \nIt all starts in the afterlife\, in a bizarre waiting room of sorts. One by one\, the wives of Henry VIII arrive\, much to the shock and dismay of each previous wife. What culminates is the heated frenzy of an ex-wives club where these women swap stories\, toss Anne Boleyn’s head around\, pick on the ugly German one\, and\, most importantly\, fight for the right to be acknowledged as Henry’s true bride and eternal partner. \nBut when Henry arrives…everything changes. \nWINNER: Pick of the Fringe Vancouver\, Outstanding Individual Performance AND Producer’s Pick (London Fringe) \n“…one of the most impressive acting feats in the festival!” ★★★★★-Kevin Prokosh\, Winnipeg Free Press \n“A standing ovation followed Travis’ tour-de-force performance.”- ★★★★★ London Free Press \n“What more can I add? WOW!” ★★★★(out of 4)- The Beat\, London \n“Tara Travis is an immense talent. Go see this show and find yourself in Heaven. Comedy Heaven\, that is.” –umfm.com \n“It’s tough to say which is the better part of this show: the acting\, the direction or the script…compelling!”-CVV Magazine \n“Sharply directed and performed with consummate skill and vivacity\, Til Death is a must-see!” ★★★★1/2-Victoria Times Colonist \n“Hilarious\, touching\, thought provoking and educational\, Til Death has “best in the fest” written all over it!” –Theatre in London
URL:https://whatsupinwells.com/event/till-death-the-six-wives-of-henry-the-8th/2025-07-11/
LOCATION:Sunset Theatre\, 2357 Pooley St.\, Wells\, BC\, v0k2r0\, Canada
CATEGORIES:Arts,Theatre,Wells
ATTACH;FMTTYPE=image/jpeg:https://whatsupinwells.com/wp-content/uploads/2025/07/TilDeath_TaraTravis.jpg
END:VEVENT
BEGIN:VEVENT
DTSTART;TZID=America/Vancouver:20250712T200000
DTEND;TZID=America/Vancouver:20250712T213000
DTSTAMP:20260423T180258
CREATED:20250706T003514Z
LAST-MODIFIED:20250706T003514Z
UID:10003613-1752350400-1752355800@whatsupinwells.com
SUMMARY:'Till Death: The Six Wives of Henry the 8th
DESCRIPTION:Thursday\, July 10\, 2025\n8:00 PM 9:00 PM\nSunset Theatre Society (map)\nWritten and Directed by Ryan Gladstone \nStarring Tara Travis \nOriginal Score by Drew Jurecka and Robbie Grunwald \nThe Betrayed Wife. The Scheming Wife. The Peacemaker. The Ugly German. The Tarty One. The One in Love with Someone Else. \nSix Queens. Six Love stories. Six Deaths. One Actress! \nIt all starts in the afterlife\, in a bizarre waiting room of sorts. One by one\, the wives of Henry VIII arrive\, much to the shock and dismay of each previous wife. What culminates is the heated frenzy of an ex-wives club where these women swap stories\, toss Anne Boleyn’s head around\, pick on the ugly German one\, and\, most importantly\, fight for the right to be acknowledged as Henry’s true bride and eternal partner. \nBut when Henry arrives…everything changes. \nWINNER: Pick of the Fringe Vancouver\, Outstanding Individual Performance AND Producer’s Pick (London Fringe) \n“…one of the most impressive acting feats in the festival!” ★★★★★-Kevin Prokosh\, Winnipeg Free Press \n“A standing ovation followed Travis’ tour-de-force performance.”- ★★★★★ London Free Press \n“What more can I add? WOW!” ★★★★(out of 4)- The Beat\, London \n“Tara Travis is an immense talent. Go see this show and find yourself in Heaven. Comedy Heaven\, that is.” –umfm.com \n“It’s tough to say which is the better part of this show: the acting\, the direction or the script…compelling!”-CVV Magazine \n“Sharply directed and performed with consummate skill and vivacity\, Til Death is a must-see!” ★★★★1/2-Victoria Times Colonist \n“Hilarious\, touching\, thought provoking and educational\, Til Death has “best in the fest” written all over it!” –Theatre in London
URL:https://whatsupinwells.com/event/till-death-the-six-wives-of-henry-the-8th/2025-07-12/
LOCATION:Sunset Theatre\, 2357 Pooley St.\, Wells\, BC\, v0k2r0\, Canada
CATEGORIES:Arts,Theatre,Wells
ATTACH;FMTTYPE=image/jpeg:https://whatsupinwells.com/wp-content/uploads/2025/07/TilDeath_TaraTravis.jpg
END:VEVENT
BEGIN:VEVENT
DTSTART;TZID=America/Vancouver:20250718T200000
DTEND;TZID=America/Vancouver:20250718T213000
DTSTAMP:20260423T180258
CREATED:20250706T003745Z
LAST-MODIFIED:20250706T003745Z
UID:10003614-1752868800-1752874200@whatsupinwells.com
SUMMARY:Jake's Gift
DESCRIPTION:Come experience Julia Mackey’s Governor General award-winning play about a WWII veteran’s reluctant return to Normandy to find the grave of the brother who never came home. \nhttps://jakesgift.com
URL:https://whatsupinwells.com/event/jakes-gift-3/2025-07-18/
LOCATION:Sunset Theatre\, 2357 Pooley St.\, Wells\, BC\, v0k2r0\, Canada
CATEGORIES:Theatre,Wells
ATTACH;FMTTYPE=image/png:https://whatsupinwells.com/wp-content/uploads/2025/07/jakesgift1819july2025sunsettheatre8pm.png
END:VEVENT
BEGIN:VEVENT
DTSTART;TZID=America/Vancouver:20250719T200000
DTEND;TZID=America/Vancouver:20250719T213000
DTSTAMP:20260423T180258
CREATED:20250706T003745Z
LAST-MODIFIED:20250706T003745Z
UID:10003615-1752955200-1752960600@whatsupinwells.com
SUMMARY:Jake's Gift
DESCRIPTION:Come experience Julia Mackey’s Governor General award-winning play about a WWII veteran’s reluctant return to Normandy to find the grave of the brother who never came home. \nhttps://jakesgift.com
URL:https://whatsupinwells.com/event/jakes-gift-3/2025-07-19/
LOCATION:Sunset Theatre\, 2357 Pooley St.\, Wells\, BC\, v0k2r0\, Canada
CATEGORIES:Theatre,Wells
ATTACH;FMTTYPE=image/png:https://whatsupinwells.com/wp-content/uploads/2025/07/jakesgift1819july2025sunsettheatre8pm.png
END:VEVENT
BEGIN:VEVENT
DTSTART;TZID=America/Vancouver:20250726T200000
DTEND;TZID=America/Vancouver:20250726T213000
DTSTAMP:20260423T180258
CREATED:20250706T004207Z
LAST-MODIFIED:20250706T004207Z
UID:10003618-1753560000-1753565400@whatsupinwells.com
SUMMARY:Cabaret!
DESCRIPTION:This mostly locally produced event is a cornucopia of amazing music\, hilarious sketch comedy\, poetry\, and possible nudity.
URL:https://whatsupinwells.com/event/cabaret/
LOCATION:Sunset Theatre\, 2357 Pooley St.\, Wells\, BC\, v0k2r0\, Canada
CATEGORIES:Arts,Theatre,Wells
ATTACH;FMTTYPE=image/png:https://whatsupinwells.com/wp-content/uploads/2025/07/cabaret_26July20258pm.png
END:VEVENT
END:VCALENDAR