BEGIN:VCALENDAR
VERSION:2.0
PRODID:-//What&#039;s Up in Wells - ECPv6.15.20//NONSGML v1.0//EN
CALSCALE:GREGORIAN
METHOD:PUBLISH
X-ORIGINAL-URL:https://whatsupinwells.com
X-WR-CALDESC:Events for What&#039;s Up in Wells
REFRESH-INTERVAL;VALUE=DURATION:PT1H
X-Robots-Tag:noindex
X-PUBLISHED-TTL:PT1H
BEGIN:VTIMEZONE
TZID:America/Vancouver
BEGIN:DAYLIGHT
TZOFFSETFROM:-0800
TZOFFSETTO:-0700
TZNAME:PDT
DTSTART:20210314T100000
END:DAYLIGHT
BEGIN:STANDARD
TZOFFSETFROM:-0700
TZOFFSETTO:-0800
TZNAME:PST
DTSTART:20211107T090000
END:STANDARD
BEGIN:DAYLIGHT
TZOFFSETFROM:-0800
TZOFFSETTO:-0700
TZNAME:PDT
DTSTART:20220313T100000
END:DAYLIGHT
BEGIN:STANDARD
TZOFFSETFROM:-0700
TZOFFSETTO:-0800
TZNAME:PST
DTSTART:20221106T090000
END:STANDARD
BEGIN:DAYLIGHT
TZOFFSETFROM:-0800
TZOFFSETTO:-0700
TZNAME:PDT
DTSTART:20230312T100000
END:DAYLIGHT
BEGIN:STANDARD
TZOFFSETFROM:-0700
TZOFFSETTO:-0800
TZNAME:PST
DTSTART:20231105T090000
END:STANDARD
END:VTIMEZONE
BEGIN:VEVENT
DTSTART;TZID=America/Vancouver:20221022T170000
DTEND;TZID=America/Vancouver:20221022T233000
DTSTAMP:20260424T171948
CREATED:20220912T233306Z
LAST-MODIFIED:20220912T233306Z
UID:10000699-1666458000-1666481400@whatsupinwells.com
SUMMARY:A Bloody Good Bash
DESCRIPTION:The Friends of Barkerville Cariboo Goldfields Historical Society invites you to a Bloody Good Bash. \nDinner\, Cash Bar\, and Silent Auction \n5:00 pm – Doors open\n6:00 pm – Dinner \nLive Entertainment with music from the Interstellar Jays and Amy Newman performing “my life in the Goldfields” \nFree camping available\, first come\, first served. 1860s to 1900s period costumes recommended. \nIndividual tickets $60/person or purchase a table for $500 (seats 10). \nProceeds from the ticket sales and silent auction will go to Friends of Barkerville Cariboo Goldfield Society to continue to support Barkervilel Historic Town & Park and other important heritage sites in the Wells-Barkerville area. \nTickets available from Frog on the Bog (Wells)\, Rocky Peak (Quesnel)\, or contact Kwynn Bodman via email kwynnbodman@gmail.com
URL:https://whatsupinwells.com/event/a-bloody-good-bash/
LOCATION:Troll Ski Resort\, Barkerville Hwy 27 E.\, BC\, Canada
CATEGORIES:Barkerville,Music,Theatre,Troll
ATTACH;FMTTYPE=image/jpeg:https://whatsupinwells.com/wp-content/uploads/2022/09/bloody-good-bash.jpg
END:VEVENT
END:VCALENDAR