BEGIN:VCALENDAR
VERSION:2.0
PRODID:-//What&#039;s Up in Wells - ECPv6.15.20//NONSGML v1.0//EN
CALSCALE:GREGORIAN
METHOD:PUBLISH
X-ORIGINAL-URL:https://whatsupinwells.com
X-WR-CALDESC:Events for What&#039;s Up in Wells
REFRESH-INTERVAL;VALUE=DURATION:PT1H
X-Robots-Tag:noindex
X-PUBLISHED-TTL:PT1H
BEGIN:VTIMEZONE
TZID:America/Vancouver
BEGIN:DAYLIGHT
TZOFFSETFROM:-0800
TZOFFSETTO:-0700
TZNAME:PDT
DTSTART:20220313T100000
END:DAYLIGHT
BEGIN:STANDARD
TZOFFSETFROM:-0700
TZOFFSETTO:-0800
TZNAME:PST
DTSTART:20221106T090000
END:STANDARD
BEGIN:DAYLIGHT
TZOFFSETFROM:-0800
TZOFFSETTO:-0700
TZNAME:PDT
DTSTART:20230312T100000
END:DAYLIGHT
BEGIN:STANDARD
TZOFFSETFROM:-0700
TZOFFSETTO:-0800
TZNAME:PST
DTSTART:20231105T090000
END:STANDARD
BEGIN:DAYLIGHT
TZOFFSETFROM:-0800
TZOFFSETTO:-0700
TZNAME:PDT
DTSTART:20240310T100000
END:DAYLIGHT
BEGIN:STANDARD
TZOFFSETFROM:-0700
TZOFFSETTO:-0800
TZNAME:PST
DTSTART:20241103T090000
END:STANDARD
END:VTIMEZONE
BEGIN:VEVENT
DTSTART;TZID=America/Vancouver:20230211T100000
DTEND;TZID=America/Vancouver:20230211T143000
DTSTAMP:20260424T102928
CREATED:20230209T183606Z
LAST-MODIFIED:20230209T183606Z
UID:10000792-1676109600-1676125800@whatsupinwells.com
SUMMARY:Kid's Freestyle Program
DESCRIPTION:FREESTYLE SKI PROGRAMS\nAges 9+\n10am-2:30pm\n$150\nAges 6-8\n10am-11:45am\n$125\nDo your kids want to learn to hit jumps\, do basic tricks such as 180s and 360s and become confident taking their skis over rails and sliding boxes?\nREQUIREMENTS:\nMust be confidently doing parallel turns\nPop in the rental shop to fill out a form!
URL:https://whatsupinwells.com/event/kids-freestyle-program/2023-02-11/
LOCATION:Troll Ski Resort\, Barkerville Hwy 27 E.\, BC\, Canada
CATEGORIES:Outdoor Recreation,Troll
ATTACH;FMTTYPE=image/jpeg:https://whatsupinwells.com/wp-content/uploads/2023/02/kids-freestyle.jpg
END:VEVENT
BEGIN:VEVENT
DTSTART;TZID=America/Vancouver:20230212T130000
DTEND;TZID=America/Vancouver:20230212T150000
DTSTAMP:20260424T102928
CREATED:20230209T183134Z
LAST-MODIFIED:20230209T183134Z
UID:10000791-1676206800-1676214000@whatsupinwells.com
SUMMARY:Women's Terrain Park Afternoon
DESCRIPTION:DROP IN! This means it’s free for you ladies to come drop in\, learn how to hit jumps and ride rails from our very own @dr.kiralewis\nWe’ll start on the mini terrain park on the Bunny hill and then go from there depending on everyone’s comfort level! \nCome hit one jump or two\, come and go as it works with your schedule and have a good time with other women trying something new! \nNo need to register or check-in 🙂
URL:https://whatsupinwells.com/event/womens-terrain-park-afternoon/
LOCATION:Troll Ski Resort\, Barkerville Hwy 27 E.\, BC\, Canada
CATEGORIES:Outdoor Recreation,Troll
ATTACH;FMTTYPE=image/jpeg:https://whatsupinwells.com/wp-content/uploads/2023/02/terrain-park.jpg
END:VEVENT
BEGIN:VEVENT
DTSTART;TZID=America/Vancouver:20230218T100000
DTEND;TZID=America/Vancouver:20230218T143000
DTSTAMP:20260424T102928
CREATED:20230209T183606Z
LAST-MODIFIED:20230209T183606Z
UID:10000793-1676714400-1676730600@whatsupinwells.com
SUMMARY:Kid's Freestyle Program
DESCRIPTION:FREESTYLE SKI PROGRAMS\nAges 9+\n10am-2:30pm\n$150\nAges 6-8\n10am-11:45am\n$125\nDo your kids want to learn to hit jumps\, do basic tricks such as 180s and 360s and become confident taking their skis over rails and sliding boxes?\nREQUIREMENTS:\nMust be confidently doing parallel turns\nPop in the rental shop to fill out a form!
URL:https://whatsupinwells.com/event/kids-freestyle-program/2023-02-18/
LOCATION:Troll Ski Resort\, Barkerville Hwy 27 E.\, BC\, Canada
CATEGORIES:Outdoor Recreation,Troll
ATTACH;FMTTYPE=image/jpeg:https://whatsupinwells.com/wp-content/uploads/2023/02/kids-freestyle.jpg
END:VEVENT
BEGIN:VEVENT
DTSTART;VALUE=DATE:20230224
DTEND;VALUE=DATE:20230228
DTSTAMP:20260424T102928
CREATED:20230125T061547Z
LAST-MODIFIED:20230125T061547Z
UID:10000773-1677211200-1677470399@whatsupinwells.com
SUMMARY:31st Gold Rush Trail Sled Dog Mail Run
DESCRIPTION:The Gold Rush Trail Sled Dog Mail Run is living history for the past 31 years. Our dedicated mushers and their dog teams will again be sworn in as official mail carriers and will carry Canada Post mail in their dog sleds over the Gold Rush Trail to Barkerville. \nPlease support this special year by purchasing unique Mail Run envelopes that are sold from this website or at local outlets\, stamped “Carried by Dog Team” and hand cancelled by volunteers in Quesnel\, Wells and Barkerville\, the three post offices along the route. Once delivered to Barkerville\, this mail enters the regular mail system for delivery anywhere in the world.
URL:https://whatsupinwells.com/event/31st-gold-rush-trail-sled-dog-mail-run/
CATEGORIES:Barkerville,Outdoor Recreation,Troll,Wells
ATTACH;FMTTYPE=image/jpeg:https://whatsupinwells.com/wp-content/uploads/2018/12/Sled-Dog-Barkerville.jpg
ORGANIZER;CN="Gold Rush Trail Dog Sled Mail Run":MAILTO:info@dogsledmailrun.ca
END:VEVENT
BEGIN:VEVENT
DTSTART;TZID=America/Vancouver:20230225T100000
DTEND;TZID=America/Vancouver:20230225T143000
DTSTAMP:20260424T102928
CREATED:20230209T183606Z
LAST-MODIFIED:20230209T183606Z
UID:10000794-1677319200-1677335400@whatsupinwells.com
SUMMARY:Kid's Freestyle Program
DESCRIPTION:FREESTYLE SKI PROGRAMS\nAges 9+\n10am-2:30pm\n$150\nAges 6-8\n10am-11:45am\n$125\nDo your kids want to learn to hit jumps\, do basic tricks such as 180s and 360s and become confident taking their skis over rails and sliding boxes?\nREQUIREMENTS:\nMust be confidently doing parallel turns\nPop in the rental shop to fill out a form!
URL:https://whatsupinwells.com/event/kids-freestyle-program/2023-02-25/
LOCATION:Troll Ski Resort\, Barkerville Hwy 27 E.\, BC\, Canada
CATEGORIES:Outdoor Recreation,Troll
ATTACH;FMTTYPE=image/jpeg:https://whatsupinwells.com/wp-content/uploads/2023/02/kids-freestyle.jpg
END:VEVENT
END:VCALENDAR