BEGIN:VCALENDAR
VERSION:2.0
PRODID:-//What&#039;s Up in Wells - ECPv6.15.20//NONSGML v1.0//EN
CALSCALE:GREGORIAN
METHOD:PUBLISH
X-ORIGINAL-URL:https://whatsupinwells.com
X-WR-CALDESC:Events for What&#039;s Up in Wells
REFRESH-INTERVAL;VALUE=DURATION:PT1H
X-Robots-Tag:noindex
X-PUBLISHED-TTL:PT1H
BEGIN:VTIMEZONE
TZID:America/Vancouver
BEGIN:DAYLIGHT
TZOFFSETFROM:-0800
TZOFFSETTO:-0700
TZNAME:PDT
DTSTART:20220313T100000
END:DAYLIGHT
BEGIN:STANDARD
TZOFFSETFROM:-0700
TZOFFSETTO:-0800
TZNAME:PST
DTSTART:20221106T090000
END:STANDARD
BEGIN:DAYLIGHT
TZOFFSETFROM:-0800
TZOFFSETTO:-0700
TZNAME:PDT
DTSTART:20230312T100000
END:DAYLIGHT
BEGIN:STANDARD
TZOFFSETFROM:-0700
TZOFFSETTO:-0800
TZNAME:PST
DTSTART:20231105T090000
END:STANDARD
BEGIN:DAYLIGHT
TZOFFSETFROM:-0800
TZOFFSETTO:-0700
TZNAME:PDT
DTSTART:20240310T100000
END:DAYLIGHT
BEGIN:STANDARD
TZOFFSETFROM:-0700
TZOFFSETTO:-0800
TZNAME:PST
DTSTART:20241103T090000
END:STANDARD
END:VTIMEZONE
BEGIN:VEVENT
DTSTART;TZID=America/Vancouver:20230301T170000
DTEND;TZID=America/Vancouver:20230301T210000
DTSTAMP:20260423T220537
CREATED:20230209T194034Z
LAST-MODIFIED:20230209T194034Z
UID:10000805-1677690000-1677704400@whatsupinwells.com
SUMMARY:Five-Alarm Wednesday Fundraiser for the WVFB
DESCRIPTION:Turn up the heat this winter to raise funds for our local Wells Volunteer Fire Brigade. \nHow does it work?\nOrder our house-made chili on Wednesdays and a portion of the proceeds will be donated to the WVFB. How much will be donated? That’s up to you! For every level of heat you order in your chili\, $1 will be donated:\n1-alarm spice = $1 to the brigade\n2-alarm spice = $2 to the brigade\n3-alarm spice = $3 to the brigade\n4-alarm spice = $4 to the brigade\n5-alarm spice = $5 to the brigade \nLet’s see how hot this town can get!
URL:https://whatsupinwells.com/event/five-alarm-wednesday-fundraiser-for-the-wvfb/2023-03-01/
LOCATION:The Wells Hotel\, 2341 Pooley St.\, Wells\, BC\, V0k2R0\, Canada
CATEGORIES:Food,Wells
ATTACH;FMTTYPE=image/png:https://whatsupinwells.com/wp-content/uploads/2023/02/Five-Alarm-Wednesdays.png
END:VEVENT
BEGIN:VEVENT
DTSTART;TZID=America/Vancouver:20230301T190000
DTEND;TZID=America/Vancouver:20230301T210000
DTSTAMP:20260423T220537
CREATED:20220610T214547Z
LAST-MODIFIED:20230106T232325Z
UID:10000734-1677697200-1677704400@whatsupinwells.com
SUMMARY:Wells Volunteer Fire Brigade Practice
DESCRIPTION:Exterior Fire Protection is provided by the Wells Volunteer Fire Brigade.  The WVFB will respond to any fire calls in the Wells Fire District. \nThe WVFB is the only fire service in the area and is 100% dependent on volunteers.  Everyone is welcome and no one is asked to do more than they are comfortable with. \nPractices are held every Wednesday from 7pm-9pm at the fire hall (across from the schoolyard). Everyone is welcome – no previous experience necessary \nCome out and join us!\nVOLUNTEER MEMBERSHIP APPLICATION FORM \nFire Chief Carrie Chard can be reached at firechief@wells.ca\nFor more information contact the District of Wells at 250-994-3330
URL:https://whatsupinwells.com/event/wells-volunteer-fire-brigade-practice-18/2023-03-01/
LOCATION:Wells Volunteer Fire Brigade Station\, 2314 Baker St\, Wells\, BC\, V0K 2R0\, Canada
CATEGORIES:Wells
ATTACH;FMTTYPE=image/jpeg:https://whatsupinwells.com/wp-content/uploads/2019/01/Fire-Brigade-Crest.jpg
ORGANIZER;CN="Wells Volunteer Fire Brigade":MAILTO:firechief@wells.ca
END:VEVENT
BEGIN:VEVENT
DTSTART;TZID=America/Vancouver:20230302T160000
DTEND;TZID=America/Vancouver:20230302T180000
DTSTAMP:20260423T220537
CREATED:20230125T055808Z
LAST-MODIFIED:20230125T055808Z
UID:10000762-1677772800-1677780000@whatsupinwells.com
SUMMARY:Pickleball at the Hall
DESCRIPTION:Looking for a new way to exercise and have fun? Become a pickler. Drop-in every Thursday from 4 pm to 6 pm at the Community Hall.
URL:https://whatsupinwells.com/event/pickleball-at-the-hall/2023-03-02/
LOCATION:Wells Community Hall\, 4269 Sanders Ave\, Wells\, BC\, V0K2R0\, Canada
CATEGORIES:Free,Wells
ATTACH;FMTTYPE=image/png:https://whatsupinwells.com/wp-content/uploads/2023/01/pickleball-2.png
ORGANIZER;CN="Wells and Area Community Association":MAILTO:Wellsareacommunity@gmail.com
END:VEVENT
BEGIN:VEVENT
DTSTART;TZID=America/Vancouver:20230303T180000
DTEND;TZID=America/Vancouver:20230305T130000
DTSTAMP:20260423T220537
CREATED:20230201T160520Z
LAST-MODIFIED:20230201T160520Z
UID:10000779-1677866400-1678021200@whatsupinwells.com
SUMMARY:Wells Winter Wonders
DESCRIPTION:Friday night March 3\n6:00pm dinner and show @ the jack\nWells Snow Queen winner announced\nSaturday March 4\n9:00am ski race (timed races)\n11:00am snowshoe race\n1:30pm sled race\n7:30pm Cabaret @ Sunset theatre\nBon fire during the day\nSunday March 5\n10:00am kids snowshoe race\n11:30am kids “build your own” sled race\n1pm snowman building competition\nDuring lunch we will have stations for the kids to make fun winter treats\nBon fire during the day\n*Tentative schedule*
URL:https://whatsupinwells.com/event/wells-winter-wonders/
LOCATION:BC
CATEGORIES:Free,Outdoor Recreation,Wells
ATTACH;FMTTYPE=image/jpeg:https://whatsupinwells.com/wp-content/uploads/2023/02/winter-fest.jpg
END:VEVENT
BEGIN:VEVENT
DTSTART;TZID=America/Vancouver:20230303T200000
DTEND;TZID=America/Vancouver:20230303T220000
DTSTAMP:20260423T220537
CREATED:20230209T184449Z
LAST-MODIFIED:20230209T184449Z
UID:10000798-1677873600-1677880800@whatsupinwells.com
SUMMARY:Live Music Fridays with Sage Gordon
DESCRIPTION:Kick off the weekend with the talented local guitar and piano player Sage Gordon\, every Friday night this winter at the Wells Hotel. No cover charge.
URL:https://whatsupinwells.com/event/live-music-fridays-with-sage-gordon/2023-03-03/
LOCATION:The Wells Hotel\, 2341 Pooley St.\, Wells\, BC\, V0k2R0\, Canada
CATEGORIES:Free,Music,Wells
ATTACH;FMTTYPE=image/jpeg:https://whatsupinwells.com/wp-content/uploads/2023/01/317686713_10160209363443788_870049631633230858_n.jpg
END:VEVENT
BEGIN:VEVENT
DTSTART;VALUE=DATE:20230304
DTEND;VALUE=DATE:20230306
DTSTAMP:20260423T220537
CREATED:20230228T223545Z
LAST-MODIFIED:20230228T223545Z
UID:10000819-1677902400-1677988799@whatsupinwells.com
SUMMARY:2023 Ladies Ride
DESCRIPTION:Come join your local DSG riders for a ladies ride! Email dariancampbell@hotmail.com if you are interested\, spots are limited \nDSG Outerwear-Women’s Snow Apparel\n#doingsomethinggreat
URL:https://whatsupinwells.com/event/2023-ladies-ride/
LOCATION:BC
CATEGORIES:Barkerville,Outdoor Recreation,Wells
ATTACH;FMTTYPE=image/jpeg:https://whatsupinwells.com/wp-content/uploads/2023/02/ladies-ride.jpg
ORGANIZER;CN="Wells Snowmobile Club":MAILTO:Snowmobilewells@gmail.com
END:VEVENT
BEGIN:VEVENT
DTSTART;TZID=America/Vancouver:20230304T170000
DTEND;TZID=America/Vancouver:20230304T200000
DTSTAMP:20260423T220537
CREATED:20230227T020639Z
LAST-MODIFIED:20230227T020639Z
UID:10000818-1677949200-1677960000@whatsupinwells.com
SUMMARY:Deadfall Brewing Tasting Event
DESCRIPTION:We are so pleased to announce that\, starting March 4th\, we will carry the full core line-up of Deadfall Brewing Company\, an intimate and inclusive craft brewery in the heart of Prince George\, BC. To celebrate\, Deadfall will be hosting a tasting event for you to get to know their beers. Learn more about Deadfall: https://www.facebook.com/reel/1124844734811304 \nIt’s another action-packed weekend in Wells\, so stop by early for a sampling before you head off to the Cabaret Show at the Sunset Theatre\, and then return the Hotel for live music from the very talented Joseph Shea
URL:https://whatsupinwells.com/event/deadfall-brewing-tasting-event/
LOCATION:The Wells Hotel\, 2341 Pooley St.\, Wells\, BC\, V0k2R0\, Canada
CATEGORIES:19+,Wells
ATTACH;FMTTYPE=image/jpeg:https://whatsupinwells.com/wp-content/uploads/2023/02/deadfall-image.jpg
END:VEVENT
BEGIN:VEVENT
DTSTART;TZID=America/Vancouver:20230304T210000
DTEND;TZID=America/Vancouver:20230304T220000
DTSTAMP:20260423T220537
CREATED:20230304T181323Z
LAST-MODIFIED:20230304T181323Z
UID:10000820-1677963600-1677967200@whatsupinwells.com
SUMMARY:Joseph Shea live at the Wells Hotel
DESCRIPTION:Joseph Shea is a multi-instrumental singer and writer of songs. As a member of the Prince George collective The Ebbs (https://theebbs.bandcamp.com) and the Alberta/BC collaboration Trundled (https://trundledmusic.bandcamp.com)\, he’s played music from coast to coast\, and from cave bottoms to mountain tops. \nWith songs grounded in traditional Irish/Americana structures\, Joseph works in themes of love\, loss\, and life. As a solo performer with just a guitar and a piano\, his sound is a product of simply being a bit of a shoe-gazing Canadian kid in the 90s (think Wilco\, Radiohead\, Jeff Buckley\, Josh Ritter\, and Brandi Carlile)
URL:https://whatsupinwells.com/event/joseph-shea-live-at-the-wells-hotel/
LOCATION:The Wells Hotel\, 2341 Pooley St.\, Wells\, BC\, V0k2R0\, Canada
CATEGORIES:Arts,Music,Wells
ATTACH;FMTTYPE=image/jpeg:https://whatsupinwells.com/wp-content/uploads/2023/03/joseph-shea.jpg
END:VEVENT
BEGIN:VEVENT
DTSTART;TZID=America/Vancouver:20230308T170000
DTEND;TZID=America/Vancouver:20230308T210000
DTSTAMP:20260423T220537
CREATED:20230209T194034Z
LAST-MODIFIED:20230209T194034Z
UID:10000806-1678294800-1678309200@whatsupinwells.com
SUMMARY:Five-Alarm Wednesday Fundraiser for the WVFB
DESCRIPTION:Turn up the heat this winter to raise funds for our local Wells Volunteer Fire Brigade. \nHow does it work?\nOrder our house-made chili on Wednesdays and a portion of the proceeds will be donated to the WVFB. How much will be donated? That’s up to you! For every level of heat you order in your chili\, $1 will be donated:\n1-alarm spice = $1 to the brigade\n2-alarm spice = $2 to the brigade\n3-alarm spice = $3 to the brigade\n4-alarm spice = $4 to the brigade\n5-alarm spice = $5 to the brigade \nLet’s see how hot this town can get!
URL:https://whatsupinwells.com/event/five-alarm-wednesday-fundraiser-for-the-wvfb/2023-03-08/
LOCATION:The Wells Hotel\, 2341 Pooley St.\, Wells\, BC\, V0k2R0\, Canada
CATEGORIES:Food,Wells
ATTACH;FMTTYPE=image/png:https://whatsupinwells.com/wp-content/uploads/2023/02/Five-Alarm-Wednesdays.png
END:VEVENT
BEGIN:VEVENT
DTSTART;TZID=America/Vancouver:20230308T190000
DTEND;TZID=America/Vancouver:20230308T210000
DTSTAMP:20260423T220537
CREATED:20220610T214547Z
LAST-MODIFIED:20230106T232325Z
UID:10000735-1678302000-1678309200@whatsupinwells.com
SUMMARY:Wells Volunteer Fire Brigade Practice
DESCRIPTION:Exterior Fire Protection is provided by the Wells Volunteer Fire Brigade.  The WVFB will respond to any fire calls in the Wells Fire District. \nThe WVFB is the only fire service in the area and is 100% dependent on volunteers.  Everyone is welcome and no one is asked to do more than they are comfortable with. \nPractices are held every Wednesday from 7pm-9pm at the fire hall (across from the schoolyard). Everyone is welcome – no previous experience necessary \nCome out and join us!\nVOLUNTEER MEMBERSHIP APPLICATION FORM \nFire Chief Carrie Chard can be reached at firechief@wells.ca\nFor more information contact the District of Wells at 250-994-3330
URL:https://whatsupinwells.com/event/wells-volunteer-fire-brigade-practice-18/2023-03-08/
LOCATION:Wells Volunteer Fire Brigade Station\, 2314 Baker St\, Wells\, BC\, V0K 2R0\, Canada
CATEGORIES:Wells
ATTACH;FMTTYPE=image/jpeg:https://whatsupinwells.com/wp-content/uploads/2019/01/Fire-Brigade-Crest.jpg
ORGANIZER;CN="Wells Volunteer Fire Brigade":MAILTO:firechief@wells.ca
END:VEVENT
BEGIN:VEVENT
DTSTART;TZID=America/Vancouver:20230309T160000
DTEND;TZID=America/Vancouver:20230309T180000
DTSTAMP:20260423T220537
CREATED:20230125T055808Z
LAST-MODIFIED:20230125T055808Z
UID:10000763-1678377600-1678384800@whatsupinwells.com
SUMMARY:Pickleball at the Hall
DESCRIPTION:Looking for a new way to exercise and have fun? Become a pickler. Drop-in every Thursday from 4 pm to 6 pm at the Community Hall.
URL:https://whatsupinwells.com/event/pickleball-at-the-hall/2023-03-09/
LOCATION:Wells Community Hall\, 4269 Sanders Ave\, Wells\, BC\, V0K2R0\, Canada
CATEGORIES:Free,Wells
ATTACH;FMTTYPE=image/png:https://whatsupinwells.com/wp-content/uploads/2023/01/pickleball-2.png
ORGANIZER;CN="Wells and Area Community Association":MAILTO:Wellsareacommunity@gmail.com
END:VEVENT
BEGIN:VEVENT
DTSTART;TZID=America/Vancouver:20230310T200000
DTEND;TZID=America/Vancouver:20230310T220000
DTSTAMP:20260423T220537
CREATED:20230209T184449Z
LAST-MODIFIED:20230209T184449Z
UID:10000799-1678478400-1678485600@whatsupinwells.com
SUMMARY:Live Music Fridays with Sage Gordon
DESCRIPTION:Kick off the weekend with the talented local guitar and piano player Sage Gordon\, every Friday night this winter at the Wells Hotel. No cover charge.
URL:https://whatsupinwells.com/event/live-music-fridays-with-sage-gordon/2023-03-10/
LOCATION:The Wells Hotel\, 2341 Pooley St.\, Wells\, BC\, V0k2R0\, Canada
CATEGORIES:Free,Music,Wells
ATTACH;FMTTYPE=image/jpeg:https://whatsupinwells.com/wp-content/uploads/2023/01/317686713_10160209363443788_870049631633230858_n.jpg
END:VEVENT
BEGIN:VEVENT
DTSTART;TZID=America/Vancouver:20230315T170000
DTEND;TZID=America/Vancouver:20230315T210000
DTSTAMP:20260423T220537
CREATED:20230209T194034Z
LAST-MODIFIED:20230209T194034Z
UID:10000807-1678899600-1678914000@whatsupinwells.com
SUMMARY:Five-Alarm Wednesday Fundraiser for the WVFB
DESCRIPTION:Turn up the heat this winter to raise funds for our local Wells Volunteer Fire Brigade. \nHow does it work?\nOrder our house-made chili on Wednesdays and a portion of the proceeds will be donated to the WVFB. How much will be donated? That’s up to you! For every level of heat you order in your chili\, $1 will be donated:\n1-alarm spice = $1 to the brigade\n2-alarm spice = $2 to the brigade\n3-alarm spice = $3 to the brigade\n4-alarm spice = $4 to the brigade\n5-alarm spice = $5 to the brigade \nLet’s see how hot this town can get!
URL:https://whatsupinwells.com/event/five-alarm-wednesday-fundraiser-for-the-wvfb/2023-03-15/
LOCATION:The Wells Hotel\, 2341 Pooley St.\, Wells\, BC\, V0k2R0\, Canada
CATEGORIES:Food,Wells
ATTACH;FMTTYPE=image/png:https://whatsupinwells.com/wp-content/uploads/2023/02/Five-Alarm-Wednesdays.png
END:VEVENT
BEGIN:VEVENT
DTSTART;TZID=America/Vancouver:20230315T190000
DTEND;TZID=America/Vancouver:20230315T210000
DTSTAMP:20260423T220537
CREATED:20220610T214547Z
LAST-MODIFIED:20230106T232325Z
UID:10000736-1678906800-1678914000@whatsupinwells.com
SUMMARY:Wells Volunteer Fire Brigade Practice
DESCRIPTION:Exterior Fire Protection is provided by the Wells Volunteer Fire Brigade.  The WVFB will respond to any fire calls in the Wells Fire District. \nThe WVFB is the only fire service in the area and is 100% dependent on volunteers.  Everyone is welcome and no one is asked to do more than they are comfortable with. \nPractices are held every Wednesday from 7pm-9pm at the fire hall (across from the schoolyard). Everyone is welcome – no previous experience necessary \nCome out and join us!\nVOLUNTEER MEMBERSHIP APPLICATION FORM \nFire Chief Carrie Chard can be reached at firechief@wells.ca\nFor more information contact the District of Wells at 250-994-3330
URL:https://whatsupinwells.com/event/wells-volunteer-fire-brigade-practice-18/2023-03-15/
LOCATION:Wells Volunteer Fire Brigade Station\, 2314 Baker St\, Wells\, BC\, V0K 2R0\, Canada
CATEGORIES:Wells
ATTACH;FMTTYPE=image/jpeg:https://whatsupinwells.com/wp-content/uploads/2019/01/Fire-Brigade-Crest.jpg
ORGANIZER;CN="Wells Volunteer Fire Brigade":MAILTO:firechief@wells.ca
END:VEVENT
BEGIN:VEVENT
DTSTART;TZID=America/Vancouver:20230316T160000
DTEND;TZID=America/Vancouver:20230316T180000
DTSTAMP:20260423T220537
CREATED:20230125T055808Z
LAST-MODIFIED:20230125T055808Z
UID:10000764-1678982400-1678989600@whatsupinwells.com
SUMMARY:Pickleball at the Hall
DESCRIPTION:Looking for a new way to exercise and have fun? Become a pickler. Drop-in every Thursday from 4 pm to 6 pm at the Community Hall.
URL:https://whatsupinwells.com/event/pickleball-at-the-hall/2023-03-16/
LOCATION:Wells Community Hall\, 4269 Sanders Ave\, Wells\, BC\, V0K2R0\, Canada
CATEGORIES:Free,Wells
ATTACH;FMTTYPE=image/png:https://whatsupinwells.com/wp-content/uploads/2023/01/pickleball-2.png
ORGANIZER;CN="Wells and Area Community Association":MAILTO:Wellsareacommunity@gmail.com
END:VEVENT
BEGIN:VEVENT
DTSTART;TZID=America/Vancouver:20230317T170000
DTEND;TZID=America/Vancouver:20230317T230000
DTSTAMP:20260423T220537
CREATED:20230306T013326Z
LAST-MODIFIED:20230306T013513Z
UID:10000821-1679072400-1679094000@whatsupinwells.com
SUMMARY:St. Patrick's Day at the Wells Hotel
DESCRIPTION:The Wells Hotel began with the dream of an Irishman\, Paddy MacDonell\, and lives on today with the contribution of many more Irish descendants\, including our Chef\, our Friday night singer\, and our resident painter. Come and celebrate St. Patrick’s Day with house-made Irish stew and soda bread\, drink specials\, live music with traditional Irish songs\, and good cheer! Sláinte!
URL:https://whatsupinwells.com/event/st-patricks-day-at-the-wells-hotel/
LOCATION:The Wells Hotel\, 2341 Pooley St.\, Wells\, BC\, V0k2R0\, Canada
CATEGORIES:Food,Music,Wells
ATTACH;FMTTYPE=image/png:https://whatsupinwells.com/wp-content/uploads/2023/03/green-minimalist-St.-Patricks-Day-Flyer-Facebook-Cover.png
END:VEVENT
BEGIN:VEVENT
DTSTART;TZID=America/Vancouver:20230317T200000
DTEND;TZID=America/Vancouver:20230317T220000
DTSTAMP:20260423T220537
CREATED:20230311T182013Z
LAST-MODIFIED:20230311T182015Z
UID:10000800-1679083200-1679090400@whatsupinwells.com
SUMMARY:Live Music Fridays with Sage Gordon
DESCRIPTION:Kick off the weekend with the talented local guitar and piano player Sage Gordon\, every Friday night this winter at the Wells Hotel. No cover charge.
URL:https://whatsupinwells.com/event/live-music-fridays-with-sage-gordon-2/2023-03-17/
LOCATION:The Wells Hotel\, 2341 Pooley St.\, Wells\, BC\, V0k2R0\, Canada
CATEGORIES:Free,Music,Wells
ATTACH;FMTTYPE=image/png:https://whatsupinwells.com/wp-content/uploads/2023/02/Live-Music-Poster.png
END:VEVENT
BEGIN:VEVENT
DTSTART;TZID=America/Vancouver:20230322T170000
DTEND;TZID=America/Vancouver:20230322T210000
DTSTAMP:20260423T220537
CREATED:20230209T194034Z
LAST-MODIFIED:20230209T194034Z
UID:10000808-1679504400-1679518800@whatsupinwells.com
SUMMARY:Five-Alarm Wednesday Fundraiser for the WVFB
DESCRIPTION:Turn up the heat this winter to raise funds for our local Wells Volunteer Fire Brigade. \nHow does it work?\nOrder our house-made chili on Wednesdays and a portion of the proceeds will be donated to the WVFB. How much will be donated? That’s up to you! For every level of heat you order in your chili\, $1 will be donated:\n1-alarm spice = $1 to the brigade\n2-alarm spice = $2 to the brigade\n3-alarm spice = $3 to the brigade\n4-alarm spice = $4 to the brigade\n5-alarm spice = $5 to the brigade \nLet’s see how hot this town can get!
URL:https://whatsupinwells.com/event/five-alarm-wednesday-fundraiser-for-the-wvfb/2023-03-22/
LOCATION:The Wells Hotel\, 2341 Pooley St.\, Wells\, BC\, V0k2R0\, Canada
CATEGORIES:Food,Wells
ATTACH;FMTTYPE=image/png:https://whatsupinwells.com/wp-content/uploads/2023/02/Five-Alarm-Wednesdays.png
END:VEVENT
BEGIN:VEVENT
DTSTART;TZID=America/Vancouver:20230322T190000
DTEND;TZID=America/Vancouver:20230322T210000
DTSTAMP:20260423T220537
CREATED:20220610T214547Z
LAST-MODIFIED:20230106T232325Z
UID:10000737-1679511600-1679518800@whatsupinwells.com
SUMMARY:Wells Volunteer Fire Brigade Practice
DESCRIPTION:Exterior Fire Protection is provided by the Wells Volunteer Fire Brigade.  The WVFB will respond to any fire calls in the Wells Fire District. \nThe WVFB is the only fire service in the area and is 100% dependent on volunteers.  Everyone is welcome and no one is asked to do more than they are comfortable with. \nPractices are held every Wednesday from 7pm-9pm at the fire hall (across from the schoolyard). Everyone is welcome – no previous experience necessary \nCome out and join us!\nVOLUNTEER MEMBERSHIP APPLICATION FORM \nFire Chief Carrie Chard can be reached at firechief@wells.ca\nFor more information contact the District of Wells at 250-994-3330
URL:https://whatsupinwells.com/event/wells-volunteer-fire-brigade-practice-18/2023-03-22/
LOCATION:Wells Volunteer Fire Brigade Station\, 2314 Baker St\, Wells\, BC\, V0K 2R0\, Canada
CATEGORIES:Wells
ATTACH;FMTTYPE=image/jpeg:https://whatsupinwells.com/wp-content/uploads/2019/01/Fire-Brigade-Crest.jpg
ORGANIZER;CN="Wells Volunteer Fire Brigade":MAILTO:firechief@wells.ca
END:VEVENT
BEGIN:VEVENT
DTSTART;TZID=America/Vancouver:20230323T160000
DTEND;TZID=America/Vancouver:20230323T180000
DTSTAMP:20260423T220537
CREATED:20230125T055808Z
LAST-MODIFIED:20230125T055808Z
UID:10000765-1679587200-1679594400@whatsupinwells.com
SUMMARY:Pickleball at the Hall
DESCRIPTION:Looking for a new way to exercise and have fun? Become a pickler. Drop-in every Thursday from 4 pm to 6 pm at the Community Hall.
URL:https://whatsupinwells.com/event/pickleball-at-the-hall/2023-03-23/
LOCATION:Wells Community Hall\, 4269 Sanders Ave\, Wells\, BC\, V0K2R0\, Canada
CATEGORIES:Free,Wells
ATTACH;FMTTYPE=image/png:https://whatsupinwells.com/wp-content/uploads/2023/01/pickleball-2.png
ORGANIZER;CN="Wells and Area Community Association":MAILTO:Wellsareacommunity@gmail.com
END:VEVENT
BEGIN:VEVENT
DTSTART;TZID=America/Vancouver:20230324T200000
DTEND;TZID=America/Vancouver:20230324T220000
DTSTAMP:20260423T220537
CREATED:20230311T182013Z
LAST-MODIFIED:20230311T182015Z
UID:10000801-1679688000-1679695200@whatsupinwells.com
SUMMARY:Live Music Fridays with Sage Gordon
DESCRIPTION:Kick off the weekend with the talented local guitar and piano player Sage Gordon\, every Friday night this winter at the Wells Hotel. No cover charge.
URL:https://whatsupinwells.com/event/live-music-fridays-with-sage-gordon-2/2023-03-24/
LOCATION:The Wells Hotel\, 2341 Pooley St.\, Wells\, BC\, V0k2R0\, Canada
CATEGORIES:Free,Music,Wells
ATTACH;FMTTYPE=image/png:https://whatsupinwells.com/wp-content/uploads/2023/02/Live-Music-Poster.png
END:VEVENT
BEGIN:VEVENT
DTSTART;TZID=America/Vancouver:20230329T170000
DTEND;TZID=America/Vancouver:20230329T210000
DTSTAMP:20260423T220537
CREATED:20230209T194034Z
LAST-MODIFIED:20230209T194034Z
UID:10000809-1680109200-1680123600@whatsupinwells.com
SUMMARY:Five-Alarm Wednesday Fundraiser for the WVFB
DESCRIPTION:Turn up the heat this winter to raise funds for our local Wells Volunteer Fire Brigade. \nHow does it work?\nOrder our house-made chili on Wednesdays and a portion of the proceeds will be donated to the WVFB. How much will be donated? That’s up to you! For every level of heat you order in your chili\, $1 will be donated:\n1-alarm spice = $1 to the brigade\n2-alarm spice = $2 to the brigade\n3-alarm spice = $3 to the brigade\n4-alarm spice = $4 to the brigade\n5-alarm spice = $5 to the brigade \nLet’s see how hot this town can get!
URL:https://whatsupinwells.com/event/five-alarm-wednesday-fundraiser-for-the-wvfb/2023-03-29/
LOCATION:The Wells Hotel\, 2341 Pooley St.\, Wells\, BC\, V0k2R0\, Canada
CATEGORIES:Food,Wells
ATTACH;FMTTYPE=image/png:https://whatsupinwells.com/wp-content/uploads/2023/02/Five-Alarm-Wednesdays.png
END:VEVENT
BEGIN:VEVENT
DTSTART;TZID=America/Vancouver:20230329T190000
DTEND;TZID=America/Vancouver:20230329T210000
DTSTAMP:20260423T220537
CREATED:20220610T214547Z
LAST-MODIFIED:20230106T232325Z
UID:10000738-1680116400-1680123600@whatsupinwells.com
SUMMARY:Wells Volunteer Fire Brigade Practice
DESCRIPTION:Exterior Fire Protection is provided by the Wells Volunteer Fire Brigade.  The WVFB will respond to any fire calls in the Wells Fire District. \nThe WVFB is the only fire service in the area and is 100% dependent on volunteers.  Everyone is welcome and no one is asked to do more than they are comfortable with. \nPractices are held every Wednesday from 7pm-9pm at the fire hall (across from the schoolyard). Everyone is welcome – no previous experience necessary \nCome out and join us!\nVOLUNTEER MEMBERSHIP APPLICATION FORM \nFire Chief Carrie Chard can be reached at firechief@wells.ca\nFor more information contact the District of Wells at 250-994-3330
URL:https://whatsupinwells.com/event/wells-volunteer-fire-brigade-practice-18/2023-03-29/
LOCATION:Wells Volunteer Fire Brigade Station\, 2314 Baker St\, Wells\, BC\, V0K 2R0\, Canada
CATEGORIES:Wells
ATTACH;FMTTYPE=image/jpeg:https://whatsupinwells.com/wp-content/uploads/2019/01/Fire-Brigade-Crest.jpg
ORGANIZER;CN="Wells Volunteer Fire Brigade":MAILTO:firechief@wells.ca
END:VEVENT
BEGIN:VEVENT
DTSTART;TZID=America/Vancouver:20230330T160000
DTEND;TZID=America/Vancouver:20230330T180000
DTSTAMP:20260423T220537
CREATED:20230125T055808Z
LAST-MODIFIED:20230125T055808Z
UID:10000766-1680192000-1680199200@whatsupinwells.com
SUMMARY:Pickleball at the Hall
DESCRIPTION:Looking for a new way to exercise and have fun? Become a pickler. Drop-in every Thursday from 4 pm to 6 pm at the Community Hall.
URL:https://whatsupinwells.com/event/pickleball-at-the-hall/2023-03-30/
LOCATION:Wells Community Hall\, 4269 Sanders Ave\, Wells\, BC\, V0K2R0\, Canada
CATEGORIES:Free,Wells
ATTACH;FMTTYPE=image/png:https://whatsupinwells.com/wp-content/uploads/2023/01/pickleball-2.png
ORGANIZER;CN="Wells and Area Community Association":MAILTO:Wellsareacommunity@gmail.com
END:VEVENT
BEGIN:VEVENT
DTSTART;TZID=America/Vancouver:20230331T200000
DTEND;TZID=America/Vancouver:20230331T220000
DTSTAMP:20260423T220537
CREATED:20230311T182013Z
LAST-MODIFIED:20230311T182015Z
UID:10000802-1680292800-1680300000@whatsupinwells.com
SUMMARY:Live Music Fridays with Sage Gordon
DESCRIPTION:Kick off the weekend with the talented local guitar and piano player Sage Gordon\, every Friday night this winter at the Wells Hotel. No cover charge.
URL:https://whatsupinwells.com/event/live-music-fridays-with-sage-gordon-2/2023-03-31/
LOCATION:The Wells Hotel\, 2341 Pooley St.\, Wells\, BC\, V0k2R0\, Canada
CATEGORIES:Free,Music,Wells
ATTACH;FMTTYPE=image/png:https://whatsupinwells.com/wp-content/uploads/2023/02/Live-Music-Poster.png
END:VEVENT
END:VCALENDAR